Workbook

Sheet Uputstvo
B2: KANTONALNI/OKRUŽNI SUDOVI
B3: Kompletni materijali u vezi procesa izvještavanja u sudovima dostupni su na linku:
B4: https://www.pravosudje.ba/vstv/faces/vijesti.jsp?id=71178
B5: Tabele za popunjavanje podataka o radu sudova nije moguće mijenjati, niti dodavati nove redove ili kolone.
B6: Tabele se isključivo popunjavaju predviđenim redoslijedom, po redoslijedu postavljenih tabela.
B9: Podatke je potrebno upisivati samo u polja osjenčena žutom bojom.
B10: U ostala polja nije moguće upisivati vrijednosti, u ovim poljima vrijednosti će biti izračunate automatski.
B11: Molimo Vas da u Tabeli I i naslovu e-maila (subject) kojim ćete poslati popunjene tabele navedete naziv Vašeg suda.
B14: Popunjene tabele poslati na e-mail adresu: vstvstatistika@pravosudje.ba do 1.2.2021. godine.
B16: Za sva eventualna pitanja vezano za popunjavanje tabela molimo Vas da kontaktirate
B17: Odjel za pravosudnu analitiku i izvještavanje, na telefon: 033 704 616 ili 033 707 584.
B19: Tabele za izvještavanje o radu suda sadrže detaljnije napomene koje je potrebno imati u vidu prilikom popunjavanja tabela.
... B31: TABELA IV – ODLUKE USTAVNOG SUDA BIH U tabeli IV potrebno je prikazati samo podatke o odlukama Ustavnog suda BiH u kojima je izrekom obuhvaćena odluka Vašeg suda, odnosno postupak koji je u toku pred Vašim sudom (kada je riječ o apelacijama sa navodima da postoji kršenje prava na suđenje u razumnom roku). Posebna napomena: Traženi podaci se odnose na odluke iz apelacione nadležnosti Ustavnog suda BiH. Tabela IVa – Odluke kojima se ne usvaja apelacija: potrebno je prikazati podatke o odlukama Ustavnog suda BiH kojima je utvrđeno da nije osnovana apelacija izjavljena u odnosu na odluke Vašeg suda. Molimo da unesete podatake u kolone I-III prema njihovim nazivima. Podaci se automatski preračunavaju u koloni IV. Tabela IVb – Odluke kojima apelacija usvaja: “Pravni osnov” - Odluke kojima se usvaja apelacija potrebno je razvrstati prema izrekama odluka Ustavnog suda BiH kojima su utvrđene povrede Ustava BiH, Evropske konvencije o ljudskim pravima (u tabeli: EK) i njenih protokola (u tabeli:P). Svi pomenuti dokumenti i klasifikacija povreda su dostupni na zvaničnoj web stranici Ustavnog suda BiH (http://www.ccbh.ba/bos/p_stream.php?kat=83). Kolone I - IV “Broj odluka kojim se usvaja apelacija” – Potrebno je razvrstati broj odluka Ustavnog suda kojima se izjavljena apelacija usvaja u odnosu na odluku Vašeg suda, prema odgovarajućim kategorijama, u zavisnosti od izreke odluke Ustavnog suda BiH. Preostale odluke Ustavnog suda, koje ne spadaju u navedene tri kategorije, potrebno je upisati u rubriku “Broj ostalih odluka kojima se usvajaju apelacije” (npr. odluka kojom se usvaja apelacija i konstatuje povreda prava na pravično suđenje, zbog prekoračenja razumnog roka za donošenje odluke, nakon što je sudski postupak završen, a kojom se ne nalaže sudu da okonča predmet bez odlaganja, odnosno ne ukida ili ne preinačuje odluka suda). Ukoliko su izrekom odluke Ustavnog suda BiH ustanovljene dvije ili više povreda ustavom zagarantovanih prava i sloboda, molimo Vas da svaku od povreda evidentirate posebno u tabeli IVb. Molimo Vas da i djelimično usvojene apelacije prikažete u odgovarajućim kolonama tabele IVb. Tabela IVc – Predmeti u kojima se nalaže sudu da okonča predmet bez odlaganja zbog kršenja prava na donošenje odluke u razumnom roku U tabeli IVc potrebno je prikazati predmete u kojima je Ustavni sud BiH naložio sudu da okonča predmet bez odlaganja zbog kršenja prava na donošenje odluke u razumnom roku. Molimo Vas da u ovu tabelu unesete samo podatke o predmetima u kojima je Vašem sudu naloženo da okonča predmet bez odlaganja. U skladu sa obrazloženjem odluke Ustavnog suda BiH, potrebno je da naznačite u kojoj fazi postupka je Vaš sud rješavao predmet za koji je Ustavni sud utvrdio da je Vaš sud u najvećoj mjeri doprinio odugovlačenju postupka. Tabela IVd - Predmeti u kojima je utvrđeno kršenje prava na donošenje odluke u razumnom roku Takođe, potrebno je da popunite i tabelu IVd koja se odnosi na ukupan broj predmeta, u kojima je usvojena apelacija u odnosu na Vaš sud i određena naknada nematerijalne štete zbog kršenja prava na donošenje odluke u razumnom roku, kao i ukupan iznos naknade koji je utvrdio Ustavni sud BiH.

Sheet Tabela I
A1: Kantonalni/Okružni sud: | C1: KANTONALNI SUD U SARAJEVU | K1: 2020
A2: Izvještajni period: | B2: 1.1.2020.-31.12.2020.
A4: Ostvarena kolektivna norma za sud u 2020. godini | D4: ='Tabela II'!P85 -> 1.2440071
A5: Kvalitet sudskih odluka: | B5: =+J30 -> 0.96040494
A7: Tabela Ia - Kvalitet sudskih odluka po vrstama predmeta
A8: Vrsta predmeta | B8: Broj donesenih odluka na koje se može izjaviti pravni lijek - pogledati NAPOMENU 2 | C8: Ukupan broj ožalbenih odluka | D8: Broj odbačenih pravnih lijekova | E8: Broj potvrđenih odluka | F8: Broj preinačenih odluka | G8: Broj preinačenih odluka donijetih na raspravi ili na pretresu pred višim sudom | H8: Broj ukinutih odluka - pogledati NAPOMENU 2 | I8: Broj djelimično ukinutih odluka | J8: Kvalitet sudskih odluka | K8: Broj presuda koje su ukinute i predmet je vraćen na ponovno suđenje
E9: Odbijen pravni lijek
B10: I | C10: II=IV+V+VI+ VII+VIII) | D10: III | E10: IV | F10: V | G10: VI | H10: VII | I10: VIII | J10: IX1 | K10: X
A11: Građanski referat
A12: Gž | B12: 1865 | C12: =E12+F12+G12+H12+I12 -> 147 | D12: 132 | E12: 128 | F12: 13 | H12: 4 | I12: 2 | J12: =IF(C12=0,"",IF(B12=0,1,0.83*((C12-H12-I12/2)/C12)+0.17*((B12-G12-H12-I12/2)/B12))) -> 0.97131294
A13: Pž | B13: 995 | C13: =E13+F13+G13+H13+I13 -> 52 | D13: 21 | E13: 41 | F13: 9 | H13: 1 | I13: 1 | J13: =IF(C13=0,"",IF(B13=0,1,0.83*((C13-H13-I13/2)/C13)+0.17*((B13-G13-H13-I13/2)/B13))) -> 0.97580141
A14: Rsž | B14: 2091 | C14: =E14+F14+G14+H14+I14 -> 573 | D14: 313 | E14: 528 | F14: 37 | H14: 4 | I14: 4 | J14: =IF(C14=0,"",IF(B14=0,1,0.83*((C14-H14-I14/2)/C14)+0.17*((B14-G14-H14-I14/2)/B14))) -> 0.9908211
A15: Ostalo* | B15: 119 | C15: =E15+F15+G15+H15+I15 -> 5 | D15: 18 | E15: 4 | F15: 0 | H15: 1 | I15: 0 | J15: =IF(C15=0,"",IF(B15=0,1,0.83*((C15-H15-I15/2)/C15)+0.17*((B15-G15-H15-I15/2)/B15))) -> 0.83257143
A16: Krivični referat
A17: K | B17: 78 | C17: =E17+F17+G17+H17+I17 -> 40 | E17: 23 | F17: 7 | H17: 8 | I17: 2 | J17: =IF(C17=0,"",IF(B17=0,1,0.83*((C17-H17-I17/2)/C17)+0.17*((B17-G17-H17-I17/2)/B17))) -> 0.79363462
A18: Ratni zločini | C18: =E18+F18+G18+H18+I18 -> 1 | H18: 1 | J18: =IF(C18=0,"",IF(B18=0,1,0.83*((C18-H18-I18/2)/C18)+0.17*((B18-G18-H18-I18/2)/B18))) -> 1
A19: Kž | C19: =E19+F19+G19+H19+I19 -> 0 | J19: =IF(C19=0,"",IF(B19=0,1,0.83*((C19-H19-I19/2)/C19)+0.17*((B19-G19-H19-I19/2)/B19)))
A20: Kžk | C20: =E20+F20+G20+H20+I20 -> 0 | J20: =IF(C20=0,"",IF(B20=0,1,0.83*((C20-H20-I20/2)/C20)+0.17*((B20-G20-H20-I20/2)/B20)))
A21: Kv | B21: 520 | C21: =E21+F21+G21+H21+I21 -> 303 | E21: 268 | F21: 0 | H21: 32 | I21: 3 | J21: =IF(C21=0,"",IF(B21=0,1,0.83*((C21-H21-I21/2)/C21)+0.17*((B21-G21-H21-I21/2)/B21))) -> 0.8972824
A22: Kpp | C22: =E22+F22+G22+H22+I22 -> 0 | J22: =IF(C22=0,"",IF(B22=0,1,0.83*((C22-H22-I22/2)/C22)+0.17*((B22-G22-H22-I22/2)/B22)))
A23: Kps | C23: =E23+F23+G23+H23+I23 -> 0 | J23: =IF(C23=0,"",IF(B23=0,1,0.83*((C23-H23-I23/2)/C23)+0.17*((B23-G23-H23-I23/2)/B23)))
A24: Kmž | C24: =E24+F24+G24+H24+I24 -> 0 | J24: =IF(C24=0,"",IF(B24=0,1,0.83*((C24-H24-I24/2)/C24)+0.17*((B24-G24-H24-I24/2)/B24)))
A25: Ostalo* | C25: =E25+F25+G25+H25+I25 -> 0 | J25: =IF(C25=0,"",IF(B25=0,1,0.83*((C25-H25-I25/2)/C25)+0.17*((B25-G25-H25-I25/2)/B25)))
A26: Upravni referat
A27: U | B27: 1166 | C27: =E27+F27+G27+H27+I27 -> 186 | D27: 28 | E27: 165 | F27: 18 | H27: 3 | I27: 0 | J27: =IF(C27=0,"",IF(B27=0,1,0.83*((C27-H27-I27/2)/C27)+0.17*((B27-G27-H27-I27/2)/B27))) -> 0.98617551
A28: Ostalo | B28: 0 | C28: =E28+F28+G28+H28+I28 -> 0 | D28: 0 | E28: 0 | F28: 0 | H28: 0 | I28: 0 | J28: =IF(C28=0,"",IF(B28=0,1,0.83*((C28-H28-I28/2)/C28)+0.17*((B28-G28-H28-I28/2)/B28)))
A30: Ukupno | B30: =SUM(B12:B15)+SUM(B17:B25)+SUM(B27:B28) -> 6834 | C30: =SUM(C12:C15)+SUM(C17:C25)+SUM(C27:C28) -> 1307 | D30: =SUM(D12:D15)+SUM(D17:D25)+SUM(D27:D28) -> 512 | E30: =SUM(E12:E15)+SUM(E17:E25)+SUM(E27:E28) -> 1157 | F30: =SUM(F12:F15)+SUM(F17:F25)+SUM(F27:F28) -> 84 | G30: =SUM(G12:G15)+SUM(G17:G25)+SUM(G27:G28) -> 0 | H30: =SUM(H12:H15)+SUM(H17:H25)+SUM(H27:H28) -> 54 | I30: =SUM(I12:I15)+SUM(I17:I25)+SUM(I27:I28) -> 12 | J30: =IF(C30=0,"",IF(B30=0,1,0.83*((C30-H30-I30/2)/C30)+0.17*((B30-G30-H30-I30/2)/B30))) -> 0.96040494 | K30: =SUM(K12:K15)+SUM(K17:K25)+SUM(K27:K28) -> 0
A32: Ukupno 2019* | B32: 6858 | C32: Obrazloženje:
A33: * Unesite podatak o Ukupnom broju donesenih odluka na koje se može izjaviti pravni lijek iz izvještaja koji ste dostavili za 2019. godinu. Ukoliko je razlika u Ukupnom broju donesenih odluka na koje se može izjaviti pravni lijek u periodu 2019/2020 veća od 20% aktiviraće se kontrolnik i potrebno je da obrazložite uzroke za nastanak te razlike.
A40: 1 Kvalitet rada sudskih odluka se automatski obračunava. Slijedi tekst za pojašnjenje formule za obračun kvaliteta sudskih odluka: (83% * (Ukupan broj ožalbenih odluka - Broj ukinutih odluka - Broj djelimično ukinutih odluka/2) / Ukupan broj ožalbenih odluka) + (17% * (Broj donesenih odluka na koje se može izjaviti pravni lijek - Broj preinačenih odluka donijetih nakon održane glavne raspave ili pretresa pred drugostepenim sudom - Broj ukinutih odluka - Broj djelimično ukinutih odluka/2) / Broj donesenih odluka na koje se može izjaviti pravni lijek).
A42: NAPOMENA 1: U Tabelu Ia se unose podaci o kvalitetu odluka za sve nosioce pravosudne funkcije koji su u toku godine obavljali funkciju u sudu, bez obzira na period obavljanja funkcije u sudu. U Tabelu se unose podaci za sve nosioce pravosudne funkcije: koji su obavljali funkciju u sudu cijelu godinu, koji su imenovani u sud u toku godine, koji su prešli u drugi sud u toku godine, kao i podaci za nosioce pravosudne funkcije koji su prestali obavljati funkciju u sudu zbog odlaska u penziju u 2020. godini ili iz drugih razloga (ostavke, razrješenja), a u 2020. godini su donosili odluke na koje se može izjaviti pravni lijek, i/ili sud je nakon prestanka obavljanja funkcije zaprimio žalbene odluke od strane višeg suda po izjavljenom pravnom lijeku na odluke bivšeg nosioca pravosudne funckije. Na taj način se pravilno obračunava kolektivni kvalitet odluka u sudu.
A49: NAPOMENA 2: U broj donesenih odluka na koje se može izjaviti pravni lijek (Kolona I) i broj ukinutih odluka (Kolona VII) prilikom računanja procenta ukinutih odluka neće se uzimati u obračun odluke koje su ukinute u sadržajno nebitnom dijelu odnosno ako je odluka ukinuta ili se smatra ukinutom zbog toga što je instancioni sud nakon donošenja ispitivane odluke izmijenio sudsku praksu. Odlukama ukinutim u sadržajno nebitnom dijelu smatraju se odluke ukinute u pogledu odluke o troškovima i zakonskoj kamati. Sud više instance će u popratnom aktu naznačiti ako je odluka ukinuta ili preinačena zbog toga što je instancioni sud izmijenio sudsku praksu nakon donošenja ispitivane odluke. NAPOMENA 3: Preinačena odluka donesena na raspravi ili na pretresu pred višim sudom (Kolona VI) računa se kao jedna ukinuta odluka, ako je zakonom propisano da sud više instance ne smije povodom žalbe ukinuti prvostepenu odluku i vratiti predmet nižestepenom sudu na ponovno odlučivanje, izuzev ako je rasprava ili pretres pred višim sudom održana zbog novih činjenica i novih dokaza iznesenih u žalbi.
A50: Tabela Ib - Kvalitet sudskih odluka po odjeljenjima - (Ukoliko sud nema formirana odjeljenja nije potrebno popunjavati Tabelu Ib - zanemariti kontrolnike)*
A51: Kontrolnik | C51: =SUM(C55:C69) -> 0 | D51: =SUM(D55:D69) -> 0 | E51: =SUM(E55:E69) -> 0 | F51: =SUM(F55:F69) -> 0 | G51: =SUM(G55:G69) -> 0 | H51: =SUM(H55:H69) -> 0 | I51: =SUM(I55:I69) -> 0 | J51: =SUM(J55:J69) -> 0 | K51: =IF(D51=0,"",IF(C51=0,1,0.83*((D51-I51-J51/2)/D51)+0.17*((C51-H51-I51-J51/2)/C51))) | L51: =SUM(L55:L69) -> 0
A53: Naziv odjeljenja ** | C53: Broj donesenih odluka na koje se može izjaviti pravni lijek | D53: Ukupan broj ožalbenih odluka | E53: Broj odbačenih pravnih lijekova | F53: Broj potvrđenih odluka | G53: Broj preinačenih odluka | H53: Broj preinačenih odluka donijetih na raspravi ili na pretresu pred višim sudom | I53: Broj ukinutih odluka | J53: Broj djelimično ukinutih odluka | K53: Kvalitet sudskih odluka | L53: Broj presuda koje su ukinute i predmet je vraćen na ponovno suđenje | M53: Broj bodova koji se dodjeljuje predsjedniku sudskog odjeljenja
C54: I | D54: II=IV+V+VI+ VII+VIII) | E54: III | F54: IV | G54: V | H54: VI | I54: VII | J54: VIII | K54: IX1 | L54: X | M54: XI
D55: =F55+G55+H55+I55+J55 -> 0 | K55: =IF(D55=0,"",IF(C55=0,1,0.83*((D55-I55-J55/2)/D55)+0.17*((C55-H55-I55-J55/2)/C55))) | M55: =IF(A55="","",IF(B55="Ocijenjen",IF(K55>0.95,5,IF(K55>0.9,4,IF(K55>0.8,3,IF(K55>0.7,2,IF(K55>0.6,1,0))))),"")) | O55: Ocijenjen
D56: =F56+G56+H56+I56+J56 -> 0 | K56: =IF(D56=0,"",IF(C56=0,1,0.83*((D56-I56-J56/2)/D56)+0.17*((C56-H56-I56-J56/2)/C56))) | M56: =IF(A56="","",IF(B56="Ocijenjen",IF(K56>0.95,5,IF(K56>0.9,4,IF(K56>0.8,3,IF(K56>0.7,2,IF(K56>0.6,1,0))))),"")) | O56: Nije ocijenjen
D57: =F57+G57+H57+I57+J57 -> 0 | K57: =IF(D57=0,"",IF(C57=0,1,0.83*((D57-I57-J57/2)/D57)+0.17*((C57-H57-I57-J57/2)/C57))) | M57: =IF(A57="","",IF(B57="Ocijenjen",IF(K57>0.95,5,IF(K57>0.9,4,IF(K57>0.8,3,IF(K57>0.7,2,IF(K57>0.6,1,0))))),""))
D58: =F58+G58+H58+I58+J58 -> 0 | K58: =IF(D58=0,"",IF(C58=0,1,0.83*((D58-I58-J58/2)/D58)+0.17*((C58-H58-I58-J58/2)/C58))) | M58: =IF(A58="","",IF(B58="Ocijenjen",IF(K58>0.95,5,IF(K58>0.9,4,IF(K58>0.8,3,IF(K58>0.7,2,IF(K58>0.6,1,0))))),""))
D59: =F59+G59+H59+I59+J59 -> 0 | K59: =IF(D59=0,"",IF(C59=0,1,0.83*((D59-I59-J59/2)/D59)+0.17*((C59-H59-I59-J59/2)/C59))) | M59: =IF(A59="","",IF(B59="Ocijenjen",IF(K59>0.95,5,IF(K59>0.9,4,IF(K59>0.8,3,IF(K59>0.7,2,IF(K59>0.6,1,0))))),""))
D60: =F60+G60+H60+I60+J60 -> 0 | K60: =IF(D60=0,"",IF(C60=0,1,0.83*((D60-I60-J60/2)/D60)+0.17*((C60-H60-I60-J60/2)/C60))) | M60: =IF(A60="","",IF(B60="Ocijenjen",IF(K60>0.95,5,IF(K60>0.9,4,IF(K60>0.8,3,IF(K60>0.7,2,IF(K60>0.6,1,0))))),""))
D61: =F61+G61+H61+I61+J61 -> 0 | K61: =IF(D61=0,"",IF(C61=0,1,0.83*((D61-I61-J61/2)/D61)+0.17*((C61-H61-I61-J61/2)/C61))) | M61: =IF(A61="","",IF(B61="Ocijenjen",IF(K61>0.95,5,IF(K61>0.9,4,IF(K61>0.8,3,IF(K61>0.7,2,IF(K61>0.6,1,0))))),""))
D62: =F62+G62+H62+I62+J62 -> 0 | K62: =IF(D62=0,"",IF(C62=0,1,0.83*((D62-I62-J62/2)/D62)+0.17*((C62-H62-I62-J62/2)/C62))) | M62: =IF(A62="","",IF(B62="Ocijenjen",IF(K62>0.95,5,IF(K62>0.9,4,IF(K62>0.8,3,IF(K62>0.7,2,IF(K62>0.6,1,0))))),""))
D63: =F63+G63+H63+I63+J63 -> 0 | K63: =IF(D63=0,"",IF(C63=0,1,0.83*((D63-I63-J63/2)/D63)+0.17*((C63-H63-I63-J63/2)/C63))) | M63: =IF(A63="","",IF(B63="Ocijenjen",IF(K63>0.95,5,IF(K63>0.9,4,IF(K63>0.8,3,IF(K63>0.7,2,IF(K63>0.6,1,0))))),""))
D64: =F64+G64+H64+I64+J64 -> 0 | K64: =IF(D64=0,"",IF(C64=0,1,0.83*((D64-I64-J64/2)/D64)+0.17*((C64-H64-I64-J64/2)/C64))) | M64: =IF(A64="","",IF(B64="Ocijenjen",IF(K64>0.95,5,IF(K64>0.9,4,IF(K64>0.8,3,IF(K64>0.7,2,IF(K64>0.6,1,0))))),""))
D65: =F65+G65+H65+I65+J65 -> 0 | K65: =IF(D65=0,"",IF(C65=0,1,0.83*((D65-I65-J65/2)/D65)+0.17*((C65-H65-I65-J65/2)/C65))) | M65: =IF(A65="","",IF(B65="Ocijenjen",IF(K65>0.95,5,IF(K65>0.9,4,IF(K65>0.8,3,IF(K65>0.7,2,IF(K65>0.6,1,0))))),""))
D66: =F66+G66+H66+I66+J66 -> 0 | K66: =IF(D66=0,"",IF(C66=0,1,0.83*((D66-I66-J66/2)/D66)+0.17*((C66-H66-I66-J66/2)/C66))) | M66: =IF(A66="","",IF(B66="Ocijenjen",IF(K66>0.95,5,IF(K66>0.9,4,IF(K66>0.8,3,IF(K66>0.7,2,IF(K66>0.6,1,0))))),""))
D67: =F67+G67+H67+I67+J67 -> 0 | K67: =IF(D67=0,"",IF(C67=0,1,0.83*((D67-I67-J67/2)/D67)+0.17*((C67-H67-I67-J67/2)/C67))) | M67: =IF(A67="","",IF(B67="Ocijenjen",IF(K67>0.95,5,IF(K67>0.9,4,IF(K67>0.8,3,IF(K67>0.7,2,IF(K67>0.6,1,0))))),""))
D68: =F68+G68+H68+I68+J68 -> 0 | K68: =IF(D68=0,"",IF(C68=0,1,0.83*((D68-I68-J68/2)/D68)+0.17*((C68-H68-I68-J68/2)/C68))) | M68: =IF(A68="","",IF(B68="Ocijenjen",IF(K68>0.95,5,IF(K68>0.9,4,IF(K68>0.8,3,IF(K68>0.7,2,IF(K68>0.6,1,0))))),""))
D69: =F69+G69+H69+I69+J69 -> 0 | K69: =IF(D69=0,"",IF(C69=0,1,0.83*((D69-I69-J69/2)/D69)+0.17*((C69-H69-I69-J69/2)/C69))) | M69: =IF(A69="","",IF(B69="Ocijenjen",IF(K69>0.95,5,IF(K69>0.9,4,IF(K69>0.8,3,IF(K69>0.7,2,IF(K69>0.6,1,0))))),""))
A71: * Sud u kojem su formirana odjeljenja obavezan je da popuni Tabelu Ib.
A72: ** Sud u Kolonu “Naziv odjeljenja” obavezan je da manuelno unese nazive svih formiranih odjeljenja u sudu. Ukoliko u sudu za određenu pravnu oblast nije formirano odjeljenje, sud ima obavezu i takve odluke unijeti u Tabelu Ib s tim da će u koloni "Naziv odjeljenja" unijeti "Odluke bez odjeljenja" i popuniti ostale kolone Tabele Ib. Npr. Sud ima formirano izvršno i parnično odjeljenje, a nema stečajno odjeljenje. Sud će u trećem redu Tabele Ib unijeti Odluke bez odjeljenja i unijeti broj odluka za stečajne predmete po kolonama.
A73: NAPOMENA 3: U Tabelu Ib se manuelno unose podaci o broju odluka iz Tabele Ia. Podaci iz Tabele Ia unose se u Tabelu Ib na način da se podaci iz Tabele Ia raspoređuju i zbirno iskazuju u Tabeli Ib po pravnim oblastima za koja su formirana sudska odjeljenja. Npr. potvrđena odluka iz građanske oblasti iskazuje se u podacima o kolektivnom kvalitetu Građanskog odjeljenja bez obzira što je ožalbenu odluku donio sudija koji je odlukom o rasporedu poslova raspoređen u drugo odjeljenje. Ukupan broj odluka u sudu iz Tabele Ia i IIIa mora biti jednak ukupnom broju odluka u Tabeli Ib, u suprotnom aktiviraće se kontrolnici što ukazuje na potrebu provjere ispravnosti unosa podataka.

Sheet tbl1_kvalitet_rada
A1: for_key | B1: godina | C1: lista_referata | D1: DonesOdluke | E1: OdbPrLijek | F1: PotvOdluke | G1: PreinOdluke | H1: PreinOdlukeNakonRasp | I1: UkinOdluke | J1: DjelimUkin | K1: UkinVracPonSud
A2: =+'Tabela I'!$K$2 -> 0 | B2: =+'Tabela I'!$K$1 -> 2020 | C2: 34 | D2: ='Tabela I'!B12 -> 1865 | E2: ='Tabela I'!D12 -> 132 | F2: ='Tabela I'!E12 -> 128 | G2: ='Tabela I'!F12 -> 13 | H2: ='Tabela I'!G12 -> 0 | I2: ='Tabela I'!H12 -> 4 | J2: ='Tabela I'!I12 -> 2 | K2: ='Tabela I'!K12 -> 0
A3: =+'Tabela I'!$K$2 -> 0 | B3: =+'Tabela I'!$K$1 -> 2020 | C3: 35 | D3: ='Tabela I'!B13 -> 995 | E3: ='Tabela I'!D13 -> 21 | F3: ='Tabela I'!E13 -> 41 | G3: ='Tabela I'!F13 -> 9 | H3: ='Tabela I'!G13 -> 0 | I3: ='Tabela I'!H13 -> 1 | J3: ='Tabela I'!I13 -> 1 | K3: ='Tabela I'!K13 -> 0
A4: =+'Tabela I'!$K$2 -> 0 | B4: =+'Tabela I'!$K$1 -> 2020 | C4: 90 | D4: ='Tabela I'!B14 -> 2091 | E4: ='Tabela I'!D14 -> 313 | F4: ='Tabela I'!E14 -> 528 | G4: ='Tabela I'!F14 -> 37 | H4: ='Tabela I'!G14 -> 0 | I4: ='Tabela I'!H14 -> 4 | J4: ='Tabela I'!I14 -> 4 | K4: ='Tabela I'!K14 -> 0
A5: =+'Tabela I'!$K$2 -> 0 | B5: =+'Tabela I'!$K$1 -> 2020 | C5: 36 | D5: ='Tabela I'!B15 -> 119 | E5: ='Tabela I'!D15 -> 18 | F5: ='Tabela I'!E15 -> 4 | G5: ='Tabela I'!F15 -> 0 | H5: ='Tabela I'!G15 -> 0 | I5: ='Tabela I'!H15 -> 1 | J5: ='Tabela I'!I15 -> 0 | K5: ='Tabela I'!K15 -> 0
A6: =+'Tabela I'!$K$2 -> 0 | B6: =+'Tabela I'!$K$1 -> 2020 | C6: 11 | D6: ='Tabela I'!B17 -> 78 | E6: ='Tabela I'!D17 -> 0 | F6: ='Tabela I'!E17 -> 23 | G6: ='Tabela I'!F17 -> 7 | H6: ='Tabela I'!G17 -> 0 | I6: ='Tabela I'!H17 -> 8 | J6: ='Tabela I'!I17 -> 2 | K6: ='Tabela I'!K17 -> 0
A7: =+'Tabela I'!$K$2 -> 0 | B7: =+'Tabela I'!$K$1 -> 2020 | C7: 37 | D7: ='Tabela I'!B18 -> 0 | E7: ='Tabela I'!D18 -> 0 | F7: ='Tabela I'!E18 -> 0 | G7: ='Tabela I'!F18 -> 0 | H7: ='Tabela I'!G18 -> 0 | I7: ='Tabela I'!H18 -> 1 | J7: ='Tabela I'!I18 -> 0 | K7: ='Tabela I'!K18 -> 0
A8: =+'Tabela I'!$K$2 -> 0 | B8: =+'Tabela I'!$K$1 -> 2020 | C8: 38 | D8: ='Tabela I'!B19 -> 0 | E8: ='Tabela I'!D19 -> 0 | F8: ='Tabela I'!E19 -> 0 | G8: ='Tabela I'!F19 -> 0 | H8: ='Tabela I'!G19 -> 0 | I8: ='Tabela I'!H19 -> 0 | J8: ='Tabela I'!I19 -> 0 | K8: ='Tabela I'!K19 -> 0
A9: =+'Tabela I'!$K$2 -> 0 | B9: =+'Tabela I'!$K$1 -> 2020 | C9: 40 | D9: ='Tabela I'!B20 -> 0 | E9: ='Tabela I'!D20 -> 0 | F9: ='Tabela I'!E20 -> 0 | G9: ='Tabela I'!F20 -> 0 | H9: ='Tabela I'!G20 -> 0 | I9: ='Tabela I'!H20 -> 0 | J9: ='Tabela I'!I20 -> 0 | K9: ='Tabela I'!K20 -> 0
A10: =+'Tabela I'!$K$2 -> 0 | B10: =+'Tabela I'!$K$1 -> 2020 | C10: 16 | D10: ='Tabela I'!B21 -> 520 | E10: ='Tabela I'!D21 -> 0 | F10: ='Tabela I'!E21 -> 268 | G10: ='Tabela I'!F21 -> 0 | H10: ='Tabela I'!G21 -> 0 | I10: ='Tabela I'!H21 -> 32 | J10: ='Tabela I'!I21 -> 3 | K10: ='Tabela I'!K21 -> 0
A11: =+'Tabela I'!$K$2 -> 0 | B11: =+'Tabela I'!$K$1 -> 2020 | C11: 13 | D11: ='Tabela I'!B22 -> 0 | E11: ='Tabela I'!D22 -> 0 | F11: ='Tabela I'!E22 -> 0 | G11: ='Tabela I'!F22 -> 0 | H11: ='Tabela I'!G22 -> 0 | I11: ='Tabela I'!H22 -> 0 | J11: ='Tabela I'!I22 -> 0 | K11: ='Tabela I'!K22 -> 0
A12: =+'Tabela I'!$K$2 -> 0 | B12: =+'Tabela I'!$K$1 -> 2020 | C12: 12 | D12: ='Tabela I'!B23 -> 0 | E12: ='Tabela I'!D23 -> 0 | F12: ='Tabela I'!E23 -> 0 | G12: ='Tabela I'!F23 -> 0 | H12: ='Tabela I'!G23 -> 0 | I12: ='Tabela I'!H23 -> 0 | J12: ='Tabela I'!I23 -> 0 | K12: ='Tabela I'!K23 -> 0
A13: =+'Tabela I'!$K$2 -> 0 | B13: =+'Tabela I'!$K$1 -> 2020 | C13: 39 | D13: ='Tabela I'!B24 -> 0 | E13: ='Tabela I'!D24 -> 0 | F13: ='Tabela I'!E24 -> 0 | G13: ='Tabela I'!F24 -> 0 | H13: ='Tabela I'!G24 -> 0 | I13: ='Tabela I'!H24 -> 0 | J13: ='Tabela I'!I24 -> 0 | K13: ='Tabela I'!K24 -> 0
A14: =+'Tabela I'!$K$2 -> 0 | B14: =+'Tabela I'!$K$1 -> 2020 | C14: 19 | D14: ='Tabela I'!B25 -> 0 | E14: ='Tabela I'!D25 -> 0 | F14: ='Tabela I'!E25 -> 0 | G14: ='Tabela I'!F25 -> 0 | H14: ='Tabela I'!G25 -> 0 | I14: ='Tabela I'!H25 -> 0 | J14: ='Tabela I'!I25 -> 0 | K14: ='Tabela I'!K25 -> 0
A15: =+'Tabela I'!$K$2 -> 0 | B15: =+'Tabela I'!$K$1 -> 2020 | C15: 52 | D15: ='Tabela I'!B27 -> 1166 | E15: ='Tabela I'!D27 -> 28 | F15: ='Tabela I'!E27 -> 165 | G15: ='Tabela I'!F27 -> 18 | H15: ='Tabela I'!G27 -> 0 | I15: ='Tabela I'!H27 -> 3 | J15: ='Tabela I'!I27 -> 0 | K15: ='Tabela I'!K27 -> 0
A16: =+'Tabela I'!$K$2 -> 0 | B16: =+'Tabela I'!$K$1 -> 2020 | C16: 56 | D16: ='Tabela I'!B28 -> 0 | E16: ='Tabela I'!D28 -> 0 | F16: ='Tabela I'!E28 -> 0 | G16: ='Tabela I'!F28 -> 0 | H16: ='Tabela I'!G28 -> 0 | I16: ='Tabela I'!H28 -> 0 | J16: ='Tabela I'!I28 -> 0 | K16: ='Tabela I'!K28 -> 0
D17: =SUM(D2:D16) -> 6834 | E17: =SUM(E2:E16) -> 512 | F17: =SUM(F2:F16) -> 1157 | G17: =SUM(G2:G16) -> 84 | H17: =SUM(H2:H16) -> 0 | I17: =SUM(I2:I16) -> 54 | J17: =SUM(J2:J16) -> 12 | K17: =SUM(K2:K16) -> 0
A21: for_key | B21: godina | C21: Odjel | D21: DonesOdluke | E21: OdbPrLijek | F21: PotvOdluke | G21: PreinOdluke | H21: PreinOdlukeNakonRasp | I21: UkinOdluke | J21: DjelimUkin | K21: UkinVracPonSud
A22: =+'Tabela I'!$K$2 -> 0 | B22: =+'Tabela I'!$K$1 -> 2020 | C22: =+'Tabela I'!A55 -> 0 | D22: =+'Tabela I'!C55 -> 0 | E22: =+'Tabela I'!E55 -> 0 | F22: =+'Tabela I'!F55 -> 0 | G22: =+'Tabela I'!G55 -> 0 | H22: =+'Tabela I'!H55 -> 0 | I22: =+'Tabela I'!I55 -> 0 | J22: =+'Tabela I'!J55 -> 0 | K22: =+'Tabela I'!L55 -> 0
A23: =+'Tabela I'!$K$2 -> 0 | B23: =+'Tabela I'!$K$1 -> 2020 | C23: =+'Tabela I'!A56 -> 0 | D23: =+'Tabela I'!C56 -> 0 | E23: =+'Tabela I'!E56 -> 0 | F23: =+'Tabela I'!F56 -> 0 | G23: =+'Tabela I'!G56 -> 0 | H23: =+'Tabela I'!H56 -> 0 | I23: =+'Tabela I'!I56 -> 0 | J23: =+'Tabela I'!J56 -> 0 | K23: =+'Tabela I'!L56 -> 0
A24: =+'Tabela I'!$K$2 -> 0 | B24: =+'Tabela I'!$K$1 -> 2020 | C24: =+'Tabela I'!A57 -> 0 | D24: =+'Tabela I'!C57 -> 0 | E24: =+'Tabela I'!E57 -> 0 | F24: =+'Tabela I'!F57 -> 0 | G24: =+'Tabela I'!G57 -> 0 | H24: =+'Tabela I'!H57 -> 0 | I24: =+'Tabela I'!I57 -> 0 | J24: =+'Tabela I'!J57 -> 0 | K24: =+'Tabela I'!L57 -> 0
A25: =+'Tabela I'!$K$2 -> 0 | B25: =+'Tabela I'!$K$1 -> 2020 | C25: =+'Tabela I'!A58 -> 0 | D25: =+'Tabela I'!C58 -> 0 | E25: =+'Tabela I'!E58 -> 0 | F25: =+'Tabela I'!F58 -> 0 | G25: =+'Tabela I'!G58 -> 0 | H25: =+'Tabela I'!H58 -> 0 | I25: =+'Tabela I'!I58 -> 0 | J25: =+'Tabela I'!J58 -> 0 | K25: =+'Tabela I'!L58 -> 0
A26: =+'Tabela I'!$K$2 -> 0 | B26: =+'Tabela I'!$K$1 -> 2020 | C26: =+'Tabela I'!A59 -> 0 | D26: =+'Tabela I'!C59 -> 0 | E26: =+'Tabela I'!E59 -> 0 | F26: =+'Tabela I'!F59 -> 0 | G26: =+'Tabela I'!G59 -> 0 | H26: =+'Tabela I'!H59 -> 0 | I26: =+'Tabela I'!I59 -> 0 | J26: =+'Tabela I'!J59 -> 0 | K26: =+'Tabela I'!L59 -> 0
A27: =+'Tabela I'!$K$2 -> 0 | B27: =+'Tabela I'!$K$1 -> 2020 | C27: =+'Tabela I'!A60 -> 0 | D27: =+'Tabela I'!C60 -> 0 | E27: =+'Tabela I'!E60 -> 0 | F27: =+'Tabela I'!F60 -> 0 | G27: =+'Tabela I'!G60 -> 0 | H27: =+'Tabela I'!H60 -> 0 | I27: =+'Tabela I'!I60 -> 0 | J27: =+'Tabela I'!J60 -> 0 | K27: =+'Tabela I'!L60 -> 0
A28: =+'Tabela I'!$K$2 -> 0 | B28: =+'Tabela I'!$K$1 -> 2020 | C28: =+'Tabela I'!A61 -> 0 | D28: =+'Tabela I'!C61 -> 0 | E28: =+'Tabela I'!E61 -> 0 | F28: =+'Tabela I'!F61 -> 0 | G28: =+'Tabela I'!G61 -> 0 | H28: =+'Tabela I'!H61 -> 0 | I28: =+'Tabela I'!I61 -> 0 | J28: =+'Tabela I'!J61 -> 0 | K28: =+'Tabela I'!L61 -> 0
A29: =+'Tabela I'!$K$2 -> 0 | B29: =+'Tabela I'!$K$1 -> 2020 | C29: =+'Tabela I'!A62 -> 0 | D29: =+'Tabela I'!C62 -> 0 | E29: =+'Tabela I'!E62 -> 0 | F29: =+'Tabela I'!F62 -> 0 | G29: =+'Tabela I'!G62 -> 0 | H29: =+'Tabela I'!H62 -> 0 | I29: =+'Tabela I'!I62 -> 0 | J29: =+'Tabela I'!J62 -> 0 | K29: =+'Tabela I'!L62 -> 0
A30: =+'Tabela I'!$K$2 -> 0 | B30: =+'Tabela I'!$K$1 -> 2020 | C30: =+'Tabela I'!A63 -> 0 | D30: =+'Tabela I'!C63 -> 0 | E30: =+'Tabela I'!E63 -> 0 | F30: =+'Tabela I'!F63 -> 0 | G30: =+'Tabela I'!G63 -> 0 | H30: =+'Tabela I'!H63 -> 0 | I30: =+'Tabela I'!I63 -> 0 | J30: =+'Tabela I'!J63 -> 0 | K30: =+'Tabela I'!L63 -> 0
A31: =+'Tabela I'!$K$2 -> 0 | B31: =+'Tabela I'!$K$1 -> 2020 | C31: =+'Tabela I'!A64 -> 0 | D31: =+'Tabela I'!C64 -> 0 | E31: =+'Tabela I'!E64 -> 0 | F31: =+'Tabela I'!F64 -> 0 | G31: =+'Tabela I'!G64 -> 0 | H31: =+'Tabela I'!H64 -> 0 | I31: =+'Tabela I'!I64 -> 0 | J31: =+'Tabela I'!J64 -> 0 | K31: =+'Tabela I'!L64 -> 0
A32: =+'Tabela I'!$K$2 -> 0 | B32: =+'Tabela I'!$K$1 -> 2020 | C32: =+'Tabela I'!A65 -> 0 | D32: =+'Tabela I'!C65 -> 0 | E32: =+'Tabela I'!E65 -> 0 | F32: =+'Tabela I'!F65 -> 0 | G32: =+'Tabela I'!G65 -> 0 | H32: =+'Tabela I'!H65 -> 0 | I32: =+'Tabela I'!I65 -> 0 | J32: =+'Tabela I'!J65 -> 0 | K32: =+'Tabela I'!L65 -> 0
A33: =+'Tabela I'!$K$2 -> 0 | B33: =+'Tabela I'!$K$1 -> 2020 | C33: =+'Tabela I'!A66 -> 0 | D33: =+'Tabela I'!C66 -> 0 | E33: =+'Tabela I'!E66 -> 0 | F33: =+'Tabela I'!F66 -> 0 | G33: =+'Tabela I'!G66 -> 0 | H33: =+'Tabela I'!H66 -> 0 | I33: =+'Tabela I'!I66 -> 0 | J33: =+'Tabela I'!J66 -> 0 | K33: =+'Tabela I'!L66 -> 0
... A36: =+'Tabela I'!$K$2 -> 0 | B36: =+'Tabela I'!$K$1 -> 2020 | C36: =+'Tabela I'!A69 -> 0 | D36: =+'Tabela I'!C69 -> 0 | E36: =+'Tabela I'!E69 -> 0 | F36: =+'Tabela I'!F69 -> 0 | G36: =+'Tabela I'!G69 -> 0 | H36: =+'Tabela I'!H69 -> 0 | I36: =+'Tabela I'!I69 -> 0 | J36: =+'Tabela I'!J69 -> 0 | K36: =+'Tabela I'!L69 -> 0
D37: =SUM(D22:D36) -> 0 | E37: =SUM(E22:E36) -> 0 | F37: =SUM(F22:F36) -> 0 | G37: =SUM(G22:G36) -> 0 | H37: =SUM(H22:H36) -> 0 | I37: =SUM(I22:I36) -> 0 | J37: =SUM(J22:J36) -> 0 | K37: =SUM(K22:K36) -> 0

Sheet Tabela II
A1: ='Tabela I'!A1 -> Kantonalni/Okružni sud: | D1: ='Tabela I'!C1 -> KANTONALNI SUD U SARAJEVU
A2: Izvještajni period: | C2: 1.1.2020.-31.12.2020. | D2: ='Tabela I'!B2 -> 1.1.2020.-31.12.2020.
A3: Tabela IIa – Ostvarena orijentaciona norma - Elektronski obrazac za obračun ostvarene orijentacione norme (pogledati NAPOMENU 4)
A5: Redni broj | B5: Ime i prezime - evidentirani podatak se automatski prenosi u Tabelu IIIa | C5: Ocjenjen u sudu | D5: Naziv odjela | E5: Pravosudna funkcija | G5: Procenat orijentacijske norme koju je nosilac pravosudne funkcije dužan ostvariti - Ukoliko procenat orijenatcijske norme nije predviđen u padajućem meniju pogledati NAPOMENU 3 | H5: Period obavljanja pravosudne funkcije u instituciji koja popunjava tabelu Ia | J5: Ukupan broj dana za obračun norme - pogledati NAPOMENU 2 | K5: Broj dana opravdanog odsustva (pogledati NAPOMENU 9) | L5: Ostvarena orijentaciona norma iz CMS-a | M5: Ostvarena orijentaciona norma na predmetima van CMS-a - pogledati NAPOMENU 6 | N5: Procenat ostvarene orijentacione norme prema članu 9. Pravilnika o orijentacijskim mjerilima - pogledati NAPOMENU 7 | O5: Procenat ostvarene propisane godišnje orijentacijske norme u 2020. godini | P5: Ukupno ostvarena orijentacijska norma u 2020. godini | Q5: Nedovoljan broj predmeta u radu - pogledati NAPOMENU 5 | V5: Broj ostvarenih bodova | W5: Sudija | X5: Stručni saradnik | Y5: Predsjednik odjela | Z5: Predsjednik sudskog vijeća vrhovnog suda entiteta | AA5: Član VSTV-a
H6: Datum od | I6: Datum do | Q6: broj predmeta u radu | R6: broj riješenih predmeta | S6: broj neriješenih predmeta sa zakonskim i procesnim smetnjama | T6: broj neriješenih predmeta bez zakonskih i procesnih smetnji | U6: procenat riješenih predmeta
A7: I | B7: II | C7: III | D7: III | E7: IV | G7: V | H7: VI | I7: VII | J7: VIII | K7: IX | L7: X | M7: XI | N7: XII | O7: XIII | P7: XIV | Q7: XV | R7: XVI | S7: XVII | T7: XVIII | U7: XIX | V7: XXI | W7: 1 | X7: 0.9 | Y7: 0.8 | Z7: 0.5 | AA7: 0.25 | AB7: Ne treba raditi na predm.
A8: 1 | B8: Vladimir Špoljarić | E8: Predsjednik suda | G8: Ne treba raditi na predm. | H8: 01.01.2020 | I8: 13.11.2020 | J8: 262 | L8: 0.0781 | O8: =IF(G8="","",IF(G8="Ne treba raditi na predm.",1+SUM(L8:N8),(SUM(L8:N8)/G8))) -> 1.0781 | P8: =IF(K8>0,O8*(J8/(J8-K8)),O8) -> 1.0781 | U8: =IF(Q8="","",R8/(Q8-S8)) | V8: =IF(P8="","",IF(C8="Ne","",IF(G8="Ne treba raditi na predm.","",IF(P8>1,10,IF(U8="",IF(P8>0.9,8,IF(P8>0.8,6,IF(P8>0.7,4,IF(P8>0.6,2,0)))),IF(U8=1,10,IF(U8>0.9,8,IF(U8>0.8,6,IF(U8>0.7,5,IF(U8>0.6,4,IF(U8>0.5,2,0))))))))))) | W8: 0.7 | X8: 0.5 | Y8: 0.4 | Z8: 0.3 | AA8: Ne treba raditi na predm.
E9: Predsjednik suda | J9: 262 | O9: =IF(G9="","",IF(G9="Ne treba raditi na predm.",1+SUM(L9:N9),(SUM(L9:N9)/G9))) | P9: =IF(K9>0,O9*(J9/(J9-K9)),O9) | U9: =IF(Q9="","",R9/(Q9-S9)) | V9: =IF(P9="","",IF(C9="Ne","",IF(G9="Ne treba raditi na predm.","",IF(P9>1,10,IF(U9="",IF(P9>0.9,8,IF(P9>0.8,6,IF(P9>0.7,4,IF(P9>0.6,2,0)))),IF(U9=1,10,IF(U9>0.9,8,IF(U9>0.8,6,IF(U9>0.7,5,IF(U9>0.6,4,IF(U9>0.5,2,0)))))))))))
A10: 2 | B10: Adisa Zahiragić | D10: KRIVIĆNI | E10: Predsjednik odjela | F10: =IF(E10="Sudija",1,IF(E10="Stručni saradnik",1,"")) | G10: 0.8 | H10: 01.01.2020 | I10: 31.12.2020 | J10: 262 | K10: 5 | L10: 1.1259 | O10: =IF(G10="","",IF(G10="Ne treba raditi na predm.",1+SUM(L10:N10),(SUM(L10:N10)/G10))) -> 1.407375 | P10: =IF(K10>0,O10*(J10/(J10-K10)),O10) -> 1.4347558 | U10: =IF(Q10="","",R10/(Q10-S10)) | V10: =IF(P10="","",IF(C10="Ne","",IF(G10="Ne treba raditi na predm.","", IF(P10>1,30,IF(U10="",IF(P10>0.9,25,IF(P10>0.8,20,IF(P10>0.7,16,IF(P10>0.6,10,IF(P10>0.5,4,0))))),IF(U10=1,30,IF(U10>0.9,25,IF(U10>0.8,20,IF(U10>0.7,15,IF(U10>0.6,10,IF(U10>0.5,5,0))))))))))) -> 30 | W10: Da | X10: Ne
A11: 3 | B11: Jasenko Ružić | D11: KRIVIČNI | E11: Sudija | F11: =IF(E11="Sudija",1,IF(E11="Stručni saradnik",1,"")) -> 1 | G11: 1 | H11: 01.01.2020 | I11: 31.12.2020 | J11: 262 | L11: 1.0322 | O11: =IF(G11="","",IF(G11="Ne treba raditi na predm.",1+SUM(L11:N11),(SUM(L11:N11)/G11))) -> 1.0322 | P11: =IF(K11>0,O11*(J11/(J11-K11)),O11) -> 1.0322 | U11: =IF(Q11="","",R11/(Q11-S11)) | V11: =IF(P11="","",IF(C11="Ne","",IF(G11="Ne treba raditi na predm.","", IF(P11>1,30,IF(U11="",IF(P11>0.9,25,IF(P11>0.8,20,IF(P11>0.7,16,IF(P11>0.6,10,IF(P11>0.5,4,0))))),IF(U11=1,30,IF(U11>0.9,25,IF(U11>0.8,20,IF(U11>0.7,15,IF(U11>0.6,10,IF(U11>0.5,5,0))))))))))) -> 30
A12: 4 | B12: Indira Jahić | D12: KRIVIČNI | E12: Sudija | F12: =IF(E12="Sudija",1,IF(E12="Stručni saradnik",1,"")) -> 1 | G12: 1 | H12: 01.01.2020 | I12: 31.12.2020 | J12: 262 | K12: 13 | L12: 1.0893 | O12: =IF(G12="","",IF(G12="Ne treba raditi na predm.",1+SUM(L12:N12),(SUM(L12:N12)/G12))) -> 1.0893 | P12: =IF(K12>0,O12*(J12/(J12-K12)),O12) -> 1.1461711 | U12: =IF(Q12="","",R12/(Q12-S12)) | V12: =IF(P12="","",IF(C12="Ne","",IF(G12="Ne treba raditi na predm.","", IF(P12>1,30,IF(U12="",IF(P12>0.9,25,IF(P12>0.8,20,IF(P12>0.7,16,IF(P12>0.6,10,IF(P12>0.5,4,0))))),IF(U12=1,30,IF(U12>0.9,25,IF(U12>0.8,20,IF(U12>0.7,15,IF(U12>0.6,10,IF(U12>0.5,5,0))))))))))) -> 30
A13: 5 | B13: Igor Todorović | D13: KRIVIČNI | E13: Sudija | F13: =IF(E13="Sudija",1,IF(E13="Stručni saradnik",1,"")) -> 1 | G13: 1 | H13: 01.01.2020 | I13: 31.12.2020 | J13: 262 | K13: 22 | L13: 1.3183 | O13: =IF(G13="","",IF(G13="Ne treba raditi na predm.",1+SUM(L13:N13),(SUM(L13:N13)/G13))) -> 1.3183 | P13: =IF(K13>0,O13*(J13/(J13-K13)),O13) -> 1.4391442 | U13: =IF(Q13="","",R13/(Q13-S13)) | V13: =IF(P13="","",IF(C13="Ne","",IF(G13="Ne treba raditi na predm.","", IF(P13>1,30,IF(U13="",IF(P13>0.9,25,IF(P13>0.8,20,IF(P13>0.7,16,IF(P13>0.6,10,IF(P13>0.5,4,0))))),IF(U13=1,30,IF(U13>0.9,25,IF(U13>0.8,20,IF(U13>0.7,15,IF(U13>0.6,10,IF(U13>0.5,5,0))))))))))) -> 30
A14: 6 | B14: Elvira Begović | D14: KRIVIČNI | E14: Sudija | F14: =IF(E14="Sudija",1,IF(E14="Stručni saradnik",1,"")) -> 1 | G14: 1 | H14: 01.01.2020 | I14: 31.12.2020 | J14: 262 | K14: 34 | L14: 1.0141 | O14: =IF(G14="","",IF(G14="Ne treba raditi na predm.",1+SUM(L14:N14),(SUM(L14:N14)/G14))) -> 1.0141 | P14: =IF(K14>0,O14*(J14/(J14-K14)),O14) -> 1.1653254 | U14: =IF(Q14="","",R14/(Q14-S14)) | V14: =IF(P14="","",IF(C14="Ne","",IF(G14="Ne treba raditi na predm.","", IF(P14>1,30,IF(U14="",IF(P14>0.9,25,IF(P14>0.8,20,IF(P14>0.7,16,IF(P14>0.6,10,IF(P14>0.5,4,0))))),IF(U14=1,30,IF(U14>0.9,25,IF(U14>0.8,20,IF(U14>0.7,15,IF(U14>0.6,10,IF(U14>0.5,5,0))))))))))) -> 30
A15: 7 | B15: Sanela Rondić | D15: KRIVIČNI | E15: Sudija | F15: =IF(E15="Sudija",1,IF(E15="Stručni saradnik",1,"")) -> 1 | G15: 1 | H15: 01.01.2020 | I15: 31.12.2020 | J15: 262 | K15: 4 | L15: 1.3264 | O15: =IF(G15="","",IF(G15="Ne treba raditi na predm.",1+SUM(L15:N15),(SUM(L15:N15)/G15))) -> 1.3264 | P15: =IF(K15>0,O15*(J15/(J15-K15)),O15) -> 1.3469643 | U15: =IF(Q15="","",R15/(Q15-S15)) | V15: =IF(P15="","",IF(C15="Ne","",IF(G15="Ne treba raditi na predm.","", IF(P15>1,30,IF(U15="",IF(P15>0.9,25,IF(P15>0.8,20,IF(P15>0.7,16,IF(P15>0.6,10,IF(P15>0.5,4,0))))),IF(U15=1,30,IF(U15>0.9,25,IF(U15>0.8,20,IF(U15>0.7,15,IF(U15>0.6,10,IF(U15>0.5,5,0))))))))))) -> 30
A16: 8 | B16: Rozita Šimić | D16: KRIVIČNI | E16: Sudija | F16: =IF(E16="Sudija",1,IF(E16="Stručni saradnik",1,"")) -> 1 | G16: 1 | H16: 01.01.2020 | I16: 31.12.2020 | J16: 262 | L16: 1.2395 | O16: =IF(G16="","",IF(G16="Ne treba raditi na predm.",1+SUM(L16:N16),(SUM(L16:N16)/G16))) -> 1.2395 | P16: =IF(K16>0,O16*(J16/(J16-K16)),O16) -> 1.2395 | U16: =IF(Q16="","",R16/(Q16-S16)) | V16: =IF(P16="","",IF(C16="Ne","",IF(G16="Ne treba raditi na predm.","", IF(P16>1,30,IF(U16="",IF(P16>0.9,25,IF(P16>0.8,20,IF(P16>0.7,16,IF(P16>0.6,10,IF(P16>0.5,4,0))))),IF(U16=1,30,IF(U16>0.9,25,IF(U16>0.8,20,IF(U16>0.7,15,IF(U16>0.6,10,IF(U16>0.5,5,0))))))))))) -> 30
A17: 9 | B17: Žana Knežević | D17: KRIVIČNI | E17: Sudija | F17: =IF(E17="Sudija",1,IF(E17="Stručni saradnik",1,"")) -> 1 | G17: 1 | H17: 01.01.2020 | I17: 31.12.2020 | J17: 262 | K17: 14 | L17: 1.2469 | N17: 0.0727 | O17: =IF(G17="","",IF(G17="Ne treba raditi na predm.",1+SUM(L17:N17),(SUM(L17:N17)/G17))) -> 1.3196 | P17: =IF(K17>0,O17*(J17/(J17-K17)),O17) -> 1.3940935 | U17: =IF(Q17="","",R17/(Q17-S17)) | V17: =IF(P17="","",IF(C17="Ne","",IF(G17="Ne treba raditi na predm.","", IF(P17>1,30,IF(U17="",IF(P17>0.9,25,IF(P17>0.8,20,IF(P17>0.7,16,IF(P17>0.6,10,IF(P17>0.5,4,0))))),IF(U17=1,30,IF(U17>0.9,25,IF(U17>0.8,20,IF(U17>0.7,15,IF(U17>0.6,10,IF(U17>0.5,5,0))))))))))) -> 30
A18: 10 | B18: Danijela Mikić | D18: UPRAVNI | E18: Predsjednik odjela | F18: =IF(E18="Sudija",1,IF(E18="Stručni saradnik",1,"")) | G18: 0.8 | H18: 01.01.2020 | I18: 31.12.2020 | J18: 262 | K18: 10 | L18: 0.9483 | N18: 0.05 | O18: =IF(G18="","",IF(G18="Ne treba raditi na predm.",1+SUM(L18:N18),(SUM(L18:N18)/G18))) -> 1.247875 | P18: =IF(K18>0,O18*(J18/(J18-K18)),O18) -> 1.2973938 | U18: =IF(Q18="","",R18/(Q18-S18)) | V18: =IF(P18="","",IF(C18="Ne","",IF(G18="Ne treba raditi na predm.","", IF(P18>1,30,IF(U18="",IF(P18>0.9,25,IF(P18>0.8,20,IF(P18>0.7,16,IF(P18>0.6,10,IF(P18>0.5,4,0))))),IF(U18=1,30,IF(U18>0.9,25,IF(U18>0.8,20,IF(U18>0.7,15,IF(U18>0.6,10,IF(U18>0.5,5,0))))))))))) -> 30
A19: 11 | B19: Aida Salčinović Kuljanin | D19: UPRAVNI | E19: Sudija | F19: =IF(E19="Sudija",1,IF(E19="Stručni saradnik",1,"")) -> 1 | G19: 1 | H19: 01.01.2020 | I19: 31.12.2020 | J19: 262 | L19: 0.8719 | N19: 0.1 | O19: =IF(G19="","",IF(G19="Ne treba raditi na predm.",1+SUM(L19:N19),(SUM(L19:N19)/G19))) -> 0.9719 | P19: =IF(K19>0,O19*(J19/(J19-K19)),O19) -> 0.9719 | U19: =IF(Q19="","",R19/(Q19-S19)) | V19: =IF(P19="","",IF(C19="Ne","",IF(G19="Ne treba raditi na predm.","", IF(P19>1,30,IF(U19="",IF(P19>0.9,25,IF(P19>0.8,20,IF(P19>0.7,16,IF(P19>0.6,10,IF(P19>0.5,4,0))))),IF(U19=1,30,IF(U19>0.9,25,IF(U19>0.8,20,IF(U19>0.7,15,IF(U19>0.6,10,IF(U19>0.5,5,0))))))))))) -> 25
A20: 12 | B20: Aida Šabanović | D20: UPRAVNI | E20: Sudija | F20: =IF(E20="Sudija",1,IF(E20="Stručni saradnik",1,"")) -> 1 | G20: 1 | H20: 01.01.2020 | I20: 31.12.2020 | J20: 262 | K20: 13 | L20: 0.9366 | O20: =IF(G20="","",IF(G20="Ne treba raditi na predm.",1+SUM(L20:N20),(SUM(L20:N20)/G20))) -> 0.9366 | P20: =IF(K20>0,O20*(J20/(J20-K20)),O20) -> 0.9854988 | U20: =IF(Q20="","",R20/(Q20-S20)) | V20: =IF(P20="","",IF(C20="Ne","",IF(G20="Ne treba raditi na predm.","", IF(P20>1,30,IF(U20="",IF(P20>0.9,25,IF(P20>0.8,20,IF(P20>0.7,16,IF(P20>0.6,10,IF(P20>0.5,4,0))))),IF(U20=1,30,IF(U20>0.9,25,IF(U20>0.8,20,IF(U20>0.7,15,IF(U20>0.6,10,IF(U20>0.5,5,0))))))))))) -> 25
A21: 13 | B21: Rada Bjeljac | D21: UPRAVNI | E21: Sudija | F21: =IF(E21="Sudija",1,IF(E21="Stručni saradnik",1,"")) -> 1 | G21: 1 | H21: 01.01.2020 | I21: 31.12.2020 | J21: 262 | K21: 56 | L21: 0.7113 | N21: 0.05 | O21: =IF(G21="","",IF(G21="Ne treba raditi na predm.",1+SUM(L21:N21),(SUM(L21:N21)/G21))) -> 0.7613 | P21: =IF(K21>0,O21*(J21/(J21-K21)),O21) -> 0.96825534 | U21: =IF(Q21="","",R21/(Q21-S21)) | V21: =IF(P21="","",IF(C21="Ne","",IF(G21="Ne treba raditi na predm.","", IF(P21>1,30,IF(U21="",IF(P21>0.9,25,IF(P21>0.8,20,IF(P21>0.7,16,IF(P21>0.6,10,IF(P21>0.5,4,0))))),IF(U21=1,30,IF(U21>0.9,25,IF(U21>0.8,20,IF(U21>0.7,15,IF(U21>0.6,10,IF(U21>0.5,5,0))))))))))) -> 25
A22: 14 | B22: Slavica Džaferović | D22: UPRAVNI | E22: Sudija | F22: =IF(E22="Sudija",1,IF(E22="Stručni saradnik",1,"")) -> 1 | G22: 1 | H22: 01.01.2020 | I22: 31.12.2020 | J22: 262 | K22: 21 | L22: 0.9806 | N22: 0.05 | O22: =IF(G22="","",IF(G22="Ne treba raditi na predm.",1+SUM(L22:N22),(SUM(L22:N22)/G22))) -> 1.0306 | P22: =IF(K22>0,O22*(J22/(J22-K22)),O22) -> 1.1204033 | U22: =IF(Q22="","",R22/(Q22-S22)) | V22: =IF(P22="","",IF(C22="Ne","",IF(G22="Ne treba raditi na predm.","", IF(P22>1,30,IF(U22="",IF(P22>0.9,25,IF(P22>0.8,20,IF(P22>0.7,16,IF(P22>0.6,10,IF(P22>0.5,4,0))))),IF(U22=1,30,IF(U22>0.9,25,IF(U22>0.8,20,IF(U22>0.7,15,IF(U22>0.6,10,IF(U22>0.5,5,0))))))))))) -> 30
A23: 15 | B23: Vildana Mujagić | D23: UPRAVNI | E23: Sudija | F23: =IF(E23="Sudija",1,IF(E23="Stručni saradnik",1,"")) -> 1 | G23: 1 | H23: 01.01.2020 | I23: 31.12.2020 | J23: 262 | L23: 0.7421 | N23: 0.1 | O23: =IF(G23="","",IF(G23="Ne treba raditi na predm.",1+SUM(L23:N23),(SUM(L23:N23)/G23))) -> 0.8421 | P23: =IF(K23>0,O23*(J23/(J23-K23)),O23) -> 0.8421 | U23: =IF(Q23="","",R23/(Q23-S23)) | V23: =IF(P23="","",IF(C23="Ne","",IF(G23="Ne treba raditi na predm.","", IF(P23>1,30,IF(U23="",IF(P23>0.9,25,IF(P23>0.8,20,IF(P23>0.7,16,IF(P23>0.6,10,IF(P23>0.5,4,0))))),IF(U23=1,30,IF(U23>0.9,25,IF(U23>0.8,20,IF(U23>0.7,15,IF(U23>0.6,10,IF(U23>0.5,5,0))))))))))) -> 20
A24: 16 | B24: Amina Begović | D24: GRAĐANSKI | E24: Sudija | F24: =IF(E24="Sudija",1,IF(E24="Stručni saradnik",1,"")) -> 1 | O24: =IF(G24="","",IF(G24="Ne treba raditi na predm.",1+SUM(L24:N24),(SUM(L24:N24)/G24))) | P24: =IF(K24>0,O24*(J24/(J24-K24)),O24) | U24: =IF(Q24="","",R24/(Q24-S24)) | V24: =IF(P24="","",IF(C24="Ne","",IF(G24="Ne treba raditi na predm.","", IF(P24>1,30,IF(U24="",IF(P24>0.9,25,IF(P24>0.8,20,IF(P24>0.7,16,IF(P24>0.6,10,IF(P24>0.5,4,0))))),IF(U24=1,30,IF(U24>0.9,25,IF(U24>0.8,20,IF(U24>0.7,15,IF(U24>0.6,10,IF(U24>0.5,5,0)))))))))))
A25: 17 | B25: Admira Sejranić | D25: GRAĐANSKI | E25: Sudija | F25: =IF(E25="Sudija",1,IF(E25="Stručni saradnik",1,"")) -> 1 | G25: 1 | H25: 01.01.2020 | I25: 31.12.2020 | J25: 262 | K25: 15 | L25: 1.2174 | N25: 0.05 | O25: =IF(G25="","",IF(G25="Ne treba raditi na predm.",1+SUM(L25:N25),(SUM(L25:N25)/G25))) -> 1.2674 | P25: =IF(K25>0,O25*(J25/(J25-K25)),O25) -> 1.3443676 | U25: =IF(Q25="","",R25/(Q25-S25)) | V25: =IF(P25="","",IF(C25="Ne","",IF(G25="Ne treba raditi na predm.","", IF(P25>1,30,IF(U25="",IF(P25>0.9,25,IF(P25>0.8,20,IF(P25>0.7,16,IF(P25>0.6,10,IF(P25>0.5,4,0))))),IF(U25=1,30,IF(U25>0.9,25,IF(U25>0.8,20,IF(U25>0.7,15,IF(U25>0.6,10,IF(U25>0.5,5,0))))))))))) -> 30
A26: 18 | B26: Amela Mahić Samardžić | D26: GRAĐANSKI | E26: Sudija | F26: =IF(E26="Sudija",1,IF(E26="Stručni saradnik",1,"")) -> 1 | G26: 1 | H26: 01.01.2020 | I26: 31.12.2020 | J26: 262 | L26: 1.0994 | N26: 0.05 | O26: =IF(G26="","",IF(G26="Ne treba raditi na predm.",1+SUM(L26:N26),(SUM(L26:N26)/G26))) -> 1.1494 | P26: =IF(K26>0,O26*(J26/(J26-K26)),O26) -> 1.1494 | U26: =IF(Q26="","",R26/(Q26-S26)) | V26: =IF(P26="","",IF(C26="Ne","",IF(G26="Ne treba raditi na predm.","", IF(P26>1,30,IF(U26="",IF(P26>0.9,25,IF(P26>0.8,20,IF(P26>0.7,16,IF(P26>0.6,10,IF(P26>0.5,4,0))))),IF(U26=1,30,IF(U26>0.9,25,IF(U26>0.8,20,IF(U26>0.7,15,IF(U26>0.6,10,IF(U26>0.5,5,0))))))))))) -> 30
A27: 19 | B27: Altijana Šeta | D27: GRAĐANSKI | E27: Sudija | F27: =IF(E27="Sudija",1,IF(E27="Stručni saradnik",1,"")) -> 1 | G27: 1 | H27: 01.01.2020 | I27: 31.12.2020 | J27: 262 | K27: 9 | L27: 1.1723 | O27: =IF(G27="","",IF(G27="Ne treba raditi na predm.",1+SUM(L27:N27),(SUM(L27:N27)/G27))) -> 1.1723 | P27: =IF(K27>0,O27*(J27/(J27-K27)),O27) -> 1.2140024 | U27: =IF(Q27="","",R27/(Q27-S27)) | V27: =IF(P27="","",IF(C27="Ne","",IF(G27="Ne treba raditi na predm.","", IF(P27>1,30,IF(U27="",IF(P27>0.9,25,IF(P27>0.8,20,IF(P27>0.7,16,IF(P27>0.6,10,IF(P27>0.5,4,0))))),IF(U27=1,30,IF(U27>0.9,25,IF(U27>0.8,20,IF(U27>0.7,15,IF(U27>0.6,10,IF(U27>0.5,5,0))))))))))) -> 30
A28: 20 | B28: Amra Muhibić | D28: GRAĐANSKI | E28: Sudija | F28: =IF(E28="Sudija",1,IF(E28="Stručni saradnik",1,"")) -> 1 | G28: 1 | H28: 01.01.2020 | I28: 31.12.2020 | J28: 262 | L28: 0.8474 | N28: 0.05 | O28: =IF(G28="","",IF(G28="Ne treba raditi na predm.",1+SUM(L28:N28),(SUM(L28:N28)/G28))) -> 0.8974 | P28: =IF(K28>0,O28*(J28/(J28-K28)),O28) -> 0.8974 | U28: =IF(Q28="","",R28/(Q28-S28)) | V28: =IF(P28="","",IF(C28="Ne","",IF(G28="Ne treba raditi na predm.","", IF(P28>1,30,IF(U28="",IF(P28>0.9,25,IF(P28>0.8,20,IF(P28>0.7,16,IF(P28>0.6,10,IF(P28>0.5,4,0))))),IF(U28=1,30,IF(U28>0.9,25,IF(U28>0.8,20,IF(U28>0.7,15,IF(U28>0.6,10,IF(U28>0.5,5,0))))))))))) -> 20
A29: 21 | B29: Behija Šiljak | D29: GRAĐANSKI | E29: Sudija | F29: =IF(E29="Sudija",1,IF(E29="Stručni saradnik",1,"")) -> 1 | G29: 1 | H29: 01.01.2020 | I29: 31.12.2020 | J29: 262 | L29: 1.2342 | N29: 0.05 | O29: =IF(G29="","",IF(G29="Ne treba raditi na predm.",1+SUM(L29:N29),(SUM(L29:N29)/G29))) -> 1.2842 | P29: =IF(K29>0,O29*(J29/(J29-K29)),O29) -> 1.2842 | U29: =IF(Q29="","",R29/(Q29-S29)) | V29: =IF(P29="","",IF(C29="Ne","",IF(G29="Ne treba raditi na predm.","", IF(P29>1,30,IF(U29="",IF(P29>0.9,25,IF(P29>0.8,20,IF(P29>0.7,16,IF(P29>0.6,10,IF(P29>0.5,4,0))))),IF(U29=1,30,IF(U29>0.9,25,IF(U29>0.8,20,IF(U29>0.7,15,IF(U29>0.6,10,IF(U29>0.5,5,0))))))))))) -> 30
A30: 22 | B30: Dubravka Krajišnik | D30: GRAĐANSKI | E30: Sudija | F30: =IF(E30="Sudija",1,IF(E30="Stručni saradnik",1,"")) -> 1 | G30: 1 | H30: 01.01.2020 | I30: 31.12.2020 | J30: 262 | K30: 16 | L30: 1.1159 | N30: 0.05 | O30: =IF(G30="","",IF(G30="Ne treba raditi na predm.",1+SUM(L30:N30),(SUM(L30:N30)/G30))) -> 1.1659 | P30: =IF(K30>0,O30*(J30/(J30-K30)),O30) -> 1.2417309 | U30: =IF(Q30="","",R30/(Q30-S30)) | V30: =IF(P30="","",IF(C30="Ne","",IF(G30="Ne treba raditi na predm.","", IF(P30>1,30,IF(U30="",IF(P30>0.9,25,IF(P30>0.8,20,IF(P30>0.7,16,IF(P30>0.6,10,IF(P30>0.5,4,0))))),IF(U30=1,30,IF(U30>0.9,25,IF(U30>0.8,20,IF(U30>0.7,15,IF(U30>0.6,10,IF(U30>0.5,5,0))))))))))) -> 30
A31: 23 | B31: Emina Kurtović Sabljica | D31: GRAĐANSKI | E31: Sudija | F31: =IF(E31="Sudija",1,IF(E31="Stručni saradnik",1,"")) -> 1 | G31: 1 | H31: 01.01.2020 | I31: 31.12.2020 | J31: 262 | L31: 1.2139 | N31: 0.05 | O31: =IF(G31="","",IF(G31="Ne treba raditi na predm.",1+SUM(L31:N31),(SUM(L31:N31)/G31))) -> 1.2639 | P31: =IF(K31>0,O31*(J31/(J31-K31)),O31) -> 1.2639 | U31: =IF(Q31="","",R31/(Q31-S31)) | V31: =IF(P31="","",IF(C31="Ne","",IF(G31="Ne treba raditi na predm.","", IF(P31>1,30,IF(U31="",IF(P31>0.9,25,IF(P31>0.8,20,IF(P31>0.7,16,IF(P31>0.6,10,IF(P31>0.5,4,0))))),IF(U31=1,30,IF(U31>0.9,25,IF(U31>0.8,20,IF(U31>0.7,15,IF(U31>0.6,10,IF(U31>0.5,5,0))))))))))) -> 30
A32: 24 | B32: Emina Tahirović | D32: GRAĐANSKI | E32: Sudija | F32: =IF(E32="Sudija",1,IF(E32="Stručni saradnik",1,"")) -> 1 | G32: 1 | H32: 01.01.2020 | I32: 31.12.2020 | J32: 262 | K32: 1 | L32: 1.1191 | N32: 0.05 | O32: =IF(G32="","",IF(G32="Ne treba raditi na predm.",1+SUM(L32:N32),(SUM(L32:N32)/G32))) -> 1.1691 | P32: =IF(K32>0,O32*(J32/(J32-K32)),O32) -> 1.1735793 | U32: =IF(Q32="","",R32/(Q32-S32)) | V32: =IF(P32="","",IF(C32="Ne","",IF(G32="Ne treba raditi na predm.","", IF(P32>1,30,IF(U32="",IF(P32>0.9,25,IF(P32>0.8,20,IF(P32>0.7,16,IF(P32>0.6,10,IF(P32>0.5,4,0))))),IF(U32=1,30,IF(U32>0.9,25,IF(U32>0.8,20,IF(U32>0.7,15,IF(U32>0.6,10,IF(U32>0.5,5,0))))))))))) -> 30
A33: 25 | B33: Gordana Mičović | D33: GRAĐANSKI | E33: Sudija | F33: =IF(E33="Sudija",1,IF(E33="Stručni saradnik",1,"")) -> 1 | G33: 1 | H33: 01.01.2020 | I33: 31.12.2020 | J33: 262 | K33: 5 | L33: 1.0019 | N33: 0.05 | O33: =IF(G33="","",IF(G33="Ne treba raditi na predm.",1+SUM(L33:N33),(SUM(L33:N33)/G33))) -> 1.0519 | P33: =IF(K33>0,O33*(J33/(J33-K33)),O33) -> 1.072365 | U33: =IF(Q33="","",R33/(Q33-S33)) | V33: =IF(P33="","",IF(C33="Ne","",IF(G33="Ne treba raditi na predm.","", IF(P33>1,30,IF(U33="",IF(P33>0.9,25,IF(P33>0.8,20,IF(P33>0.7,16,IF(P33>0.6,10,IF(P33>0.5,4,0))))),IF(U33=1,30,IF(U33>0.9,25,IF(U33>0.8,20,IF(U33>0.7,15,IF(U33>0.6,10,IF(U33>0.5,5,0))))))))))) -> 30
A34: 26 | B34: Gordana Stojaković | D34: GRAĐANSKI | E34: Sudija | F34: =IF(E34="Sudija",1,IF(E34="Stručni saradnik",1,"")) -> 1 | G34: 1 | H34: 01.01.2020 | I34: 31.12.2020 | J34: 262 | L34: 1.1707 | N34: 0.1 | O34: =IF(G34="","",IF(G34="Ne treba raditi na predm.",1+SUM(L34:N34),(SUM(L34:N34)/G34))) -> 1.2707 | P34: =IF(K34>0,O34*(J34/(J34-K34)),O34) -> 1.2707 | U34: =IF(Q34="","",R34/(Q34-S34)) | V34: =IF(P34="","",IF(C34="Ne","",IF(G34="Ne treba raditi na predm.","", IF(P34>1,30,IF(U34="",IF(P34>0.9,25,IF(P34>0.8,20,IF(P34>0.7,16,IF(P34>0.6,10,IF(P34>0.5,4,0))))),IF(U34=1,30,IF(U34>0.9,25,IF(U34>0.8,20,IF(U34>0.7,15,IF(U34>0.6,10,IF(U34>0.5,5,0))))))))))) -> 30
A35: 27 | B35: Mirsada Dučić Čaušević | D35: GRAĐANSKI | E35: Sudija | F35: =IF(E35="Sudija",1,IF(E35="Stručni saradnik",1,"")) -> 1 | G35: 1 | H35: 01.01.2020 | I35: 31.12.2020 | J35: 262 | K35: 13 | L35: 1.1296 | N35: 0.05 | O35: =IF(G35="","",IF(G35="Ne treba raditi na predm.",1+SUM(L35:N35),(SUM(L35:N35)/G35))) -> 1.1796 | P35: =IF(K35>0,O35*(J35/(J35-K35)),O35) -> 1.2411855 | U35: =IF(Q35="","",R35/(Q35-S35)) | V35: =IF(P35="","",IF(C35="Ne","",IF(G35="Ne treba raditi na predm.","", IF(P35>1,30,IF(U35="",IF(P35>0.9,25,IF(P35>0.8,20,IF(P35>0.7,16,IF(P35>0.6,10,IF(P35>0.5,4,0))))),IF(U35=1,30,IF(U35>0.9,25,IF(U35>0.8,20,IF(U35>0.7,15,IF(U35>0.6,10,IF(U35>0.5,5,0))))))))))) -> 30
A36: 28 | B36: Nađa Seferović | D36: GRAĐANSKI | E36: Sudija | F36: =IF(E36="Sudija",1,IF(E36="Stručni saradnik",1,"")) -> 1 | G36: 1 | H36: 01.01.2020 | I36: 31.12.2020 | J36: 262 | L36: 1.1503 | N36: 0.1 | O36: =IF(G36="","",IF(G36="Ne treba raditi na predm.",1+SUM(L36:N36),(SUM(L36:N36)/G36))) -> 1.2503 | P36: =IF(K36>0,O36*(J36/(J36-K36)),O36) -> 1.2503 | U36: =IF(Q36="","",R36/(Q36-S36)) | V36: =IF(P36="","",IF(C36="Ne","",IF(G36="Ne treba raditi na predm.","", IF(P36>1,30,IF(U36="",IF(P36>0.9,25,IF(P36>0.8,20,IF(P36>0.7,16,IF(P36>0.6,10,IF(P36>0.5,4,0))))),IF(U36=1,30,IF(U36>0.9,25,IF(U36>0.8,20,IF(U36>0.7,15,IF(U36>0.6,10,IF(U36>0.5,5,0))))))))))) -> 30
A37: 29 | B37: Nermina Novalija | D37: GRAĐANSKI | E37: Sudija | F37: =IF(E37="Sudija",1,IF(E37="Stručni saradnik",1,"")) -> 1 | G37: 1 | H37: 01.01.2020 | I37: 31.12.2020 | J37: 262 | K37: 11 | L37: 1.1514 | N37: 0.05 | O37: =IF(G37="","",IF(G37="Ne treba raditi na predm.",1+SUM(L37:N37),(SUM(L37:N37)/G37))) -> 1.2014 | P37: =IF(K37>0,O37*(J37/(J37-K37)),O37) -> 1.254051 | U37: =IF(Q37="","",R37/(Q37-S37)) | V37: =IF(P37="","",IF(C37="Ne","",IF(G37="Ne treba raditi na predm.","", IF(P37>1,30,IF(U37="",IF(P37>0.9,25,IF(P37>0.8,20,IF(P37>0.7,16,IF(P37>0.6,10,IF(P37>0.5,4,0))))),IF(U37=1,30,IF(U37>0.9,25,IF(U37>0.8,20,IF(U37>0.7,15,IF(U37>0.6,10,IF(U37>0.5,5,0))))))))))) -> 30
A38: 30 | B38: Nives Abdagić | D38: GRAĐANSKI | E38: Sudija | F38: =IF(E38="Sudija",1,IF(E38="Stručni saradnik",1,"")) -> 1 | G38: 1 | H38: 01.01.2020 | I38: 31.12.2020 | J38: 262 | K38: 11 | L38: 1.1757 | N38: 0.05 | O38: =IF(G38="","",IF(G38="Ne treba raditi na predm.",1+SUM(L38:N38),(SUM(L38:N38)/G38))) -> 1.2257 | P38: =IF(K38>0,O38*(J38/(J38-K38)),O38) -> 1.2794159 | U38: =IF(Q38="","",R38/(Q38-S38)) | V38: =IF(P38="","",IF(C38="Ne","",IF(G38="Ne treba raditi na predm.","", IF(P38>1,30,IF(U38="",IF(P38>0.9,25,IF(P38>0.8,20,IF(P38>0.7,16,IF(P38>0.6,10,IF(P38>0.5,4,0))))),IF(U38=1,30,IF(U38>0.9,25,IF(U38>0.8,20,IF(U38>0.7,15,IF(U38>0.6,10,IF(U38>0.5,5,0))))))))))) -> 30
A39: 31 | B39: Sanja Jaramaz Dedić | D39: GRAĐANSKI | E39: Sudija | F39: =IF(E39="Sudija",1,IF(E39="Stručni saradnik",1,"")) -> 1 | G39: 1 | H39: 01.01.2020 | I39: 31.12.2020 | J39: 262 | K39: 8 | L39: 1.0198 | N39: 0.1 | O39: =IF(G39="","",IF(G39="Ne treba raditi na predm.",1+SUM(L39:N39),(SUM(L39:N39)/G39))) -> 1.1198 | P39: =IF(K39>0,O39*(J39/(J39-K39)),O39) -> 1.1550693 | U39: =IF(Q39="","",R39/(Q39-S39)) | V39: =IF(P39="","",IF(C39="Ne","",IF(G39="Ne treba raditi na predm.","", IF(P39>1,30,IF(U39="",IF(P39>0.9,25,IF(P39>0.8,20,IF(P39>0.7,16,IF(P39>0.6,10,IF(P39>0.5,4,0))))),IF(U39=1,30,IF(U39>0.9,25,IF(U39>0.8,20,IF(U39>0.7,15,IF(U39>0.6,10,IF(U39>0.5,5,0))))))))))) -> 30
A40: 32 | B40: Silvana Brković Mujagić | D40: GRAĐANSKI | E40: Sudija | F40: =IF(E40="Sudija",1,IF(E40="Stručni saradnik",1,"")) -> 1 | G40: 1 | H40: 01.01.2020 | I40: 31.12.2020 | J40: 262 | K40: 24 | L40: 1.3472 | N40: 0.05 | O40: =IF(G40="","",IF(G40="Ne treba raditi na predm.",1+SUM(L40:N40),(SUM(L40:N40)/G40))) -> 1.3972 | P40: =IF(K40>0,O40*(J40/(J40-K40)),O40) -> 1.5380941 | U40: =IF(Q40="","",R40/(Q40-S40)) | V40: =IF(P40="","",IF(C40="Ne","",IF(G40="Ne treba raditi na predm.","", IF(P40>1,30,IF(U40="",IF(P40>0.9,25,IF(P40>0.8,20,IF(P40>0.7,16,IF(P40>0.6,10,IF(P40>0.5,4,0))))),IF(U40=1,30,IF(U40>0.9,25,IF(U40>0.8,20,IF(U40>0.7,15,IF(U40>0.6,10,IF(U40>0.5,5,0))))))))))) -> 30
A41: 33 | B41: Zinaida Mešković | D41: GRAĐANSKI | E41: Sudija | F41: =IF(E41="Sudija",1,IF(E41="Stručni saradnik",1,"")) -> 1 | G41: 1 | H41: 01.01.2020 | I41: 31.12.2020 | J41: 262 | K41: 87 | L41: 0.6965 | O41: =IF(G41="","",IF(G41="Ne treba raditi na predm.",1+SUM(L41:N41),(SUM(L41:N41)/G41))) -> 0.6965 | P41: =IF(K41>0,O41*(J41/(J41-K41)),O41) -> 1.04276 | U41: =IF(Q41="","",R41/(Q41-S41)) | V41: =IF(P41="","",IF(C41="Ne","",IF(G41="Ne treba raditi na predm.","", IF(P41>1,30,IF(U41="",IF(P41>0.9,25,IF(P41>0.8,20,IF(P41>0.7,16,IF(P41>0.6,10,IF(P41>0.5,4,0))))),IF(U41=1,30,IF(U41>0.9,25,IF(U41>0.8,20,IF(U41>0.7,15,IF(U41>0.6,10,IF(U41>0.5,5,0))))))))))) -> 30
A42: 34 | B42: Zorana Bošković | D42: GRAĐANSKI | E42: Sudija | F42: =IF(E42="Sudija",1,IF(E42="Stručni saradnik",1,"")) -> 1 | G42: 1 | H42: 01.01.2020 | I42: 31.12.2020 | J42: 262 | L42: 1.2405 | N42: 0.05 | O42: =IF(G42="","",IF(G42="Ne treba raditi na predm.",1+SUM(L42:N42),(SUM(L42:N42)/G42))) -> 1.2905 | P42: =IF(K42>0,O42*(J42/(J42-K42)),O42) -> 1.2905 | U42: =IF(Q42="","",R42/(Q42-S42)) | V42: =IF(P42="","",IF(C42="Ne","",IF(G42="Ne treba raditi na predm.","", IF(P42>1,30,IF(U42="",IF(P42>0.9,25,IF(P42>0.8,20,IF(P42>0.7,16,IF(P42>0.6,10,IF(P42>0.5,4,0))))),IF(U42=1,30,IF(U42>0.9,25,IF(U42>0.8,20,IF(U42>0.7,15,IF(U42>0.6,10,IF(U42>0.5,5,0))))))))))) -> 30
A43: 35 | B43: Nasiha Feto | D43: PRIVREDNI | E43: Predsjednik odjela | F43: =IF(E43="Sudija",1,IF(E43="Stručni saradnik",1,"")) | G43: 0.8 | H43: 01.01.2020 | I43: 31.12.2020 | J43: 262 | L43: 1.1165 | O43: =IF(G43="","",IF(G43="Ne treba raditi na predm.",1+SUM(L43:N43),(SUM(L43:N43)/G43))) -> 1.395625 | P43: =IF(K43>0,O43*(J43/(J43-K43)),O43) -> 1.395625 | U43: =IF(Q43="","",R43/(Q43-S43)) | V43: =IF(P43="","",IF(C43="Ne","",IF(G43="Ne treba raditi na predm.","", IF(P43>1,30,IF(U43="",IF(P43>0.9,25,IF(P43>0.8,20,IF(P43>0.7,16,IF(P43>0.6,10,IF(P43>0.5,4,0))))),IF(U43=1,30,IF(U43>0.9,25,IF(U43>0.8,20,IF(U43>0.7,15,IF(U43>0.6,10,IF(U43>0.5,5,0))))))))))) -> 30
A44: 36 | B44: Jasmina Muratović | D44: PRIVREDNI | E44: Sudija | F44: =IF(E44="Sudija",1,IF(E44="Stručni saradnik",1,"")) -> 1 | G44: 1 | H44: 01.01.2020 | I44: 31.12.2020 | J44: 262 | L44: 1.303 | N44: 0.05 | O44: =IF(G44="","",IF(G44="Ne treba raditi na predm.",1+SUM(L44:N44),(SUM(L44:N44)/G44))) -> 1.353 | P44: =IF(K44>0,O44*(J44/(J44-K44)),O44) -> 1.353 | U44: =IF(Q44="","",R44/(Q44-S44)) | V44: =IF(P44="","",IF(C44="Ne","",IF(G44="Ne treba raditi na predm.","", IF(P44>1,30,IF(U44="",IF(P44>0.9,25,IF(P44>0.8,20,IF(P44>0.7,16,IF(P44>0.6,10,IF(P44>0.5,4,0))))),IF(U44=1,30,IF(U44>0.9,25,IF(U44>0.8,20,IF(U44>0.7,15,IF(U44>0.6,10,IF(U44>0.5,5,0))))))))))) -> 30
A45: 37 | B45: Samra Akova | D45: PRIVREDNI | E45: Sudija | F45: =IF(E45="Sudija",1,IF(E45="Stručni saradnik",1,"")) -> 1 | G45: 1 | H45: 01.01.2020 | I45: 31.12.2020 | J45: 262 | L45: 1.1264 | N45: 0.05 | O45: =IF(G45="","",IF(G45="Ne treba raditi na predm.",1+SUM(L45:N45),(SUM(L45:N45)/G45))) -> 1.1764 | P45: =IF(K45>0,O45*(J45/(J45-K45)),O45) -> 1.1764 | U45: =IF(Q45="","",R45/(Q45-S45)) | V45: =IF(P45="","",IF(C45="Ne","",IF(G45="Ne treba raditi na predm.","", IF(P45>1,30,IF(U45="",IF(P45>0.9,25,IF(P45>0.8,20,IF(P45>0.7,16,IF(P45>0.6,10,IF(P45>0.5,4,0))))),IF(U45=1,30,IF(U45>0.9,25,IF(U45>0.8,20,IF(U45>0.7,15,IF(U45>0.6,10,IF(U45>0.5,5,0))))))))))) -> 30
A46: 38 | B46: Amela Selimović Fazlagić | D46: PRIVREDNI | E46: Sudija | F46: =IF(E46="Sudija",1,IF(E46="Stručni saradnik",1,"")) -> 1 | G46: 1 | H46: 01.01.2020 | I46: 31.12.2020 | J46: 262 | L46: 1.0053 | N46: 0.05 | O46: =IF(G46="","",IF(G46="Ne treba raditi na predm.",1+SUM(L46:N46),(SUM(L46:N46)/G46))) -> 1.0553 | P46: =IF(K46>0,O46*(J46/(J46-K46)),O46) -> 1.0553 | U46: =IF(Q46="","",R46/(Q46-S46)) | V46: =IF(P46="","",IF(C46="Ne","",IF(G46="Ne treba raditi na predm.","", IF(P46>1,30,IF(U46="",IF(P46>0.9,25,IF(P46>0.8,20,IF(P46>0.7,16,IF(P46>0.6,10,IF(P46>0.5,4,0))))),IF(U46=1,30,IF(U46>0.9,25,IF(U46>0.8,20,IF(U46>0.7,15,IF(U46>0.6,10,IF(U46>0.5,5,0))))))))))) -> 30
A47: 39 | B47: Jasenka Potogija | D47: PRIVREDNI | E47: Sudija | F47: =IF(E47="Sudija",1,IF(E47="Stručni saradnik",1,"")) -> 1 | G47: 1 | H47: 01.01.2020 | I47: 31.12.2020 | J47: 262 | K47: 18 | L47: 1.0165 | N47: 0.1 | O47: =IF(G47="","",IF(G47="Ne treba raditi na predm.",1+SUM(L47:N47),(SUM(L47:N47)/G47))) -> 1.1165 | P47: =IF(K47>0,O47*(J47/(J47-K47)),O47) -> 1.1988648 | U47: =IF(Q47="","",R47/(Q47-S47)) | V47: =IF(P47="","",IF(C47="Ne","",IF(G47="Ne treba raditi na predm.","", IF(P47>1,30,IF(U47="",IF(P47>0.9,25,IF(P47>0.8,20,IF(P47>0.7,16,IF(P47>0.6,10,IF(P47>0.5,4,0))))),IF(U47=1,30,IF(U47>0.9,25,IF(U47>0.8,20,IF(U47>0.7,15,IF(U47>0.6,10,IF(U47>0.5,5,0))))))))))) -> 30
A48: 40 | B48: Anabela Bogdan | D48: PRIVREDNI | E48: Sudija | F48: =IF(E48="Sudija",1,IF(E48="Stručni saradnik",1,"")) -> 1 | G48: 1 | H48: 15.10.2020 | I48: 31.12.2020 | J48: 55 | K48: 19 | L48: 0.3794 | O48: =IF(G48="","",IF(G48="Ne treba raditi na predm.",1+SUM(L48:N48),(SUM(L48:N48)/G48))) -> 0.3794 | P48: =IF(K48>0,O48*(J48/(J48-K48)),O48) -> 0.57963889 | U48: =IF(Q48="","",R48/(Q48-S48)) | V48: =IF(P48="","",IF(C48="Ne","",IF(G48="Ne treba raditi na predm.","", IF(P48>1,30,IF(U48="",IF(P48>0.9,25,IF(P48>0.8,20,IF(P48>0.7,16,IF(P48>0.6,10,IF(P48>0.5,4,0))))),IF(U48=1,30,IF(U48>0.9,25,IF(U48>0.8,20,IF(U48>0.7,15,IF(U48>0.6,10,IF(U48>0.5,5,0))))))))))) -> 4
A49: 41 | B49: Esma Jusić | D49: PRIVREDNI | E49: Sudija | F49: =IF(E49="Sudija",1,IF(E49="Stručni saradnik",1,"")) -> 1 | G49: 1 | H49: 01.01.2020 | I49: 09.10.2020 | J49: 203 | L49: 0.3686 | O49: =IF(G49="","",IF(G49="Ne treba raditi na predm.",1+SUM(L49:N49),(SUM(L49:N49)/G49))) -> 0.3686 | P49: =IF(K49>0,O49*(J49/(J49-K49)),O49) -> 0.3686 | U49: =IF(Q49="","",R49/(Q49-S49)) | V49: =IF(P49="","",IF(C49="Ne","",IF(G49="Ne treba raditi na predm.","", IF(P49>1,30,IF(U49="",IF(P49>0.9,25,IF(P49>0.8,20,IF(P49>0.7,16,IF(P49>0.6,10,IF(P49>0.5,4,0))))),IF(U49=1,30,IF(U49>0.9,25,IF(U49>0.8,20,IF(U49>0.7,15,IF(U49>0.6,10,IF(U49>0.5,5,0))))))))))) -> 0
A50: 42 | B50: Melika Murtezić | D50: KRIVIČNI | E50: Sudija | F50: =IF(E50="Sudija",1,IF(E50="Stručni saradnik",1,"")) -> 1 | G50: 1 | H50: 15.10.2020 | I50: 31.12.2020 | J50: 55 | L50: 0.6061 | O50: =IF(G50="","",IF(G50="Ne treba raditi na predm.",1+SUM(L50:N50),(SUM(L50:N50)/G50))) -> 0.6061 | P50: =IF(K50>0,O50*(J50/(J50-K50)),O50) -> 0.6061 | U50: =IF(Q50="","",R50/(Q50-S50)) | V50: =IF(P50="","",IF(C50="Ne","",IF(G50="Ne treba raditi na predm.","", IF(P50>1,30,IF(U50="",IF(P50>0.9,25,IF(P50>0.8,20,IF(P50>0.7,16,IF(P50>0.6,10,IF(P50>0.5,4,0))))),IF(U50=1,30,IF(U50>0.9,25,IF(U50>0.8,20,IF(U50>0.7,15,IF(U50>0.6,10,IF(U50>0.5,5,0))))))))))) -> 10
A51: 43 | F51: =IF(E51="Sudija",1,IF(E51="Stručni saradnik",1,"")) | J51: 262 | O51: =IF(G51="","",IF(G51="Ne treba raditi na predm.",1+SUM(L51:N51),(SUM(L51:N51)/G51))) | P51: =IF(K51>0,O51*(J51/(J51-K51)),O51) | U51: =IF(Q51="","",R51/(Q51-S51)) | V51: =IF(P51="","",IF(C51="Ne","",IF(G51="Ne treba raditi na predm.","", IF(P51>1,30,IF(U51="",IF(P51>0.9,25,IF(P51>0.8,20,IF(P51>0.7,16,IF(P51>0.6,10,IF(P51>0.5,4,0))))),IF(U51=1,30,IF(U51>0.9,25,IF(U51>0.8,20,IF(U51>0.7,15,IF(U51>0.6,10,IF(U51>0.5,5,0)))))))))))
A52: 44 | F52: =IF(E52="Sudija",1,IF(E52="Stručni saradnik",1,"")) | J52: 262 | O52: =IF(G52="","",IF(G52="Ne treba raditi na predm.",1+SUM(L52:N52),(SUM(L52:N52)/G52))) | P52: =IF(K52>0,O52*(J52/(J52-K52)),O52) | U52: =IF(Q52="","",R52/(Q52-S52)) | V52: =IF(P52="","",IF(C52="Ne","",IF(G52="Ne treba raditi na predm.","", IF(P52>1,30,IF(U52="",IF(P52>0.9,25,IF(P52>0.8,20,IF(P52>0.7,16,IF(P52>0.6,10,IF(P52>0.5,4,0))))),IF(U52=1,30,IF(U52>0.9,25,IF(U52>0.8,20,IF(U52>0.7,15,IF(U52>0.6,10,IF(U52>0.5,5,0)))))))))))
A53: 45 | F53: =IF(E53="Sudija",1,IF(E53="Stručni saradnik",1,"")) | J53: 262 | O53: =IF(G53="","",IF(G53="Ne treba raditi na predm.",1+SUM(L53:N53),(SUM(L53:N53)/G53))) | P53: =IF(K53>0,O53*(J53/(J53-K53)),O53) | U53: =IF(Q53="","",R53/(Q53-S53)) | V53: =IF(P53="","",IF(C53="Ne","",IF(G53="Ne treba raditi na predm.","", IF(P53>1,30,IF(U53="",IF(P53>0.9,25,IF(P53>0.8,20,IF(P53>0.7,16,IF(P53>0.6,10,IF(P53>0.5,4,0))))),IF(U53=1,30,IF(U53>0.9,25,IF(U53>0.8,20,IF(U53>0.7,15,IF(U53>0.6,10,IF(U53>0.5,5,0)))))))))))
A54: 46 | F54: =IF(E54="Sudija",1,IF(E54="Stručni saradnik",1,"")) | J54: 262 | O54: =IF(G54="","",IF(G54="Ne treba raditi na predm.",1+SUM(L54:N54),(SUM(L54:N54)/G54))) | P54: =IF(K54>0,O54*(J54/(J54-K54)),O54) | U54: =IF(Q54="","",R54/(Q54-S54)) | V54: =IF(P54="","",IF(C54="Ne","",IF(G54="Ne treba raditi na predm.","", IF(P54>1,30,IF(U54="",IF(P54>0.9,25,IF(P54>0.8,20,IF(P54>0.7,16,IF(P54>0.6,10,IF(P54>0.5,4,0))))),IF(U54=1,30,IF(U54>0.9,25,IF(U54>0.8,20,IF(U54>0.7,15,IF(U54>0.6,10,IF(U54>0.5,5,0)))))))))))
A55: 47 | F55: =IF(E55="Sudija",1,IF(E55="Stručni saradnik",1,"")) | J55: 262 | O55: =IF(G55="","",IF(G55="Ne treba raditi na predm.",1+SUM(L55:N55),(SUM(L55:N55)/G55))) | P55: =IF(K55>0,O55*(J55/(J55-K55)),O55) | U55: =IF(Q55="","",R55/(Q55-S55)) | V55: =IF(P55="","",IF(C55="Ne","",IF(G55="Ne treba raditi na predm.","", IF(P55>1,30,IF(U55="",IF(P55>0.9,25,IF(P55>0.8,20,IF(P55>0.7,16,IF(P55>0.6,10,IF(P55>0.5,4,0))))),IF(U55=1,30,IF(U55>0.9,25,IF(U55>0.8,20,IF(U55>0.7,15,IF(U55>0.6,10,IF(U55>0.5,5,0)))))))))))
A56: 48 | F56: =IF(E56="Sudija",1,IF(E56="Stručni saradnik",1,"")) | J56: 262 | O56: =IF(G56="","",IF(G56="Ne treba raditi na predm.",1+SUM(L56:N56),(SUM(L56:N56)/G56))) | P56: =IF(K56>0,O56*(J56/(J56-K56)),O56) | U56: =IF(Q56="","",R56/(Q56-S56)) | V56: =IF(P56="","",IF(C56="Ne","",IF(G56="Ne treba raditi na predm.","", IF(P56>1,30,IF(U56="",IF(P56>0.9,25,IF(P56>0.8,20,IF(P56>0.7,16,IF(P56>0.6,10,IF(P56>0.5,4,0))))),IF(U56=1,30,IF(U56>0.9,25,IF(U56>0.8,20,IF(U56>0.7,15,IF(U56>0.6,10,IF(U56>0.5,5,0)))))))))))
A57: 49 | F57: =IF(E57="Sudija",1,IF(E57="Stručni saradnik",1,"")) | J57: 262 | O57: =IF(G57="","",IF(G57="Ne treba raditi na predm.",1+SUM(L57:N57),(SUM(L57:N57)/G57))) | P57: =IF(K57>0,O57*(J57/(J57-K57)),O57) | U57: =IF(Q57="","",R57/(Q57-S57)) | V57: =IF(P57="","",IF(C57="Ne","",IF(G57="Ne treba raditi na predm.","", IF(P57>1,30,IF(U57="",IF(P57>0.9,25,IF(P57>0.8,20,IF(P57>0.7,16,IF(P57>0.6,10,IF(P57>0.5,4,0))))),IF(U57=1,30,IF(U57>0.9,25,IF(U57>0.8,20,IF(U57>0.7,15,IF(U57>0.6,10,IF(U57>0.5,5,0)))))))))))
A58: 50 | F58: =IF(E58="Sudija",1,IF(E58="Stručni saradnik",1,"")) | J58: 262 | O58: =IF(G58="","",IF(G58="Ne treba raditi na predm.",1+SUM(L58:N58),(SUM(L58:N58)/G58))) | P58: =IF(K58>0,O58*(J58/(J58-K58)),O58) | U58: =IF(Q58="","",R58/(Q58-S58)) | V58: =IF(P58="","",IF(C58="Ne","",IF(G58="Ne treba raditi na predm.","", IF(P58>1,30,IF(U58="",IF(P58>0.9,25,IF(P58>0.8,20,IF(P58>0.7,16,IF(P58>0.6,10,IF(P58>0.5,4,0))))),IF(U58=1,30,IF(U58>0.9,25,IF(U58>0.8,20,IF(U58>0.7,15,IF(U58>0.6,10,IF(U58>0.5,5,0)))))))))))
A59: 51 | F59: =IF(E59="Sudija",1,IF(E59="Stručni saradnik",1,"")) | J59: 262 | O59: =IF(G59="","",IF(G59="Ne treba raditi na predm.",1+SUM(L59:N59),(SUM(L59:N59)/G59))) | P59: =IF(K59>0,O59*(J59/(J59-K59)),O59) | U59: =IF(Q59="","",R59/(Q59-S59)) | V59: =IF(P59="","",IF(C59="Ne","",IF(G59="Ne treba raditi na predm.","", IF(P59>1,30,IF(U59="",IF(P59>0.9,25,IF(P59>0.8,20,IF(P59>0.7,16,IF(P59>0.6,10,IF(P59>0.5,4,0))))),IF(U59=1,30,IF(U59>0.9,25,IF(U59>0.8,20,IF(U59>0.7,15,IF(U59>0.6,10,IF(U59>0.5,5,0)))))))))))
A60: 52 | F60: =IF(E60="Sudija",1,IF(E60="Stručni saradnik",1,"")) | J60: 262 | O60: =IF(G60="","",IF(G60="Ne treba raditi na predm.",1+SUM(L60:N60),(SUM(L60:N60)/G60))) | P60: =IF(K60>0,O60*(J60/(J60-K60)),O60) | U60: =IF(Q60="","",R60/(Q60-S60)) | V60: =IF(P60="","",IF(C60="Ne","",IF(G60="Ne treba raditi na predm.","", IF(P60>1,30,IF(U60="",IF(P60>0.9,25,IF(P60>0.8,20,IF(P60>0.7,16,IF(P60>0.6,10,IF(P60>0.5,4,0))))),IF(U60=1,30,IF(U60>0.9,25,IF(U60>0.8,20,IF(U60>0.7,15,IF(U60>0.6,10,IF(U60>0.5,5,0)))))))))))
A61: 53 | F61: =IF(E61="Sudija",1,IF(E61="Stručni saradnik",1,"")) | J61: 262 | O61: =IF(G61="","",IF(G61="Ne treba raditi na predm.",1+SUM(L61:N61),(SUM(L61:N61)/G61))) | P61: =IF(K61>0,O61*(J61/(J61-K61)),O61) | U61: =IF(Q61="","",R61/(Q61-S61)) | V61: =IF(P61="","",IF(C61="Ne","",IF(G61="Ne treba raditi na predm.","", IF(P61>1,30,IF(U61="",IF(P61>0.9,25,IF(P61>0.8,20,IF(P61>0.7,16,IF(P61>0.6,10,IF(P61>0.5,4,0))))),IF(U61=1,30,IF(U61>0.9,25,IF(U61>0.8,20,IF(U61>0.7,15,IF(U61>0.6,10,IF(U61>0.5,5,0)))))))))))
A62: 54 | F62: =IF(E62="Sudija",1,IF(E62="Stručni saradnik",1,"")) | J62: 262 | O62: =IF(G62="","",IF(G62="Ne treba raditi na predm.",1+SUM(L62:N62),(SUM(L62:N62)/G62))) | P62: =IF(K62>0,O62*(J62/(J62-K62)),O62) | U62: =IF(Q62="","",R62/(Q62-S62)) | V62: =IF(P62="","",IF(C62="Ne","",IF(G62="Ne treba raditi na predm.","", IF(P62>1,30,IF(U62="",IF(P62>0.9,25,IF(P62>0.8,20,IF(P62>0.7,16,IF(P62>0.6,10,IF(P62>0.5,4,0))))),IF(U62=1,30,IF(U62>0.9,25,IF(U62>0.8,20,IF(U62>0.7,15,IF(U62>0.6,10,IF(U62>0.5,5,0)))))))))))
... A73: 65 | F73: =IF(E73="Sudija",1,IF(E73="Stručni saradnik",1,"")) | J73: 262 | O73: =IF(G73="","",IF(G73="Ne treba raditi na predm.",1+SUM(L73:N73),(SUM(L73:N73)/G73))) | P73: =IF(K73>0,O73*(J73/(J73-K73)),O73) | U73: =IF(Q73="","",R73/(Q73-S73)) | V73: =IF(P73="","",IF(C73="Ne","",IF(G73="Ne treba raditi na predm.","", IF(P73>1,30,IF(U73="",IF(P73>0.9,25,IF(P73>0.8,20,IF(P73>0.7,16,IF(P73>0.6,10,IF(P73>0.5,4,0))))),IF(U73=1,30,IF(U73>0.9,25,IF(U73>0.8,20,IF(U73>0.7,15,IF(U73>0.6,10,IF(U73>0.5,5,0)))))))))))
A74: 66 | B74: Sanela Kovač Grabonjić | D74: GRAĐANSKI | E74: Predsjednik odjela | F74: =IF(E74="Sudija",1,IF(E74="Stručni saradnik",1,"")) | G74: 0.6 | H74: 01.01.2020 | I74: 14.10.2020 | J74: 206 | L74: 0.9522 | O74: =IF(G74="","",IF(G74="Ne treba raditi na predm.",1+SUM(L74:N74),(SUM(L74:N74)/G74))) -> 1.587 | P74: =IF(K74>0,O74*(J74/(J74-K74)),O74) -> 1.587 | U74: =IF(Q74="","",R74/(Q74-S74)) | V74: =IF(P74="","",IF(C74="Ne","",IF(G74="Ne treba raditi na predm.","", IF(P74>1,30,IF(U74="",IF(P74>0.9,25,IF(P74>0.8,20,IF(P74>0.7,16,IF(P74>0.6,10,IF(P74>0.5,4,0))))),IF(U74=1,30,IF(U74>0.9,25,IF(U74>0.8,20,IF(U74>0.7,15,IF(U74>0.6,10,IF(U74>0.5,5,0))))))))))) -> 30
A75: 67 | B75: Haris Jusufbašić | D75: GRAĐANSKI | E75: Predsjednik odjela | F75: =IF(E75="Sudija",1,IF(E75="Stručni saradnik",1,"")) | G75: 0.95 | H75: 01.01.2020 | I75: 31.12.2020 | J75: 262 | L75: 1.0905 | N75: 0.05 | O75: =IF(G75="","",IF(G75="Ne treba raditi na predm.",1+SUM(L75:N75),(SUM(L75:N75)/G75))) -> 1.2005263 | P75: =IF(K75>0,O75*(J75/(J75-K75)),O75) -> 1.2005263 | U75: =IF(Q75="","",R75/(Q75-S75)) | V75: =IF(P75="","",IF(C75="Ne","",IF(G75="Ne treba raditi na predm.","", IF(P75>1,30,IF(U75="",IF(P75>0.9,25,IF(P75>0.8,20,IF(P75>0.7,16,IF(P75>0.6,10,IF(P75>0.5,4,0))))),IF(U75=1,30,IF(U75>0.9,25,IF(U75>0.8,20,IF(U75>0.7,15,IF(U75>0.6,10,IF(U75>0.5,5,0))))))))))) -> 30
B76: Amina Begović | D76: GRAĐANSKI | E76: Sudija | F76: =IF(E76="Sudija",1,IF(E76="Stručni saradnik",1,"")) -> 1 | G76: 0.8333 | H76: 01.01.2020 | I76: 31.12.2020 | J76: 262 | L76: 1.0039 | N76: 0.05 | O76: =IF(G76="","",IF(G76="Ne treba raditi na predm.",1+SUM(L76:N76),(SUM(L76:N76)/G76))) -> 1.2647306 | P76: =IF(K76>0,O76*(J76/(J76-K76)),O76) -> 1.2647306 | U76: =IF(Q76="","",R76/(Q76-S76)) | V76: =IF(P76="","",IF(C76="Ne","",IF(G76="Ne treba raditi na predm.","", IF(P76>1,30,IF(U76="",IF(P76>0.9,25,IF(P76>0.8,20,IF(P76>0.7,16,IF(P76>0.6,10,IF(P76>0.5,4,0))))),IF(U76=1,30,IF(U76>0.9,25,IF(U76>0.8,20,IF(U76>0.7,15,IF(U76>0.6,10,IF(U76>0.5,5,0))))))))))) -> 30
F77: =IF(E77="Sudija",1,IF(E77="Stručni saradnik",1,"")) | J77: 262 | O77: =IF(G77="","",IF(G77="Ne treba raditi na predm.",1+SUM(L77:N77),(SUM(L77:N77)/G77))) | P77: =IF(K77>0,O77*(J77/(J77-K77)),O77) | U77: =IF(Q77="","",R77/(Q77-S77)) | V77: =IF(P77="","",IF(C77="Ne","",IF(G77="Ne treba raditi na predm.","", IF(P77>1,30,IF(U77="",IF(P77>0.9,25,IF(P77>0.8,20,IF(P77>0.7,16,IF(P77>0.6,10,IF(P77>0.5,4,0))))),IF(U77=1,30,IF(U77>0.9,25,IF(U77>0.8,20,IF(U77>0.7,15,IF(U77>0.6,10,IF(U77>0.5,5,0)))))))))))
F78: =IF(E78="Sudija",1,IF(E78="Stručni saradnik",1,"")) | J78: 262 | O78: =IF(G78="","",IF(G78="Ne treba raditi na predm.",1+SUM(L78:N78),(SUM(L78:N78)/G78))) | P78: =IF(K78>0,O78*(J78/(J78-K78)),O78) | U78: =IF(Q78="","",R78/(Q78-S78)) | V78: =IF(P78="","",IF(C78="Ne","",IF(G78="Ne treba raditi na predm.","", IF(P78>1,30,IF(U78="",IF(P78>0.9,25,IF(P78>0.8,20,IF(P78>0.7,16,IF(P78>0.6,10,IF(P78>0.5,4,0))))),IF(U78=1,30,IF(U78>0.9,25,IF(U78>0.8,20,IF(U78>0.7,15,IF(U78>0.6,10,IF(U78>0.5,5,0)))))))))))
F79: =IF(E79="Sudija",1,IF(E79="Stručni saradnik",1,"")) | J79: 262 | O79: =IF(G79="","",IF(G79="Ne treba raditi na predm.",1+SUM(L79:N79),(SUM(L79:N79)/G79))) | P79: =IF(K79>0,O79*(J79/(J79-K79)),O79) | U79: =IF(Q79="","",R79/(Q79-S79)) | V79: =IF(P79="","",IF(C79="Ne","",IF(G79="Ne treba raditi na predm.","", IF(P79>1,30,IF(U79="",IF(P79>0.9,25,IF(P79>0.8,20,IF(P79>0.7,16,IF(P79>0.6,10,IF(P79>0.5,4,0))))),IF(U79=1,30,IF(U79>0.9,25,IF(U79>0.8,20,IF(U79>0.7,15,IF(U79>0.6,10,IF(U79>0.5,5,0)))))))))))
F80: =IF(E80="Sudija",1,IF(E80="Stručni saradnik",1,"")) | J80: 262 | O80: =IF(G80="","",IF(G80="Ne treba raditi na predm.",1+SUM(L80:N80),(SUM(L80:N80)/G80))) | P80: =IF(K80>0,O80*(J80/(J80-K80)),O80) | U80: =IF(Q80="","",R80/(Q80-S80)) | V80: =IF(P80="","",IF(C80="Ne","",IF(G80="Ne treba raditi na predm.","", IF(P80>1,30,IF(U80="",IF(P80>0.9,25,IF(P80>0.8,20,IF(P80>0.7,16,IF(P80>0.6,10,IF(P80>0.5,4,0))))),IF(U80=1,30,IF(U80>0.9,25,IF(U80>0.8,20,IF(U80>0.7,15,IF(U80>0.6,10,IF(U80>0.5,5,0)))))))))))
F81: =IF(E81="Sudija",1,IF(E81="Stručni saradnik",1,"")) | J81: 262 | O81: =IF(G81="","",IF(G81="Ne treba raditi na predm.",1+SUM(L81:N81),(SUM(L81:N81)/G81))) | P81: =IF(K81>0,O81*(J81/(J81-K81)),O81) | U81: =IF(Q81="","",R81/(Q81-S81)) | V81: =IF(P81="","",IF(C81="Ne","",IF(G81="Ne treba raditi na predm.","", IF(P81>1,30,IF(U81="",IF(P81>0.9,25,IF(P81>0.8,20,IF(P81>0.7,16,IF(P81>0.6,10,IF(P81>0.5,4,0))))),IF(U81=1,30,IF(U81>0.9,25,IF(U81>0.8,20,IF(U81>0.7,15,IF(U81>0.6,10,IF(U81>0.5,5,0)))))))))))
F82: =IF(E82="Sudija",1,IF(E82="Stručni saradnik",1,"")) | J82: 262 | O82: =IF(G82="","",IF(G82="Ne treba raditi na predm.",1+SUM(L82:N82),(SUM(L82:N82)/G82))) | P82: =IF(K82>0,O82*(J82/(J82-K82)),O82) | U82: =IF(Q82="","",R82/(Q82-S82)) | V82: =IF(P82="","",IF(C82="Ne","",IF(G82="Ne treba raditi na predm.","", IF(P82>1,30,IF(U82="",IF(P82>0.9,25,IF(P82>0.8,20,IF(P82>0.7,16,IF(P82>0.6,10,IF(P82>0.5,4,0))))),IF(U82=1,30,IF(U82>0.9,25,IF(U82>0.8,20,IF(U82>0.7,15,IF(U82>0.6,10,IF(U82>0.5,5,0)))))))))))
F83: =IF(E83="Sudija",1,IF(E83="Stručni saradnik",1,"")) | J83: 262 | O83: =IF(G83="","",IF(G83="Ne treba raditi na predm.",1+SUM(L83:N83),(SUM(L83:N83)/G83))) | P83: =IF(K83>0,O83*(J83/(J83-K83)),O83) | U83: =IF(Q83="","",R83/(Q83-S83)) | V83: =IF(P83="","",IF(C83="Ne","",IF(G83="Ne treba raditi na predm.","", IF(P83>1,30,IF(U83="",IF(P83>0.9,25,IF(P83>0.8,20,IF(P83>0.7,16,IF(P83>0.6,10,IF(P83>0.5,4,0))))),IF(U83=1,30,IF(U83>0.9,25,IF(U83>0.8,20,IF(U83>0.7,15,IF(U83>0.6,10,IF(U83>0.5,5,0)))))))))))
O84: Ukupno ostvarena norma u ovom sudu sudija koji su odlukom VSTV BiH privremeno upućeni na obavljanje sudijske dužnosti | P84: 3.5257
O85: KOLEKTIVNA NORMA SUDA | P85: =IF(P8="",IF(P9="","",SUM(P8:P84)/COUNTIF(P8:P83,">0")),SUM(P8:P84)/COUNTIF(P8:P83,">0")) -> 1.2440071 | Q85: =SUM(Q8:Q83) -> 0 | R85: =SUM(R8:R83) -> 0 | S85: =SUM(S8:S83) -> 0 | T85: =SUM(T8:T83) -> 0 | U85: =IF(Q85=0,"",R85/(Q85-S85))
O86: BODOVANJE ZA OSTVARENU KOLEKTIVNU NORMU SUDA U SKLADU SA ČLANOM 11. STAV (2) KRITERIJA ZA OCJENJIVANJE RADA PREDSJEDNIKA SUDOVA I PREDSJEDNIKA SUDSKIH ODJELJENJA U BiH | P86: =IF(#REF!="","",IF(#REF!>1,30,IF(#REF!>0.95,28,IF(#REF!>0.9,24,IF(#REF!>0.85,20,IF(#REF!>0.8,16,IF(#REF!>0.75,12,IF(#REF!>0.7,8,IF(#REF!>0.5,4,0))))))))) -> #REF!
O87: BODOVANJE ZA OSTVARENU KOLEKTIVNU NORMU SUDA U SKLADU SA ČLANOM 11. STAV (3) KRITERIJA ZA OCJENJIVANJE RADA PREDSJEDNIKA SUDOVA I PREDSJEDNIKA SUDSKIH ODJELJENJA U BiH | P87: =IF(#REF!="","",IF(#REF!>1,60,IF(#REF!>0.95,56,IF(#REF!>0.9,48,IF(#REF!>0.85,40,IF(#REF!>0.8,32,IF(#REF!>0.75,24,IF(#REF!>0.7,16,IF(#REF!>0.5,8,0))))))))) -> #REF!
B89: Obrazloženje norme NPF-a unesene u plava polja
B90: Primjer - Sudija 1 | D90: 8 mjeseci sudija, 4 mjeseca šef odjela (90% norme sudije) | G90: 0.97
B91: Sanela Kovač Grabonjić | D91: 9 mjeseci predsjednik odjela | G91: 0.6
B92: Haris Jusufbašić | D92: 9 mjeseci sudija , 3 mjeseca šef odjela | G92: 0.95
B93: Amina Begović | D93: 10 mjeseci sudija, 2 mjeseca zamjenik pred.suda | G93: 0.8333
A102: NAPOMENA 1: Ostvarena kolektivna norma suda automatski se obračunava. U obračun kolektivne norme suda ulazi i norma koju su ostvarile sudije koje su odlukom VSTV BiH privremeno upućeni na obavljanje sudijske dužnosti u ovaj sud. Potrebno je u polje P84 unijeti procenat ukupno ostvarene norme "upućenih sudija" npr. Sudija 1 je, rješavajući predmete ovog suda, ostvario normu u CMS-u 12,50%, Sudija 2 je ostvario normu 15,67% i Sudija 3 je ostvario normu 25.18%. U polje P84 se unosi zbir ovih normi 53,35% tj. 12,50%+15,67%+25,18%=53,35%. Ukoliko sud nije imao dovoljan broj predmeta u radu za ostvarenje orijentacijske norme, potrebno je manuelno unijeti ukupan broj predmeta koji su bili u radu u sudu kao i ukupan broj riješenih predmeta u sudu u periodu izvještavanja, kao i podatke o broju neriješenih predmeta sa zakonskim i procesnim smetnjama i broju neriješenih predmeta bez zakonskih i procesnih smetnji. Procenat riješenih predmeta automatski će se obračunati. U kolonu "broj neriješenih predmeta sa zakonskim i procesnim smetnjama" unose se i predmeti koji nisu mogli biti riješeni s obzirom na vrijeme zaprimanja u sud i zakonom propisane rokove za preduzimanje radnji u predmetu. | Q102: Nedovoljan broj predmeta u radu
Q103: broj predmeta u radu | R103: broj riješenih predmeta | S103: broj neriješenih predmeta sa zakonskim i procesnim smetnjama | T103: broj neriješenih predmeta bez zakonskih i procesnih smetnji | U103: procenat riješenih predmeta
U104: =IF(Q104="","",R104/(Q104-S104))
T105: BODOVANJE ZA BROJ RIJEŠENIH PREDMETA U SUDU U SKLADU SA ČLANOM 12. STAV (1) KRITERIJA ZA OCJENJIVANJE RADA PREDSJEDNIKA SUDOVA I PREDSJEDNIKA SUDSKIH ODJELJENJA U BiH | U105: =IF(U104="","",IF(U104=1,30,IF(U104>0.95,28,IF(U104>0.9,24,IF(U104>0.85,20,IF(U104>0.8,16,IF(U104>0.75,12,IF(U104>0.7,8,IF(U104>0.5,4,0)))))))))
T106: BODOVANJE ZA BROJ RIJEŠENIH PREDMETA U SUDU U SKLADU SA ČLANOM 12. STAV (2) KRITERIJA ZA OCJENJIVANJE RADA PREDSJEDNIKA SUDOVA I PREDSJEDNIKA SUDSKIH ODJELJENJA U BiH | U106: =IF(U104="","",IF(U104=1,60,IF(U104>0.95,56,IF(U104>0.9,48,IF(U104>0.85,40,IF(U104>0.8,32,IF(U104>0.75,24,IF(U104>0.7,16,IF(U104>0.5,8,0)))))))))
A109: Tabela IIb -Obračun norme za nosioce pravosudne funkcije koji su u toku godine prešli iz jednog suda u drugi sud, ako su funkciju obavljali u sudovima istog nivoa - Obračun prema Instrukciji dio: II POSEBNI SLUČAJEVI IZVJEŠTAVANJA 3) a) - (pogledati NAPOMENU 4) i koji su odlukom VSTV BiH privremeno upućeni na obavljanje sudijske dužnosti u drugi sud (pogledati NAPOMENU 4a)
A110: Ime i prezime predsjednika suda | O110: Ukupna ostvarena orijentacijska norma = | P110: =P111+P112 -> 0
A111: Sud 1 | E111: Predsjednik suda | O111: =IF(G111="",0,IF(G111="Ne treba raditi na predm.",1+SUM(L111:N111),(SUM(L111:N111)/G111))) -> 0 | P111: =IF(K111>0,O111*(J111/(J111-K111)),O111) -> 0 | U111: =IF(Q111="","",R111/(Q111-S111)) | V111: =IF(P111="","",IF(C111="Ne","",IF(G111="Ne treba raditi na predm.","",IF((P111+P112)>1,10,IF(U111="",IF((P111+P112)>0.9,8,IF((P111+P112)>0.8,6,IF((P111+P112)>0.7,4,IF((P111+P112)>0.6,2,0)))),IF((U111+U112)=1,10,IF((U111+U112)>0.9,8,IF((U111+U112)>0.8,6,IF((U111+U112)>0.7,5,IF((U111+U112)>0.6,4,IF((U111+U112)>0.5,2,0))))))))))) -> 0
A112: Sud 2 | F112: =IF(E112="Sudija",1,IF(E112="Stručni saradnik",1,"")) | O112: =IF(G112="",0,IF(G112="Ne treba raditi na predm.",1+SUM(L112:N112),(SUM(L112:N112)/G112))) -> 0 | P112: =IF(K112>0,O112*(J112/(J112-K112)),O112) -> 0 | U112: =IF(Q112="","",R112/(Q112-S112)) | V112: =IF(P111="","",IF(C112="Ne","",IF(G112="Ne treba raditi na predm.","", IF((P111+P112)>1,30,IF(U111="",IF((P111+P112)>0.9,25,IF((P111+P112)>0.8,20,IF((P111+P112)>0.7,16,IF((P111+P112)>0.6,10,IF((P111+P112)>0.5,4,0))))),IF((U111+U112)=1,30,IF((U111+U112)>0.9,25,IF((U111+U112)>0.8,20,IF((U111+U112)>0.7,15,IF((U111+U112)>0.6,10,IF((U111+U112)>0.5,5,0))))))))))) -> 0
A113: Ime i prezime nosioca pravosudne funkcije | O113: Ukupna ostvarena orijentacijska norma = | P113: =P114+P115 -> 0
A114: Sud 1 | F114: =IF(E114="Sudija",1,IF(E114="Stručni saradnik",1,"")) | O114: =IF(G114="",0,IF(G114="Ne treba raditi na predm.",1+SUM(L114:N114),(SUM(L114:N114)/G114))) -> 0 | P114: =IF(K114>0,O114*(J114/(J114-K114)),O114) -> 0 | U114: =IF(Q114="","",R114/(Q114-S114)) | V114: =IF(P114="","",IF(C114="Ne","",IF(G114="Ne treba raditi na predm.","", IF((P114+P115)>1,30,IF(U114="",IF((P114+P115)>0.9,25,IF((P114+P115)>0.8,20,IF((P114+P115)>0.7,16,IF((P114+P115)>0.6,10,IF((P114+P115)>0.5,4,0))))),IF((U114+U115)=1,30,IF((U114+U115)>0.9,25,IF((U114+U115)>0.8,20,IF((U114+U115)>0.7,15,IF((U114+U115)>0.6,10,IF((U114+U115)>0.5,5,0))))))))))) -> 0
A115: Sud 2 | F115: =IF(E115="Sudija",1,IF(E115="Stručni saradnik",1,"")) | O115: =IF(G115="",0,IF(G115="Ne treba raditi na predm.",1+SUM(L115:N115),(SUM(L115:N115)/G115))) -> 0 | P115: =IF(K115>0,O115*(J115/(J115-K115)),O115) -> 0 | U115: =IF(Q115="","",R115/(Q115-S115)) | V115: =IF(P114="","",IF(C115="Ne","",IF(G115="Ne treba raditi na predm.","", IF((P114+P115)>1,30,IF(U114="",IF((P114+P115)>0.9,25,IF((P114+P115)>0.8,20,IF((P114+P115)>0.7,16,IF((P114+P115)>0.6,10,IF((P114+P115)>0.5,4,0))))),IF((U114+U115)=1,30,IF((U114+U115)>0.9,25,IF((U114+U115)>0.8,20,IF((U114+U115)>0.7,15,IF((U114+U115)>0.6,10,IF((U114+U115)>0.5,5,0))))))))))) -> 0
A116: Ime i prezime nosioca pravosudne funkcije | O116: Ukupna ostvarena orijentacijska norma = | P116: =P117+P118 -> 0
A117: Sud 1 | F117: =IF(E117="Sudija",1,IF(E117="Stručni saradnik",1,"")) | O117: =IF(G117="",0,IF(G117="Ne treba raditi na predm.",1+SUM(L117:N117),(SUM(L117:N117)/G117))) -> 0 | P117: =IF(K117>0,O117*(J117/(J117-K117)),O117) -> 0 | U117: =IF(Q117="","",R117/(Q117-S117)) | V117: =IF(P117="","",IF(C117="Ne","",IF(G117="Ne treba raditi na predm.","", IF((P117+P118)>1,30,IF(U117="",IF((P117+P118)>0.9,25,IF((P117+P118)>0.8,20,IF((P117+P118)>0.7,16,IF((P117+P118)>0.6,10,IF((P117+P118)>0.5,4,0))))),IF((U117+U118)=1,30,IF((U117+U118)>0.9,25,IF((U117+U118)>0.8,20,IF((U117+U118)>0.7,15,IF((U117+U118)>0.6,10,IF((U117+U118)>0.5,5,0))))))))))) -> 0
A118: Sud 2 | F118: =IF(E118="Sudija",1,IF(E118="Stručni saradnik",1,"")) | O118: =IF(G118="",0,IF(G118="Ne treba raditi na predm.",1+SUM(L118:N118),(SUM(L118:N118)/G118))) -> 0 | P118: =IF(K118>0,O118*(J118/(J118-K118)),O118) -> 0 | U118: =IF(Q118="","",R118/(Q118-S118)) | V118: =IF(P117="","",IF(C118="Ne","",IF(G118="Ne treba raditi na predm.","", IF((P117+P118)>1,30,IF(U117="",IF((P117+P118)>0.9,25,IF((P117+P118)>0.8,20,IF((P117+P118)>0.7,16,IF((P117+P118)>0.6,10,IF((P117+P118)>0.5,4,0))))),IF((U117+U118)=1,30,IF((U117+U118)>0.9,25,IF((U117+U118)>0.8,20,IF((U117+U118)>0.7,15,IF((U117+U118)>0.6,10,IF((U117+U118)>0.5,5,0))))))))))) -> 0
A119: Ime i prezime nosioca pravosudne funkcije | O119: Ukupna ostvarena orijentacijska norma = | P119: =P120+P121 -> 0
A120: Sud 1 | F120: =IF(E120="Sudija",1,IF(E120="Stručni saradnik",1,"")) | O120: =IF(G120="",0,IF(G120="Ne treba raditi na predm.",1+SUM(L120:N120),(SUM(L120:N120)/G120))) -> 0 | P120: =IF(K120>0,O120*(J120/(J120-K120)),O120) -> 0 | U120: =IF(Q120="","",R120/(Q120-S120)) | V120: =IF(P120="","",IF(C120="Ne","",IF(G120="Ne treba raditi na predm.","", IF((P120+P121)>1,30,IF(U120="",IF((P120+P121)>0.9,25,IF((P120+P121)>0.8,20,IF((P120+P121)>0.7,16,IF((P120+P121)>0.6,10,IF((P120+P121)>0.5,4,0))))),IF((U120+U121)=1,30,IF((U120+U121)>0.9,25,IF((U120+U121)>0.8,20,IF((U120+U121)>0.7,15,IF((U120+U121)>0.6,10,IF((U120+U121)>0.5,5,0))))))))))) -> 0
A121: Sud 2 | F121: =IF(E121="Sudija",1,IF(E121="Stručni saradnik",1,"")) | O121: =IF(G121="",0,IF(G121="Ne treba raditi na predm.",1+SUM(L121:N121),(SUM(L121:N121)/G121))) -> 0 | P121: =IF(K121>0,O121*(J121/(J121-K121)),O121) -> 0 | U121: =IF(Q121="","",R121/(Q121-S121)) | V121: =IF(P120="","",IF(C121="Ne","",IF(G121="Ne treba raditi na predm.","", IF((P120+P121)>1,30,IF(U120="",IF((P120+P121)>0.9,25,IF((P120+P121)>0.8,20,IF((P120+P121)>0.7,16,IF((P120+P121)>0.6,10,IF((P120+P121)>0.5,4,0))))),IF((U120+U121)=1,30,IF((U120+U121)>0.9,25,IF((U120+U121)>0.8,20,IF((U120+U121)>0.7,15,IF((U120+U121)>0.6,10,IF((U120+U121)>0.5,5,0))))))))))) -> 0
A122: Ime i prezime nosioca pravosudne funkcije | O122: Ukupna ostvarena orijentacijska norma = | P122: =P123+P124 -> 0
...

Sheet Tabela III
A1: =+'Tabela I'!A1 -> Kantonalni/Okružni sud: | C1: ='Tabela I'!C1 -> KANTONALNI SUD U SARAJEVU | E1: =+'Tabela I'!C1 -> KANTONALNI SUD U SARAJEVU
A2: Izvještajni period: | C2: =+'Tabela I'!B2 -> 1.1.2020.-31.12.2020. | E2: =+'Tabela I'!B2 -> 1.1.2020.-31.12.2020.
A3: Tabela IIIa - Kvalitet sudskih odluka po nosiocima pravosudnih funkcija - Elektronski obrazac za obračun kvaliteta odluka (pogledati NAPOMENU 2 i 3)
A6: Redni broj | B6: Ime i prezime - podatak je automatski prenesen iz Tabele IIa - OBAVEZNO ZADRŽATI REDOSLIJED NPF-a iz Tabele IIa | C6: Naziv odjela - podatak je automatski prenesen iz Tabele IIa - OBAVEZNO ZADRŽATI REDOSLIJED NPF-a iz Tabele IIa | D6: Pravosudna funkcija - podatak je automatski prenesen iz Tabele IIa - OBAVEZNO ZADRŽATI REDOSLIJED NPF-a iz Tabele IIa | E6: Ocijenjen / Nije ocijenjen u sudu | F6: Ukupan broj donesenih odluka na koje se može izjaviti pravni lijek | G6: Ukupan broj ožalbenih odluka | H6: Broj odbačenih pravnih lijekova*** | I6: Broj potvrđenih odluka | J6: Broj preinačenih odluka | K6: Broj preinačenih odluka donijetih na raspravi ili na pretresu pred višim sudom**** | L6: Broj ukinutih odluka | M6: Broj djelimično ukinutih odluka | N6: Kvalitet sudskih odluka prema članu 18. stav (1) tačka a) Kriterija (S) i članu 17. stav (1) Kriterija (PS i PSO) | O6: Broj ostvarenih bodova za kvalitet prema članu 18. stav (1) tačka a) Kriterija (S) i članu 17. stav (1) Kriterija (PS i PSO) | P6: Kvalitet sudskih odluka prema članu 18. stav (1) tačka b) Kriterija (S) i članu 17. stav (2) Kriterija (PS i PSO) | Q6: Broj ostvarenih bodova za kvalitet prema članu 18. stav 1. tačka b) Kriterija (S) i članu 17. stav (2) Kriterija (PS i PSO) | R6: UKUPAN broj ostvarenih bodova za kvalitet sudskih odluka | S6: Kvalitet sudskih odluka
I7: Odbijen pravni lijek
A8: I | B8: II | C8: III | D8: IV | E8: V | F8: V | G8: VI | H8: VII | I8: VIII | J8: IX | K8: X | L8: XI | M8: XII | N8: XIV | O8: XV | P8: XVI | Q8: XVII | R8: XVIII | S8: XIII
A10: 1 | B10: =IF('Tabela II'!B8="","",'Tabela II'!B8) -> Vladimir Špoljarić | D10: Predsjednik suda * | G10: =SUM(I10:M10) -> 0 | N10: =IF(E10="","",IF(E10="Nije ocijenjen ili Ne treba raditi na predmetima","",IF(E10="Ocijenjen",IF(G10<10,"Član 18. stav 7. Kriterija",(L10+(M10/2))/(G10))))) | O10: =IF(E10="","",IF(E10="Nije ocijenjen ili Ne treba raditi na predmetima","",IF(E10="Ocijenjen",IF(N10="Član 18. stav 7. Kriterija","",IF(N10>0.4,0,IF(N10>0.3,1,IF(N10>0.2,2,IF(N10>0.1,3,IF(N10>0.05,4,IF(N10<=0.05,5,)))))))))) | P10: =IF(E10="","",IF(E10="Nije ocijenjen ili Ne treba raditi na predmetima","",IF(E10="Ocijenjen",IF(F10=0,"",((L10+K10+(M10/2))/(F10)))))) | Q10: =IF(E10="","",IF(E10="Nije ocijenjen ili Ne treba raditi na predmetima","",IF(E10="Ocijenjen",IF(P10>0.2,0,IF(P10>0.15,1,IF(P10>0.1,2,IF(P10>0.06,3,IF(P10>0.03,4,IF(P10<=0.03,5,))))))))) | R10: =IF(E10="","",IF(E10="Nije ocijenjen ili Ne treba raditi na predmetima","",IF(E10="Ocijenjen",IF(N10="Član 18. stav 7. Kriterija",Q10,O10+Q10)))) | S10: =IF(F10=0,"",IF(F10=0,1,0.83*((G10-L10-M10/2)/G10)+0.17*((F10-K10-L10-M10/2)/F10))) | V10: Ocijenjen
A11: 2 | B11: =IF('Tabela II'!B10="","",'Tabela II'!B10) -> Adisa Zahiragić | C11: =IF('Tabela II'!D10="","",'Tabela II'!D10) -> KRIVIĆNI | D11: =IF('Tabela II'!E10="","",'Tabela II'!E10) -> Predsjednik odjela | F11: 7 | G11: =SUM(I11:M11) -> 6 | H11: 0 | I11: 4 | J11: 0 | L11: 2 | M11: 0 | N11: =IF(E11="","",IF(E11="Nije ocijenjen","",IF(E11="Ocijenjen",IF(G11<10,"Član 18. stav 7. Kriterija",(L11+(M11/2))/(G11))))) | O11: =IF(E11="","",IF(E11="Nije ocijenjen","",IF(E11="Ocijenjen",IF(N11="Član 18. stav 7. Kriterija","",IF(N11>0.4,0,IF(N11>0.3,5,IF(N11>0.2,10,IF(N11>0.1,15,IF(N11>0.05,20,IF(N11<=0.05,25,)))))))))) | P11: =IF(E11="","",IF(E11="Nije ocijenjen","",IF(E11="Ocijenjen",IF(F11=0,"",((L11+K11+(M11/2))/(F11)))))) | Q11: =IF(E11="","",IF(E11="Nije ocijenjen","",IF(E11="Ocijenjen",IF(P11>0.2,0,IF(P11>0.15,1,IF(P11>0.1,2,IF(P11>0.06,3,IF(P11>0.03,4,IF(P11<=0.03,5,))))))))) | R11: =IF(E11="","",IF(E11="Nije ocijenjen","",IF(E11="Ocijenjen",IF(N11="Član 18. stav 7. Kriterija",Q11,O11+Q11)))) | S11: =IF(F11=0,"",IF(F11=0,1,0.83*((G11-L11-M11/2)/G11)+0.17*((F11-K11-L11-M11/2)/F11))) -> 0.6747619 | T11: Sudija | V11: Nije ocijenjen
A12: 3 | B12: =IF('Tabela II'!B11="","",'Tabela II'!B11) -> Jasenko Ružić | C12: =IF('Tabela II'!D11="","",'Tabela II'!D11) -> KRIVIČNI | D12: =IF('Tabela II'!E11="","",'Tabela II'!E11) -> Sudija | F12: 69 | G12: =SUM(I12:M12) -> 44 | H12: 0 | I12: 37 | J12: 0 | L12: 7 | M12: 0 | N12: =IF(E12="","",IF(E12="Nije ocijenjen","",IF(E12="Ocijenjen",IF(G12<10,"Član 18. stav 7. Kriterija",(L12+(M12/2))/(G12))))) | O12: =IF(E12="","",IF(E12="Nije ocijenjen","",IF(E12="Ocijenjen",IF(N12="Član 18. stav 7. Kriterija","",IF(N12>0.4,0,IF(N12>0.3,5,IF(N12>0.2,10,IF(N12>0.1,15,IF(N12>0.05,20,IF(N12<=0.05,25,)))))))))) | P12: =IF(E12="","",IF(E12="Nije ocijenjen","",IF(E12="Ocijenjen",IF(F12=0,"",((L12+K12+(M12/2))/(F12)))))) | Q12: =IF(E12="","",IF(E12="Nije ocijenjen","",IF(E12="Ocijenjen",IF(P12>0.2,0,IF(P12>0.15,1,IF(P12>0.1,2,IF(P12>0.06,3,IF(P12>0.03,4,IF(P12<=0.03,5,))))))))) | R12: =IF(E12="","",IF(E12="Nije ocijenjen","",IF(E12="Ocijenjen",IF(N12="Član 18. stav 7. Kriterija",Q12,O12+Q12)))) | S12: =IF(F12=0,"",IF(F12=0,1,0.83*((G12-L12-M12/2)/G12)+0.17*((F12-K12-L12-M12/2)/F12))) -> 0.85070817 | T12: Stručni saradnik
A13: 4 | B13: =IF('Tabela II'!B12="","",'Tabela II'!B12) -> Indira Jahić | C13: =IF('Tabela II'!D12="","",'Tabela II'!D12) -> KRIVIČNI | D13: =IF('Tabela II'!E12="","",'Tabela II'!E12) -> Sudija | F13: 94 | G13: =SUM(I13:M13) -> 49 | H13: 0 | I13: 41 | J13: 0 | L13: 7 | M13: 1 | N13: =IF(E13="","",IF(E13="Nije ocijenjen","",IF(E13="Ocijenjen",IF(G13<10,"Član 18. stav 7. Kriterija",(L13+(M13/2))/(G13))))) | O13: =IF(E13="","",IF(E13="Nije ocijenjen","",IF(E13="Ocijenjen",IF(N13="Član 18. stav 7. Kriterija","",IF(N13>0.4,0,IF(N13>0.3,5,IF(N13>0.2,10,IF(N13>0.1,15,IF(N13>0.05,20,IF(N13<=0.05,25,)))))))))) | P13: =IF(E13="","",IF(E13="Nije ocijenjen","",IF(E13="Ocijenjen",IF(F13=0,"",((L13+K13+(M13/2))/(F13)))))) | Q13: =IF(E13="","",IF(E13="Nije ocijenjen","",IF(E13="Ocijenjen",IF(P13>0.2,0,IF(P13>0.15,1,IF(P13>0.1,2,IF(P13>0.06,3,IF(P13>0.03,4,IF(P13<=0.03,5,))))))))) | R13: =IF(E13="","",IF(E13="Nije ocijenjen","",IF(E13="Ocijenjen",IF(N13="Član 18. stav 7. Kriterija",Q13,O13+Q13)))) | S13: =IF(F13=0,"",IF(F13=0,1,0.83*((G13-L13-M13/2)/G13)+0.17*((F13-K13-L13-M13/2)/F13))) -> 0.85939535 | T13: Predsjednik odjela
A14: 5 | B14: =IF('Tabela II'!B13="","",'Tabela II'!B13) -> Igor Todorović | C14: =IF('Tabela II'!D13="","",'Tabela II'!D13) -> KRIVIČNI | D14: =IF('Tabela II'!E13="","",'Tabela II'!E13) -> Sudija | F14: 84 | G14: =SUM(I14:M14) -> 42 | H14: 0 | I14: 34 | J14: 3 | L14: 5 | M14: 0 | N14: =IF(E14="","",IF(E14="Nije ocijenjen","",IF(E14="Ocijenjen",IF(G14<10,"Član 18. stav 7. Kriterija",(L14+(M14/2))/(G14))))) | O14: =IF(E14="","",IF(E14="Nije ocijenjen","",IF(E14="Ocijenjen",IF(N14="Član 18. stav 7. Kriterija","",IF(N14>0.4,0,IF(N14>0.3,5,IF(N14>0.2,10,IF(N14>0.1,15,IF(N14>0.05,20,IF(N14<=0.05,25,)))))))))) | P14: =IF(E14="","",IF(E14="Nije ocijenjen","",IF(E14="Ocijenjen",IF(F14=0,"",((L14+K14+(M14/2))/(F14)))))) | Q14: =IF(E14="","",IF(E14="Nije ocijenjen","",IF(E14="Ocijenjen",IF(P14>0.2,0,IF(P14>0.15,1,IF(P14>0.1,2,IF(P14>0.06,3,IF(P14>0.03,4,IF(P14<=0.03,5,))))))))) | R14: =IF(E14="","",IF(E14="Nije ocijenjen","",IF(E14="Ocijenjen",IF(N14="Član 18. stav 7. Kriterija",Q14,O14+Q14)))) | S14: =IF(F14=0,"",IF(F14=0,1,0.83*((G14-L14-M14/2)/G14)+0.17*((F14-K14-L14-M14/2)/F14))) -> 0.89107143 | T14: Predsjednik sudskog vijeća vrhovnog suda entiteta
A15: 6 | B15: =IF('Tabela II'!B14="","",'Tabela II'!B14) -> Elvira Begović | C15: =IF('Tabela II'!D14="","",'Tabela II'!D14) -> KRIVIČNI | D15: =IF('Tabela II'!E14="","",'Tabela II'!E14) -> Sudija | F15: 74 | G15: =SUM(I15:M15) -> 48 | H15: 0 | I15: 44 | J15: 1 | L15: 3 | M15: 0 | N15: =IF(E15="","",IF(E15="Nije ocijenjen","",IF(E15="Ocijenjen",IF(G15<10,"Član 18. stav 7. Kriterija",(L15+(M15/2))/(G15))))) | O15: =IF(E15="","",IF(E15="Nije ocijenjen","",IF(E15="Ocijenjen",IF(N15="Član 18. stav 7. Kriterija","",IF(N15>0.4,0,IF(N15>0.3,5,IF(N15>0.2,10,IF(N15>0.1,15,IF(N15>0.05,20,IF(N15<=0.05,25,)))))))))) | P15: =IF(E15="","",IF(E15="Nije ocijenjen","",IF(E15="Ocijenjen",IF(F15=0,"",((L15+K15+(M15/2))/(F15)))))) | Q15: =IF(E15="","",IF(E15="Nije ocijenjen","",IF(E15="Ocijenjen",IF(P15>0.2,0,IF(P15>0.15,1,IF(P15>0.1,2,IF(P15>0.06,3,IF(P15>0.03,4,IF(P15<=0.03,5,))))))))) | R15: =IF(E15="","",IF(E15="Nije ocijenjen","",IF(E15="Ocijenjen",IF(N15="Član 18. stav 7. Kriterija",Q15,O15+Q15)))) | S15: =IF(F15=0,"",IF(F15=0,1,0.83*((G15-L15-M15/2)/G15)+0.17*((F15-K15-L15-M15/2)/F15))) -> 0.94123311 | T15: Član VSTV-a
A16: 7 | B16: =IF('Tabela II'!B15="","",'Tabela II'!B15) -> Sanela Rondić | C16: =IF('Tabela II'!D15="","",'Tabela II'!D15) -> KRIVIČNI | D16: =IF('Tabela II'!E15="","",'Tabela II'!E15) -> Sudija | F16: 98 | G16: =SUM(I16:M16) -> 58 | H16: 0 | I16: 55 | J16: 0 | L16: 3 | M16: 0 | N16: =IF(E16="","",IF(E16="Nije ocijenjen","",IF(E16="Ocijenjen",IF(G16<10,"Član 18. stav 7. Kriterija",(L16+(M16/2))/(G16))))) | O16: =IF(E16="","",IF(E16="Nije ocijenjen","",IF(E16="Ocijenjen",IF(N16="Član 18. stav 7. Kriterija","",IF(N16>0.4,0,IF(N16>0.3,5,IF(N16>0.2,10,IF(N16>0.1,15,IF(N16>0.05,20,IF(N16<=0.05,25,)))))))))) | P16: =IF(E16="","",IF(E16="Nije ocijenjen","",IF(E16="Ocijenjen",IF(F16=0,"",((L16+K16+(M16/2))/(F16)))))) | Q16: =IF(E16="","",IF(E16="Nije ocijenjen","",IF(E16="Ocijenjen",IF(P16>0.2,0,IF(P16>0.15,1,IF(P16>0.1,2,IF(P16>0.06,3,IF(P16>0.03,4,IF(P16<=0.03,5,))))))))) | R16: =IF(E16="","",IF(E16="Nije ocijenjen","",IF(E16="Ocijenjen",IF(N16="Član 18. stav 7. Kriterija",Q16,O16+Q16)))) | S16: =IF(F16=0,"",IF(F16=0,1,0.83*((G16-L16-M16/2)/G16)+0.17*((F16-K16-L16-M16/2)/F16))) -> 0.95186488
A17: 8 | B17: =IF('Tabela II'!B16="","",'Tabela II'!B16) -> Rozita Šimić | C17: =IF('Tabela II'!D16="","",'Tabela II'!D16) -> KRIVIČNI | D17: =IF('Tabela II'!E16="","",'Tabela II'!E16) -> Sudija | F17: 79 | G17: =SUM(I17:M17) -> 46 | H17: 0 | I17: 31 | J17: 1 | L17: 12 | M17: 2 | N17: =IF(E17="","",IF(E17="Nije ocijenjen","",IF(E17="Ocijenjen",IF(G17<10,"Član 18. stav 7. Kriterija",(L17+(M17/2))/(G17))))) | O17: =IF(E17="","",IF(E17="Nije ocijenjen","",IF(E17="Ocijenjen",IF(N17="Član 18. stav 7. Kriterija","",IF(N17>0.4,0,IF(N17>0.3,5,IF(N17>0.2,10,IF(N17>0.1,15,IF(N17>0.05,20,IF(N17<=0.05,25,)))))))))) | P17: =IF(E17="","",IF(E17="Nije ocijenjen","",IF(E17="Ocijenjen",IF(F17=0,"",((L17+K17+(M17/2))/(F17)))))) | Q17: =IF(E17="","",IF(E17="Nije ocijenjen","",IF(E17="Ocijenjen",IF(P17>0.2,0,IF(P17>0.15,1,IF(P17>0.1,2,IF(P17>0.06,3,IF(P17>0.03,4,IF(P17<=0.03,5,))))))))) | R17: =IF(E17="","",IF(E17="Nije ocijenjen","",IF(E17="Ocijenjen",IF(N17="Član 18. stav 7. Kriterija",Q17,O17+Q17)))) | S17: =IF(F17=0,"",IF(F17=0,1,0.83*((G17-L17-M17/2)/G17)+0.17*((F17-K17-L17-M17/2)/F17))) -> 0.7374601 | V17: Ocijenjen
A18: 9 | B18: =IF('Tabela II'!B17="","",'Tabela II'!B17) -> Žana Knežević | C18: =IF('Tabela II'!D17="","",'Tabela II'!D17) -> KRIVIČNI | D18: =IF('Tabela II'!E17="","",'Tabela II'!E17) -> Sudija | F18: 98 | G18: =SUM(I18:M18) -> 41 | H18: 0 | I18: 39 | J18: 0 | L18: 0 | M18: 2 | N18: =IF(E18="","",IF(E18="Nije ocijenjen","",IF(E18="Ocijenjen",IF(G18<10,"Član 18. stav 7. Kriterija",(L18+(M18/2))/(G18))))) | O18: =IF(E18="","",IF(E18="Nije ocijenjen","",IF(E18="Ocijenjen",IF(N18="Član 18. stav 7. Kriterija","",IF(N18>0.4,0,IF(N18>0.3,5,IF(N18>0.2,10,IF(N18>0.1,15,IF(N18>0.05,20,IF(N18<=0.05,25,)))))))))) | P18: =IF(E18="","",IF(E18="Nije ocijenjen","",IF(E18="Ocijenjen",IF(F18=0,"",((L18+K18+(M18/2))/(F18)))))) | Q18: =IF(E18="","",IF(E18="Nije ocijenjen","",IF(E18="Ocijenjen",IF(P18>0.2,0,IF(P18>0.15,1,IF(P18>0.1,2,IF(P18>0.06,3,IF(P18>0.03,4,IF(P18<=0.03,5,))))))))) | R18: =IF(E18="","",IF(E18="Nije ocijenjen","",IF(E18="Ocijenjen",IF(N18="Član 18. stav 7. Kriterija",Q18,O18+Q18)))) | S18: =IF(F18=0,"",IF(F18=0,1,0.83*((G18-L18-M18/2)/G18)+0.17*((F18-K18-L18-M18/2)/F18))) -> 0.9780214 | V18: Nije ocijenjen ili Ne treba raditi na predmetima
A19: 10 | B19: =IF('Tabela II'!B18="","",'Tabela II'!B18) -> Danijela Mikić | C19: =IF('Tabela II'!D18="","",'Tabela II'!D18) -> UPRAVNI | D19: =IF('Tabela II'!E18="","",'Tabela II'!E18) -> Predsjednik odjela | F19: 217 | G19: =SUM(I19:M19) -> 29 | H19: 4 | I19: 27 | J19: 2 | L19: 0 | M19: 0 | N19: =IF(E19="","",IF(E19="Nije ocijenjen","",IF(E19="Ocijenjen",IF(G19<10,"Član 18. stav 7. Kriterija",(L19+(M19/2))/(G19))))) | O19: =IF(E19="","",IF(E19="Nije ocijenjen","",IF(E19="Ocijenjen",IF(N19="Član 18. stav 7. Kriterija","",IF(N19>0.4,0,IF(N19>0.3,5,IF(N19>0.2,10,IF(N19>0.1,15,IF(N19>0.05,20,IF(N19<=0.05,25,)))))))))) | P19: =IF(E19="","",IF(E19="Nije ocijenjen","",IF(E19="Ocijenjen",IF(F19=0,"",((L19+K19+(M19/2))/(F19)))))) | Q19: =IF(E19="","",IF(E19="Nije ocijenjen","",IF(E19="Ocijenjen",IF(P19>0.2,0,IF(P19>0.15,1,IF(P19>0.1,2,IF(P19>0.06,3,IF(P19>0.03,4,IF(P19<=0.03,5,))))))))) | R19: =IF(E19="","",IF(E19="Nije ocijenjen","",IF(E19="Ocijenjen",IF(N19="Član 18. stav 7. Kriterija",Q19,O19+Q19)))) | S19: =IF(F19=0,"",IF(F19=0,1,0.83*((G19-L19-M19/2)/G19)+0.17*((F19-K19-L19-M19/2)/F19))) -> 1
A20: 11 | B20: =IF('Tabela II'!B19="","",'Tabela II'!B19) -> Aida Salčinović Kuljanin | C20: =IF('Tabela II'!D19="","",'Tabela II'!D19) -> UPRAVNI | D20: =IF('Tabela II'!E19="","",'Tabela II'!E19) -> Sudija | F20: 196 | G20: =SUM(I20:M20) -> 23 | H20: 6 | I20: 23 | J20: 0 | L20: 0 | M20: 0 | N20: =IF(E20="","",IF(E20="Nije ocijenjen","",IF(E20="Ocijenjen",IF(G20<10,"Član 18. stav 7. Kriterija",(L20+(M20/2))/(G20))))) | O20: =IF(E20="","",IF(E20="Nije ocijenjen","",IF(E20="Ocijenjen",IF(N20="Član 18. stav 7. Kriterija","",IF(N20>0.4,0,IF(N20>0.3,5,IF(N20>0.2,10,IF(N20>0.1,15,IF(N20>0.05,20,IF(N20<=0.05,25,)))))))))) | P20: =IF(E20="","",IF(E20="Nije ocijenjen","",IF(E20="Ocijenjen",IF(F20=0,"",((L20+K20+(M20/2))/(F20)))))) | Q20: =IF(E20="","",IF(E20="Nije ocijenjen","",IF(E20="Ocijenjen",IF(P20>0.2,0,IF(P20>0.15,1,IF(P20>0.1,2,IF(P20>0.06,3,IF(P20>0.03,4,IF(P20<=0.03,5,))))))))) | R20: =IF(E20="","",IF(E20="Nije ocijenjen","",IF(E20="Ocijenjen",IF(N20="Član 18. stav 7. Kriterija",Q20,O20+Q20)))) | S20: =IF(F20=0,"",IF(F20=0,1,0.83*((G20-L20-M20/2)/G20)+0.17*((F20-K20-L20-M20/2)/F20))) -> 1
A21: 12 | B21: =IF('Tabela II'!B20="","",'Tabela II'!B20) -> Aida Šabanović | C21: =IF('Tabela II'!D20="","",'Tabela II'!D20) -> UPRAVNI | D21: =IF('Tabela II'!E20="","",'Tabela II'!E20) -> Sudija | F21: 219 | G21: =SUM(I21:M21) -> 35 | H21: 4 | I21: 29 | J21: 5 | L21: 1 | M21: 0 | N21: =IF(E21="","",IF(E21="Nije ocijenjen","",IF(E21="Ocijenjen",IF(G21<10,"Član 18. stav 7. Kriterija",(L21+(M21/2))/(G21))))) | O21: =IF(E21="","",IF(E21="Nije ocijenjen","",IF(E21="Ocijenjen",IF(N21="Član 18. stav 7. Kriterija","",IF(N21>0.4,0,IF(N21>0.3,5,IF(N21>0.2,10,IF(N21>0.1,15,IF(N21>0.05,20,IF(N21<=0.05,25,)))))))))) | P21: =IF(E21="","",IF(E21="Nije ocijenjen","",IF(E21="Ocijenjen",IF(F21=0,"",((L21+K21+(M21/2))/(F21)))))) | Q21: =IF(E21="","",IF(E21="Nije ocijenjen","",IF(E21="Ocijenjen",IF(P21>0.2,0,IF(P21>0.15,1,IF(P21>0.1,2,IF(P21>0.06,3,IF(P21>0.03,4,IF(P21<=0.03,5,))))))))) | R21: =IF(E21="","",IF(E21="Nije ocijenjen","",IF(E21="Ocijenjen",IF(N21="Član 18. stav 7. Kriterija",Q21,O21+Q21)))) | S21: =IF(F21=0,"",IF(F21=0,1,0.83*((G21-L21-M21/2)/G21)+0.17*((F21-K21-L21-M21/2)/F21))) -> 0.97550946
A22: 13 | B22: =IF('Tabela II'!B21="","",'Tabela II'!B21) -> Rada Bjeljac | C22: =IF('Tabela II'!D21="","",'Tabela II'!D21) -> UPRAVNI | D22: =IF('Tabela II'!E21="","",'Tabela II'!E21) -> Sudija | F22: 162 | G22: =SUM(I22:M22) -> 12 | H22: 1 | I22: 11 | J22: 1 | L22: 0 | M22: 0 | N22: =IF(E22="","",IF(E22="Nije ocijenjen","",IF(E22="Ocijenjen",IF(G22<10,"Član 18. stav 7. Kriterija",(L22+(M22/2))/(G22))))) | O22: =IF(E22="","",IF(E22="Nije ocijenjen","",IF(E22="Ocijenjen",IF(N22="Član 18. stav 7. Kriterija","",IF(N22>0.4,0,IF(N22>0.3,5,IF(N22>0.2,10,IF(N22>0.1,15,IF(N22>0.05,20,IF(N22<=0.05,25,)))))))))) | P22: =IF(E22="","",IF(E22="Nije ocijenjen","",IF(E22="Ocijenjen",IF(F22=0,"",((L22+K22+(M22/2))/(F22)))))) | Q22: =IF(E22="","",IF(E22="Nije ocijenjen","",IF(E22="Ocijenjen",IF(P22>0.2,0,IF(P22>0.15,1,IF(P22>0.1,2,IF(P22>0.06,3,IF(P22>0.03,4,IF(P22<=0.03,5,))))))))) | R22: =IF(E22="","",IF(E22="Nije ocijenjen","",IF(E22="Ocijenjen",IF(N22="Član 18. stav 7. Kriterija",Q22,O22+Q22)))) | S22: =IF(F22=0,"",IF(F22=0,1,0.83*((G22-L22-M22/2)/G22)+0.17*((F22-K22-L22-M22/2)/F22))) -> 1
A23: 14 | B23: =IF('Tabela II'!B22="","",'Tabela II'!B22) -> Slavica Džaferović | C23: =IF('Tabela II'!D22="","",'Tabela II'!D22) -> UPRAVNI | D23: =IF('Tabela II'!E22="","",'Tabela II'!E22) -> Sudija | F23: 226 | G23: =SUM(I23:M23) -> 19 | H23: 6 | I23: 18 | J23: 0 | L23: 1 | M23: 0 | N23: =IF(E23="","",IF(E23="Nije ocijenjen","",IF(E23="Ocijenjen",IF(G23<10,"Član 18. stav 7. Kriterija",(L23+(M23/2))/(G23))))) | O23: =IF(E23="","",IF(E23="Nije ocijenjen","",IF(E23="Ocijenjen",IF(N23="Član 18. stav 7. Kriterija","",IF(N23>0.4,0,IF(N23>0.3,5,IF(N23>0.2,10,IF(N23>0.1,15,IF(N23>0.05,20,IF(N23<=0.05,25,)))))))))) | P23: =IF(E23="","",IF(E23="Nije ocijenjen","",IF(E23="Ocijenjen",IF(F23=0,"",((L23+K23+(M23/2))/(F23)))))) | Q23: =IF(E23="","",IF(E23="Nije ocijenjen","",IF(E23="Ocijenjen",IF(P23>0.2,0,IF(P23>0.15,1,IF(P23>0.1,2,IF(P23>0.06,3,IF(P23>0.03,4,IF(P23<=0.03,5,))))))))) | R23: =IF(E23="","",IF(E23="Nije ocijenjen","",IF(E23="Ocijenjen",IF(N23="Član 18. stav 7. Kriterija",Q23,O23+Q23)))) | S23: =IF(F23=0,"",IF(F23=0,1,0.83*((G23-L23-M23/2)/G23)+0.17*((F23-K23-L23-M23/2)/F23))) -> 0.95556358
A24: 15 | B24: =IF('Tabela II'!B23="","",'Tabela II'!B23) -> Vildana Mujagić | C24: =IF('Tabela II'!D23="","",'Tabela II'!D23) -> UPRAVNI | D24: =IF('Tabela II'!E23="","",'Tabela II'!E23) -> Sudija | F24: 166 | G24: =SUM(I24:M24) -> 44 | H24: 2 | I24: 39 | J24: 5 | L24: 0 | M24: 0 | N24: =IF(E24="","",IF(E24="Nije ocijenjen","",IF(E24="Ocijenjen",IF(G24<10,"Član 18. stav 7. Kriterija",(L24+(M24/2))/(G24))))) | O24: =IF(E24="","",IF(E24="Nije ocijenjen","",IF(E24="Ocijenjen",IF(N24="Član 18. stav 7. Kriterija","",IF(N24>0.4,0,IF(N24>0.3,5,IF(N24>0.2,10,IF(N24>0.1,15,IF(N24>0.05,20,IF(N24<=0.05,25,)))))))))) | P24: =IF(E24="","",IF(E24="Nije ocijenjen","",IF(E24="Ocijenjen",IF(F24=0,"",((L24+K24+(M24/2))/(F24)))))) | Q24: =IF(E24="","",IF(E24="Nije ocijenjen","",IF(E24="Ocijenjen",IF(P24>0.2,0,IF(P24>0.15,1,IF(P24>0.1,2,IF(P24>0.06,3,IF(P24>0.03,4,IF(P24<=0.03,5,))))))))) | R24: =IF(E24="","",IF(E24="Nije ocijenjen","",IF(E24="Ocijenjen",IF(N24="Član 18. stav 7. Kriterija",Q24,O24+Q24)))) | S24: =IF(F24=0,"",IF(F24=0,1,0.83*((G24-L24-M24/2)/G24)+0.17*((F24-K24-L24-M24/2)/F24))) -> 1
A25: 16 | B25: =IF('Tabela II'!B24="","",'Tabela II'!B24) -> Amina Begović | C25: =IF('Tabela II'!D24="","",'Tabela II'!D24) -> GRAĐANSKI | D25: =IF('Tabela II'!E24="","",'Tabela II'!E24) -> Sudija | F25: 136 | G25: =SUM(I25:M25) -> 25 | H25: 17 | I25: 21 | J25: 3 | L25: 0 | M25: 1 | N25: =IF(E25="","",IF(E25="Nije ocijenjen","",IF(E25="Ocijenjen",IF(G25<10,"Član 18. stav 7. Kriterija",(L25+(M25/2))/(G25))))) | O25: =IF(E25="","",IF(E25="Nije ocijenjen","",IF(E25="Ocijenjen",IF(N25="Član 18. stav 7. Kriterija","",IF(N25>0.4,0,IF(N25>0.3,5,IF(N25>0.2,10,IF(N25>0.1,15,IF(N25>0.05,20,IF(N25<=0.05,25,)))))))))) | P25: =IF(E25="","",IF(E25="Nije ocijenjen","",IF(E25="Ocijenjen",IF(F25=0,"",((L25+K25+(M25/2))/(F25)))))) | Q25: =IF(E25="","",IF(E25="Nije ocijenjen","",IF(E25="Ocijenjen",IF(P25>0.2,0,IF(P25>0.15,1,IF(P25>0.1,2,IF(P25>0.06,3,IF(P25>0.03,4,IF(P25<=0.03,5,))))))))) | R25: =IF(E25="","",IF(E25="Nije ocijenjen","",IF(E25="Ocijenjen",IF(N25="Član 18. stav 7. Kriterija",Q25,O25+Q25)))) | S25: =IF(F25=0,"",IF(F25=0,1,0.83*((G25-L25-M25/2)/G25)+0.17*((F25-K25-L25-M25/2)/F25))) -> 0.982775
A26: 17 | B26: =IF('Tabela II'!B25="","",'Tabela II'!B25) -> Admira Sejranić | C26: =IF('Tabela II'!D25="","",'Tabela II'!D25) -> GRAĐANSKI | D26: =IF('Tabela II'!E25="","",'Tabela II'!E25) -> Sudija | F26: 186 | G26: =SUM(I26:M26) -> 17 | H26: 26 | I26: 16 | J26: 1 | L26: 0 | M26: 0 | N26: =IF(E26="","",IF(E26="Nije ocijenjen","",IF(E26="Ocijenjen",IF(G26<10,"Član 18. stav 7. Kriterija",(L26+(M26/2))/(G26))))) | O26: =IF(E26="","",IF(E26="Nije ocijenjen","",IF(E26="Ocijenjen",IF(N26="Član 18. stav 7. Kriterija","",IF(N26>0.4,0,IF(N26>0.3,5,IF(N26>0.2,10,IF(N26>0.1,15,IF(N26>0.05,20,IF(N26<=0.05,25,)))))))))) | P26: =IF(E26="","",IF(E26="Nije ocijenjen","",IF(E26="Ocijenjen",IF(F26=0,"",((L26+K26+(M26/2))/(F26)))))) | Q26: =IF(E26="","",IF(E26="Nije ocijenjen","",IF(E26="Ocijenjen",IF(P26>0.2,0,IF(P26>0.15,1,IF(P26>0.1,2,IF(P26>0.06,3,IF(P26>0.03,4,IF(P26<=0.03,5,))))))))) | R26: =IF(E26="","",IF(E26="Nije ocijenjen","",IF(E26="Ocijenjen",IF(N26="Član 18. stav 7. Kriterija",Q26,O26+Q26)))) | S26: =IF(F26=0,"",IF(F26=0,1,0.83*((G26-L26-M26/2)/G26)+0.17*((F26-K26-L26-M26/2)/F26))) -> 1
A27: 18 | B27: =IF('Tabela II'!B26="","",'Tabela II'!B26) -> Amela Mahić Samardžić | C27: =IF('Tabela II'!D26="","",'Tabela II'!D26) -> GRAĐANSKI | D27: =IF('Tabela II'!E26="","",'Tabela II'!E26) -> Sudija | F27: 163 | G27: =SUM(I27:M27) -> 16 | H27: 18 | I27: 16 | J27: 0 | L27: 0 | M27: 0 | N27: =IF(E27="","",IF(E27="Nije ocijenjen","",IF(E27="Ocijenjen",IF(G27<10,"Član 18. stav 7. Kriterija",(L27+(M27/2))/(G27))))) | O27: =IF(E27="","",IF(E27="Nije ocijenjen","",IF(E27="Ocijenjen",IF(N27="Član 18. stav 7. Kriterija","",IF(N27>0.4,0,IF(N27>0.3,5,IF(N27>0.2,10,IF(N27>0.1,15,IF(N27>0.05,20,IF(N27<=0.05,25,)))))))))) | P27: =IF(E27="","",IF(E27="Nije ocijenjen","",IF(E27="Ocijenjen",IF(F27=0,"",((L27+K27+(M27/2))/(F27)))))) | Q27: =IF(E27="","",IF(E27="Nije ocijenjen","",IF(E27="Ocijenjen",IF(P27>0.2,0,IF(P27>0.15,1,IF(P27>0.1,2,IF(P27>0.06,3,IF(P27>0.03,4,IF(P27<=0.03,5,))))))))) | R27: =IF(E27="","",IF(E27="Nije ocijenjen","",IF(E27="Ocijenjen",IF(N27="Član 18. stav 7. Kriterija",Q27,O27+Q27)))) | S27: =IF(F27=0,"",IF(F27=0,1,0.83*((G27-L27-M27/2)/G27)+0.17*((F27-K27-L27-M27/2)/F27))) -> 1
A28: 19 | B28: =IF('Tabela II'!B27="","",'Tabela II'!B27) -> Altijana Šeta | C28: =IF('Tabela II'!D27="","",'Tabela II'!D27) -> GRAĐANSKI | D28: =IF('Tabela II'!E27="","",'Tabela II'!E27) -> Sudija | F28: 181 | G28: =SUM(I28:M28) -> 31 | H28: 20 | I28: 27 | J28: 2 | L28: 1 | M28: 1 | N28: =IF(E28="","",IF(E28="Nije ocijenjen","",IF(E28="Ocijenjen",IF(G28<10,"Član 18. stav 7. Kriterija",(L28+(M28/2))/(G28))))) | O28: =IF(E28="","",IF(E28="Nije ocijenjen","",IF(E28="Ocijenjen",IF(N28="Član 18. stav 7. Kriterija","",IF(N28>0.4,0,IF(N28>0.3,5,IF(N28>0.2,10,IF(N28>0.1,15,IF(N28>0.05,20,IF(N28<=0.05,25,)))))))))) | P28: =IF(E28="","",IF(E28="Nije ocijenjen","",IF(E28="Ocijenjen",IF(F28=0,"",((L28+K28+(M28/2))/(F28)))))) | Q28: =IF(E28="","",IF(E28="Nije ocijenjen","",IF(E28="Ocijenjen",IF(P28>0.2,0,IF(P28>0.15,1,IF(P28>0.1,2,IF(P28>0.06,3,IF(P28>0.03,4,IF(P28<=0.03,5,))))))))) | R28: =IF(E28="","",IF(E28="Nije ocijenjen","",IF(E28="Ocijenjen",IF(N28="Član 18. stav 7. Kriterija",Q28,O28+Q28)))) | S28: =IF(F28=0,"",IF(F28=0,1,0.83*((G28-L28-M28/2)/G28)+0.17*((F28-K28-L28-M28/2)/F28))) -> 0.95842987
A29: 20 | B29: =IF('Tabela II'!B28="","",'Tabela II'!B28) -> Amra Muhibić | C29: =IF('Tabela II'!D28="","",'Tabela II'!D28) -> GRAĐANSKI | D29: =IF('Tabela II'!E28="","",'Tabela II'!E28) -> Sudija | F29: 120 | G29: =SUM(I29:M29) -> 20 | H29: 26 | I29: 19 | J29: 1 | L29: 0 | M29: 0 | N29: =IF(E29="","",IF(E29="Nije ocijenjen","",IF(E29="Ocijenjen",IF(G29<10,"Član 18. stav 7. Kriterija",(L29+(M29/2))/(G29))))) | O29: =IF(E29="","",IF(E29="Nije ocijenjen","",IF(E29="Ocijenjen",IF(N29="Član 18. stav 7. Kriterija","",IF(N29>0.4,0,IF(N29>0.3,5,IF(N29>0.2,10,IF(N29>0.1,15,IF(N29>0.05,20,IF(N29<=0.05,25,)))))))))) | P29: =IF(E29="","",IF(E29="Nije ocijenjen","",IF(E29="Ocijenjen",IF(F29=0,"",((L29+K29+(M29/2))/(F29)))))) | Q29: =IF(E29="","",IF(E29="Nije ocijenjen","",IF(E29="Ocijenjen",IF(P29>0.2,0,IF(P29>0.15,1,IF(P29>0.1,2,IF(P29>0.06,3,IF(P29>0.03,4,IF(P29<=0.03,5,))))))))) | R29: =IF(E29="","",IF(E29="Nije ocijenjen","",IF(E29="Ocijenjen",IF(N29="Član 18. stav 7. Kriterija",Q29,O29+Q29)))) | S29: =IF(F29=0,"",IF(F29=0,1,0.83*((G29-L29-M29/2)/G29)+0.17*((F29-K29-L29-M29/2)/F29))) -> 1
A30: 21 | B30: =IF('Tabela II'!B29="","",'Tabela II'!B29) -> Behija Šiljak | C30: =IF('Tabela II'!D29="","",'Tabela II'!D29) -> GRAĐANSKI | D30: =IF('Tabela II'!E29="","",'Tabela II'!E29) -> Sudija | F30: 164 | G30: =SUM(I30:M30) -> 21 | H30: 10 | I30: 19 | J30: 1 | L30: 0 | M30: 1 | N30: =IF(E30="","",IF(E30="Nije ocijenjen","",IF(E30="Ocijenjen",IF(G30<10,"Član 18. stav 7. Kriterija",(L30+(M30/2))/(G30))))) | O30: =IF(E30="","",IF(E30="Nije ocijenjen","",IF(E30="Ocijenjen",IF(N30="Član 18. stav 7. Kriterija","",IF(N30>0.4,0,IF(N30>0.3,5,IF(N30>0.2,10,IF(N30>0.1,15,IF(N30>0.05,20,IF(N30<=0.05,25,)))))))))) | P30: =IF(E30="","",IF(E30="Nije ocijenjen","",IF(E30="Ocijenjen",IF(F30=0,"",((L30+K30+(M30/2))/(F30)))))) | Q30: =IF(E30="","",IF(E30="Nije ocijenjen","",IF(E30="Ocijenjen",IF(P30>0.2,0,IF(P30>0.15,1,IF(P30>0.1,2,IF(P30>0.06,3,IF(P30>0.03,4,IF(P30<=0.03,5,))))))))) | R30: =IF(E30="","",IF(E30="Nije ocijenjen","",IF(E30="Ocijenjen",IF(N30="Član 18. stav 7. Kriterija",Q30,O30+Q30)))) | S30: =IF(F30=0,"",IF(F30=0,1,0.83*((G30-L30-M30/2)/G30)+0.17*((F30-K30-L30-M30/2)/F30))) -> 0.9797198
... A51: 42 | B51: =IF('Tabela II'!B50="","",'Tabela II'!B50) -> Melika Murtezić | C51: =IF('Tabela II'!D50="","",'Tabela II'!D50) -> KRIVIČNI | D51: =IF('Tabela II'!E50="","",'Tabela II'!E50) -> Sudija | F51: 17 | G51: =SUM(I51:M51) -> 10 | H51: 0 | I51: 9 | J51: 0 | L51: 1 | M51: 0 | N51: =IF(E51="","",IF(E51="Nije ocijenjen","",IF(E51="Ocijenjen",IF(G51<10,"Član 18. stav 7. Kriterija",(L51+(M51/2))/(G51))))) | O51: =IF(E51="","",IF(E51="Nije ocijenjen","",IF(E51="Ocijenjen",IF(N51="Član 18. stav 7. Kriterija","",IF(N51>0.4,0,IF(N51>0.3,5,IF(N51>0.2,10,IF(N51>0.1,15,IF(N51>0.05,20,IF(N51<=0.05,25,)))))))))) | P51: =IF(E51="","",IF(E51="Nije ocijenjen","",IF(E51="Ocijenjen",IF(F51=0,"",((L51+K51+(M51/2))/(F51)))))) | Q51: =IF(E51="","",IF(E51="Nije ocijenjen","",IF(E51="Ocijenjen",IF(P51>0.2,0,IF(P51>0.15,1,IF(P51>0.1,2,IF(P51>0.06,3,IF(P51>0.03,4,IF(P51<=0.03,5,))))))))) | R51: =IF(E51="","",IF(E51="Nije ocijenjen","",IF(E51="Ocijenjen",IF(N51="Član 18. stav 7. Kriterija",Q51,O51+Q51)))) | S51: =IF(F51=0,"",IF(F51=0,1,0.83*((G51-L51-M51/2)/G51)+0.17*((F51-K51-L51-M51/2)/F51))) -> 0.907
A52: 43 | B52: Sanela Kovač Grabonjić | C52: GRAĐANSKI | D52: Predsjednik odjela | F52: 107 | G52: =SUM(I52:M52) -> 26 | H52: 19 | I52: 23 | J52: 1 | L52: 2 | M52: 0 | N52: =IF(E52="","",IF(E52="Nije ocijenjen","",IF(E52="Ocijenjen",IF(G52<10,"Član 18. stav 7. Kriterija",(L52+(M52/2))/(G52))))) | O52: =IF(E52="","",IF(E52="Nije ocijenjen","",IF(E52="Ocijenjen",IF(N52="Član 18. stav 7. Kriterija","",IF(N52>0.4,0,IF(N52>0.3,5,IF(N52>0.2,10,IF(N52>0.1,15,IF(N52>0.05,20,IF(N52<=0.05,25,)))))))))) | P52: =IF(E52="","",IF(E52="Nije ocijenjen","",IF(E52="Ocijenjen",IF(F52=0,"",((L52+K52+(M52/2))/(F52)))))) | Q52: =IF(E52="","",IF(E52="Nije ocijenjen","",IF(E52="Ocijenjen",IF(P52>0.2,0,IF(P52>0.15,1,IF(P52>0.1,2,IF(P52>0.06,3,IF(P52>0.03,4,IF(P52<=0.03,5,))))))))) | R52: =IF(E52="","",IF(E52="Nije ocijenjen","",IF(E52="Ocijenjen",IF(N52="Član 18. stav 7. Kriterija",Q52,O52+Q52)))) | S52: =IF(F52=0,"",IF(F52=0,1,0.83*((G52-L52-M52/2)/G52)+0.17*((F52-K52-L52-M52/2)/F52))) -> 0.93297628
A53: 44 | B53: Haris Jusufbašuć | C53: GRAĐANSKI | D53: Predsjednik odjela | F53: 166 | G53: =SUM(I53:M53) -> 24 | H53: 11 | I53: 23 | J53: 1 | L53: 0 | M53: 0 | N53: =IF(E53="","",IF(E53="Nije ocijenjen","",IF(E53="Ocijenjen",IF(G53<10,"Član 18. stav 7. Kriterija",(L53+(M53/2))/(G53))))) | O53: =IF(E53="","",IF(E53="Nije ocijenjen","",IF(E53="Ocijenjen",IF(N53="Član 18. stav 7. Kriterija","",IF(N53>0.4,0,IF(N53>0.3,5,IF(N53>0.2,10,IF(N53>0.1,15,IF(N53>0.05,20,IF(N53<=0.05,25,)))))))))) | P53: =IF(E53="","",IF(E53="Nije ocijenjen","",IF(E53="Ocijenjen",IF(F53=0,"",((L53+K53+(M53/2))/(F53)))))) | Q53: =IF(E53="","",IF(E53="Nije ocijenjen","",IF(E53="Ocijenjen",IF(P53>0.2,0,IF(P53>0.15,1,IF(P53>0.1,2,IF(P53>0.06,3,IF(P53>0.03,4,IF(P53<=0.03,5,))))))))) | R53: =IF(E53="","",IF(E53="Nije ocijenjen","",IF(E53="Ocijenjen",IF(N53="Član 18. stav 7. Kriterija",Q53,O53+Q53)))) | S53: =IF(F53=0,"",IF(F53=0,1,0.83*((G53-L53-M53/2)/G53)+0.17*((F53-K53-L53-M53/2)/F53))) -> 1
A54: 45 | B54: Svjetlana Milišić Veličkovski | C54: GRAĐANSKI | D54: Sudija | F54: 0 | G54: =SUM(I54:M54) -> 3 | H54: 0 | I54: 2 | J54: 0 | L54: 1 | M54: 0 | N54: =IF(E54="","",IF(E54="Nije ocijenjen","",IF(E54="Ocijenjen",IF(G54<10,"Član 18. stav 7. Kriterija",(L54+(M54/2))/(G54))))) | O54: =IF(E54="","",IF(E54="Nije ocijenjen","",IF(E54="Ocijenjen",IF(N54="Član 18. stav 7. Kriterija","",IF(N54>0.4,0,IF(N54>0.3,5,IF(N54>0.2,10,IF(N54>0.1,15,IF(N54>0.05,20,IF(N54<=0.05,25,)))))))))) | P54: =IF(E54="","",IF(E54="Nije ocijenjen","",IF(E54="Ocijenjen",IF(F54=0,"",((L54+K54+(M54/2))/(F54)))))) | Q54: =IF(E54="","",IF(E54="Nije ocijenjen","",IF(E54="Ocijenjen",IF(P54>0.2,0,IF(P54>0.15,1,IF(P54>0.1,2,IF(P54>0.06,3,IF(P54>0.03,4,IF(P54<=0.03,5,))))))))) | R54: =IF(E54="","",IF(E54="Nije ocijenjen","",IF(E54="Ocijenjen",IF(N54="Član 18. stav 7. Kriterija",Q54,O54+Q54)))) | S54: =IF(F54=0,"",IF(F54=0,1,0.83*((G54-L54-M54/2)/G54)+0.17*((F54-K54-L54-M54/2)/F54)))
A55: 46 | B55: Nusret Halilović | C55: GRAĐANSKI | D55: Sudija | F55: 42 | G55: =SUM(I55:M55) -> 7 | H55: 6 | I55: 5 | J55: 2 | L55: 0 | M55: 0 | N55: =IF(E55="","",IF(E55="Nije ocijenjen","",IF(E55="Ocijenjen",IF(G55<10,"Član 18. stav 7. Kriterija",(L55+(M55/2))/(G55))))) | O55: =IF(E55="","",IF(E55="Nije ocijenjen","",IF(E55="Ocijenjen",IF(N55="Član 18. stav 7. Kriterija","",IF(N55>0.4,0,IF(N55>0.3,5,IF(N55>0.2,10,IF(N55>0.1,15,IF(N55>0.05,20,IF(N55<=0.05,25,)))))))))) | P55: =IF(E55="","",IF(E55="Nije ocijenjen","",IF(E55="Ocijenjen",IF(F55=0,"",((L55+K55+(M55/2))/(F55)))))) | Q55: =IF(E55="","",IF(E55="Nije ocijenjen","",IF(E55="Ocijenjen",IF(P55>0.2,0,IF(P55>0.15,1,IF(P55>0.1,2,IF(P55>0.06,3,IF(P55>0.03,4,IF(P55<=0.03,5,))))))))) | R55: =IF(E55="","",IF(E55="Nije ocijenjen","",IF(E55="Ocijenjen",IF(N55="Član 18. stav 7. Kriterija",Q55,O55+Q55)))) | S55: =IF(F55=0,"",IF(F55=0,1,0.83*((G55-L55-M55/2)/G55)+0.17*((F55-K55-L55-M55/2)/F55))) -> 1
A56: 47 | B56: Amir Ahmetspahić | C56: GRAĐANSKI | D56: Sudija | F56: 3 | G56: =SUM(I56:M56) -> 30 | H56: 20 | I56: 28 | J56: 1 | L56: 0 | M56: 1 | N56: =IF(E56="","",IF(E56="Nije ocijenjen","",IF(E56="Ocijenjen",IF(G56<10,"Član 18. stav 7. Kriterija",(L56+(M56/2))/(G56))))) | O56: =IF(E56="","",IF(E56="Nije ocijenjen","",IF(E56="Ocijenjen",IF(N56="Član 18. stav 7. Kriterija","",IF(N56>0.4,0,IF(N56>0.3,5,IF(N56>0.2,10,IF(N56>0.1,15,IF(N56>0.05,20,IF(N56<=0.05,25,)))))))))) | P56: =IF(E56="","",IF(E56="Nije ocijenjen","",IF(E56="Ocijenjen",IF(F56=0,"",((L56+K56+(M56/2))/(F56)))))) | Q56: =IF(E56="","",IF(E56="Nije ocijenjen","",IF(E56="Ocijenjen",IF(P56>0.2,0,IF(P56>0.15,1,IF(P56>0.1,2,IF(P56>0.06,3,IF(P56>0.03,4,IF(P56<=0.03,5,))))))))) | R56: =IF(E56="","",IF(E56="Nije ocijenjen","",IF(E56="Ocijenjen",IF(N56="Član 18. stav 7. Kriterija",Q56,O56+Q56)))) | S56: =IF(F56=0,"",IF(F56=0,1,0.83*((G56-L56-M56/2)/G56)+0.17*((F56-K56-L56-M56/2)/F56))) -> 0.95783333
A57: 48 | B57: Milijana Bjelović | C57: GRAĐANSKI | D57: Sudija | F57: 0 | G57: =SUM(I57:M57) -> 29 | H57: 13 | I57: 24 | J57: 4 | L57: 0 | M57: 1 | N57: =IF(E57="","",IF(E57="Nije ocijenjen","",IF(E57="Ocijenjen",IF(G57<10,"Član 18. stav 7. Kriterija",(L57+(M57/2))/(G57))))) | O57: =IF(E57="","",IF(E57="Nije ocijenjen","",IF(E57="Ocijenjen",IF(N57="Član 18. stav 7. Kriterija","",IF(N57>0.4,0,IF(N57>0.3,5,IF(N57>0.2,10,IF(N57>0.1,15,IF(N57>0.05,20,IF(N57<=0.05,25,)))))))))) | P57: =IF(E57="","",IF(E57="Nije ocijenjen","",IF(E57="Ocijenjen",IF(F57=0,"",((L57+K57+(M57/2))/(F57)))))) | Q57: =IF(E57="","",IF(E57="Nije ocijenjen","",IF(E57="Ocijenjen",IF(P57>0.2,0,IF(P57>0.15,1,IF(P57>0.1,2,IF(P57>0.06,3,IF(P57>0.03,4,IF(P57<=0.03,5,))))))))) | R57: =IF(E57="","",IF(E57="Nije ocijenjen","",IF(E57="Ocijenjen",IF(N57="Član 18. stav 7. Kriterija",Q57,O57+Q57)))) | S57: =IF(F57=0,"",IF(F57=0,1,0.83*((G57-L57-M57/2)/G57)+0.17*((F57-K57-L57-M57/2)/F57)))
A58: 49 | B58: Amer Spahić | C58: GRAĐANSKI | D58: Sudija | F58: 4 | G58: =SUM(I58:M58) -> 30 | H58: 16 | I58: 28 | J58: 2 | L58: 0 | M58: 0 | N58: =IF(E58="","",IF(E58="Nije ocijenjen","",IF(E58="Ocijenjen",IF(G58<10,"Član 18. stav 7. Kriterija",(L58+(M58/2))/(G58))))) | O58: =IF(E58="","",IF(E58="Nije ocijenjen","",IF(E58="Ocijenjen",IF(N58="Član 18. stav 7. Kriterija","",IF(N58>0.4,0,IF(N58>0.3,5,IF(N58>0.2,10,IF(N58>0.1,15,IF(N58>0.05,20,IF(N58<=0.05,25,)))))))))) | P58: =IF(E58="","",IF(E58="Nije ocijenjen","",IF(E58="Ocijenjen",IF(F58=0,"",((L58+K58+(M58/2))/(F58)))))) | Q58: =IF(E58="","",IF(E58="Nije ocijenjen","",IF(E58="Ocijenjen",IF(P58>0.2,0,IF(P58>0.15,1,IF(P58>0.1,2,IF(P58>0.06,3,IF(P58>0.03,4,IF(P58<=0.03,5,))))))))) | R58: =IF(E58="","",IF(E58="Nije ocijenjen","",IF(E58="Ocijenjen",IF(N58="Član 18. stav 7. Kriterija",Q58,O58+Q58)))) | S58: =IF(F58=0,"",IF(F58=0,1,0.83*((G58-L58-M58/2)/G58)+0.17*((F58-K58-L58-M58/2)/F58))) -> 1
A59: 50 | B59: Alma Islamović | C59: GRAĐANSKI | D59: Sudija | F59: 13 | G59: =SUM(I59:M59) -> 14 | H59: 3 | I59: 12 | J59: 2 | L59: 0 | M59: 0 | N59: =IF(E59="","",IF(E59="Nije ocijenjen","",IF(E59="Ocijenjen",IF(G59<10,"Član 18. stav 7. Kriterija",(L59+(M59/2))/(G59))))) | O59: =IF(E59="","",IF(E59="Nije ocijenjen","",IF(E59="Ocijenjen",IF(N59="Član 18. stav 7. Kriterija","",IF(N59>0.4,0,IF(N59>0.3,5,IF(N59>0.2,10,IF(N59>0.1,15,IF(N59>0.05,20,IF(N59<=0.05,25,)))))))))) | P59: =IF(E59="","",IF(E59="Nije ocijenjen","",IF(E59="Ocijenjen",IF(F59=0,"",((L59+K59+(M59/2))/(F59)))))) | Q59: =IF(E59="","",IF(E59="Nije ocijenjen","",IF(E59="Ocijenjen",IF(P59>0.2,0,IF(P59>0.15,1,IF(P59>0.1,2,IF(P59>0.06,3,IF(P59>0.03,4,IF(P59<=0.03,5,))))))))) | R59: =IF(E59="","",IF(E59="Nije ocijenjen","",IF(E59="Ocijenjen",IF(N59="Član 18. stav 7. Kriterija",Q59,O59+Q59)))) | S59: =IF(F59=0,"",IF(F59=0,1,0.83*((G59-L59-M59/2)/G59)+0.17*((F59-K59-L59-M59/2)/F59))) -> 1
A60: 51 | B60: Stana Imamović | C60: GRAĐANSKI | D60: Sudija | F60: 34 | G60: =SUM(I60:M60) -> 16 | H60: 5 | I60: 16 | J60: 0 | L60: 0 | M60: 0 | N60: =IF(E60="","",IF(E60="Nije ocijenjen","",IF(E60="Ocijenjen",IF(G60<10,"Član 18. stav 7. Kriterija",(L60+(M60/2))/(G60))))) | O60: =IF(E60="","",IF(E60="Nije ocijenjen","",IF(E60="Ocijenjen",IF(N60="Član 18. stav 7. Kriterija","",IF(N60>0.4,0,IF(N60>0.3,5,IF(N60>0.2,10,IF(N60>0.1,15,IF(N60>0.05,20,IF(N60<=0.05,25,)))))))))) | P60: =IF(E60="","",IF(E60="Nije ocijenjen","",IF(E60="Ocijenjen",IF(F60=0,"",((L60+K60+(M60/2))/(F60)))))) | Q60: =IF(E60="","",IF(E60="Nije ocijenjen","",IF(E60="Ocijenjen",IF(P60>0.2,0,IF(P60>0.15,1,IF(P60>0.1,2,IF(P60>0.06,3,IF(P60>0.03,4,IF(P60<=0.03,5,))))))))) | R60: =IF(E60="","",IF(E60="Nije ocijenjen","",IF(E60="Ocijenjen",IF(N60="Član 18. stav 7. Kriterija",Q60,O60+Q60)))) | S60: =IF(F60=0,"",IF(F60=0,1,0.83*((G60-L60-M60/2)/G60)+0.17*((F60-K60-L60-M60/2)/F60))) -> 1
A61: 52 | B61: Nina Makivić | C61: GRAĐANSKI | D61: Sudija | F61: 47 | G61: =SUM(I61:M61) -> 5 | H61: 2 | I61: 5 | J61: 0 | L61: 0 | M61: 0 | N61: =IF(E61="","",IF(E61="Nije ocijenjen","",IF(E61="Ocijenjen",IF(G61<10,"Član 18. stav 7. Kriterija",(L61+(M61/2))/(G61))))) | O61: =IF(E61="","",IF(E61="Nije ocijenjen","",IF(E61="Ocijenjen",IF(N61="Član 18. stav 7. Kriterija","",IF(N61>0.4,0,IF(N61>0.3,5,IF(N61>0.2,10,IF(N61>0.1,15,IF(N61>0.05,20,IF(N61<=0.05,25,)))))))))) | P61: =IF(E61="","",IF(E61="Nije ocijenjen","",IF(E61="Ocijenjen",IF(F61=0,"",((L61+K61+(M61/2))/(F61)))))) | Q61: =IF(E61="","",IF(E61="Nije ocijenjen","",IF(E61="Ocijenjen",IF(P61>0.2,0,IF(P61>0.15,1,IF(P61>0.1,2,IF(P61>0.06,3,IF(P61>0.03,4,IF(P61<=0.03,5,))))))))) | R61: =IF(E61="","",IF(E61="Nije ocijenjen","",IF(E61="Ocijenjen",IF(N61="Član 18. stav 7. Kriterija",Q61,O61+Q61)))) | S61: =IF(F61=0,"",IF(F61=0,1,0.83*((G61-L61-M61/2)/G61)+0.17*((F61-K61-L61-M61/2)/F61))) -> 1
A62: 53 | B62: Ranka Baškarad | C62: GRAĐANSKI | D62: Sudija | F62: 52 | G62: =SUM(I62:M62) -> 7 | H62: 5 | I62: 7 | J62: 0 | L62: 0 | M62: 0 | N62: =IF(E62="","",IF(E62="Nije ocijenjen","",IF(E62="Ocijenjen",IF(G62<10,"Član 18. stav 7. Kriterija",(L62+(M62/2))/(G62))))) | O62: =IF(E62="","",IF(E62="Nije ocijenjen","",IF(E62="Ocijenjen",IF(N62="Član 18. stav 7. Kriterija","",IF(N62>0.4,0,IF(N62>0.3,5,IF(N62>0.2,10,IF(N62>0.1,15,IF(N62>0.05,20,IF(N62<=0.05,25,)))))))))) | P62: =IF(E62="","",IF(E62="Nije ocijenjen","",IF(E62="Ocijenjen",IF(F62=0,"",((L62+K62+(M62/2))/(F62)))))) | Q62: =IF(E62="","",IF(E62="Nije ocijenjen","",IF(E62="Ocijenjen",IF(P62>0.2,0,IF(P62>0.15,1,IF(P62>0.1,2,IF(P62>0.06,3,IF(P62>0.03,4,IF(P62<=0.03,5,))))))))) | R62: =IF(E62="","",IF(E62="Nije ocijenjen","",IF(E62="Ocijenjen",IF(N62="Član 18. stav 7. Kriterija",Q62,O62+Q62)))) | S62: =IF(F62=0,"",IF(F62=0,1,0.83*((G62-L62-M62/2)/G62)+0.17*((F62-K62-L62-M62/2)/F62))) -> 1
A63: 54 | B63: Srećko Kokor | C63: GRAĐANSKI | D63: Sudija | F63: 57 | G63: =SUM(I63:M63) -> 3 | H63: 1 | I63: 3 | J63: 0 | L63: 0 | M63: 0 | N63: =IF(E63="","",IF(E63="Nije ocijenjen","",IF(E63="Ocijenjen",IF(G63<10,"Član 18. stav 7. Kriterija",(L63+(M63/2))/(G63))))) | O63: =IF(E63="","",IF(E63="Nije ocijenjen","",IF(E63="Ocijenjen",IF(N63="Član 18. stav 7. Kriterija","",IF(N63>0.4,0,IF(N63>0.3,5,IF(N63>0.2,10,IF(N63>0.1,15,IF(N63>0.05,20,IF(N63<=0.05,25,)))))))))) | P63: =IF(E63="","",IF(E63="Nije ocijenjen","",IF(E63="Ocijenjen",IF(F63=0,"",((L63+K63+(M63/2))/(F63)))))) | Q63: =IF(E63="","",IF(E63="Nije ocijenjen","",IF(E63="Ocijenjen",IF(P63>0.2,0,IF(P63>0.15,1,IF(P63>0.1,2,IF(P63>0.06,3,IF(P63>0.03,4,IF(P63<=0.03,5,))))))))) | R63: =IF(E63="","",IF(E63="Nije ocijenjen","",IF(E63="Ocijenjen",IF(N63="Član 18. stav 7. Kriterija",Q63,O63+Q63)))) | S63: =IF(F63=0,"",IF(F63=0,1,0.83*((G63-L63-M63/2)/G63)+0.17*((F63-K63-L63-M63/2)/F63))) -> 1
... A78: 69 | B78: Davor Kelava | C78: GRAĐANSKI | D78: Sudija | F78: 27 | G78: =SUM(I78:M78) -> 0 | H78: 0 | I78: 0 | J78: 0 | L78: 0 | M78: 0 | N78: =IF(E78="","",IF(E78="Nije ocijenjen","",IF(E78="Ocijenjen",IF(G78<10,"Član 18. stav 7. Kriterija",(L78+(M78/2))/(G78))))) | O78: =IF(E78="","",IF(E78="Nije ocijenjen","",IF(E78="Ocijenjen",IF(N78="Član 18. stav 7. Kriterija","",IF(N78>0.4,0,IF(N78>0.3,5,IF(N78>0.2,10,IF(N78>0.1,15,IF(N78>0.05,20,IF(N78<=0.05,25,)))))))))) | P78: =IF(E78="","",IF(E78="Nije ocijenjen","",IF(E78="Ocijenjen",IF(F78=0,"",((L78+K78+(M78/2))/(F78)))))) | Q78: =IF(E78="","",IF(E78="Nije ocijenjen","",IF(E78="Ocijenjen",IF(P78>0.2,0,IF(P78>0.15,1,IF(P78>0.1,2,IF(P78>0.06,3,IF(P78>0.03,4,IF(P78<=0.03,5,))))))))) | R78: =IF(E78="","",IF(E78="Nije ocijenjen","",IF(E78="Ocijenjen",IF(N78="Član 18. stav 7. Kriterija",Q78,O78+Q78)))) | S78: =IF(F78=0,"",IF(F78=0,1,0.83*((G78-L78-M78/2)/G78)+0.17*((F78-K78-L78-M78/2)/F78))) -> #DIV/0!
A79: 70 | G79: =SUM(I79:M79) -> 0 | N79: =IF(E79="","",IF(E79="Nije ocijenjen","",IF(E79="Ocijenjen",IF(G79<10,"Član 18. stav 7. Kriterija",(L79+(M79/2))/(G79))))) | O79: =IF(E79="","",IF(E79="Nije ocijenjen","",IF(E79="Ocijenjen",IF(N79="Član 18. stav 7. Kriterija","",IF(N79>0.4,0,IF(N79>0.3,5,IF(N79>0.2,10,IF(N79>0.1,15,IF(N79>0.05,20,IF(N79<=0.05,25,)))))))))) | P79: =IF(E79="","",IF(E79="Nije ocijenjen","",IF(E79="Ocijenjen",IF(F79=0,"",((L79+K79+(M79/2))/(F79)))))) | Q79: =IF(E79="","",IF(E79="Nije ocijenjen","",IF(E79="Ocijenjen",IF(P79>0.2,0,IF(P79>0.15,1,IF(P79>0.1,2,IF(P79>0.06,3,IF(P79>0.03,4,IF(P79<=0.03,5,))))))))) | R79: =IF(E79="","",IF(E79="Nije ocijenjen","",IF(E79="Ocijenjen",IF(N79="Član 18. stav 7. Kriterija",Q79,O79+Q79)))) | S79: =IF(F79=0,"",IF(F79=0,1,0.83*((G79-L79-M79/2)/G79)+0.17*((F79-K79-L79-M79/2)/F79)))
A81: KVALITET SUDSKIH ODLUKA ** | F81: =SUM(F10:F79) -> 6834 | G81: =SUM(G10:G79) -> 1307 | H81: =SUM(H10:H79) -> 512 | I81: =SUM(I10:I79) -> 1157 | J81: =SUM(J10:J79) -> 84 | K81: =SUM(K10:K79) -> 0 | L81: =SUM(L10:L79) -> 54 | M81: =SUM(M10:M79) -> 12 | N81: =IF(G81=0,"",0.83*((G81-L81-(M81/2))/G81)+0.17*((F81-K81-L81-(M81/2))/F81)) -> 0.96040494 | S81: =IF(F81=0,"",IF(F81=0,1,0.83*((G81-L81-M81/2)/G81)+0.17*((F81-K81-L81-M81/2)/F81))) -> 0.96040494
A84: Tabela IIIb - Obračun individualnog kvaliteta odluka nosilaca pravosudnih funkcija koji su u periodu izvještavanja radili u dva suda, ako su funkciju obavljali u sudovima istog nivoa, (pogledati NAPOMENU 2) i koji su odlukom VSTV BiH privremeno upućeni na obavljanje sudijske dužnosti u drugi sud (pogledati NAPOMENU 2a)
A86: Upisati naziv Suda 1
A87: 1 | B87: Ime i prezime | D87: Predsjednik suda | G87: =SUM(I87:M87) -> 0 | S87: =IF(F87=0,"",IF(F87=0,1,0.83*((G87-L87-M87/2)/G87)+0.17*((F87-K87-L87-M87/2)/F87)))
A88: Upisati naziv Suda 2
A89: =+A87 -> 1 | B89: =+B87 -> Ime i prezime | G89: =SUM(I89:M89) -> 0 | S89: =IF(F89=0,"",IF(F89=0,1,0.83*((G89-L89-M89/2)/G89)+0.17*((F89-K89-L89-M89/2)/F89)))
A90: Individualni kvalitet NPF-a koji je radio u dva suda u toku perioda izvještavanja
A91: =+A87 -> 1 | B91: =+B87 -> Ime i prezime | D91: Predsjednik suda | F91: =+F87+F89 -> 0 | G91: =SUM(I91:M91) -> 0 | H91: =+H87+H89 -> 0 | I91: =+I87+I89 -> 0 | J91: =+J87+J89 -> 0 | K91: =+K87+K89 -> 0 | L91: =+L87+L89 -> 0 | M91: =+M87+M89 -> 0 | N91: =IF(E91="","",IF(E91="Nije ocijenjen ili Ne treba raditi na predmetima","",IF(E91="Ocijenjen",IF(G91<10,"Član 18. stav 7. Kriterija",(L91+(M91/2))/(G91))))) | O91: =IF(E91="","",IF(E91="Nije ocijenjen ili Ne treba raditi na predmetima","",IF(E91="Ocijenjen",IF(N91="Član 18. stav 7. Kriterija","",IF(N91>0.4,0,IF(N91>0.3,1,IF(N91>0.2,2,IF(N91>0.1,3,IF(N91>0.05,4,IF(N91<=0.05,5,)))))))))) | P91: =IF(E91="","",IF(E91="Nije ocijenjen ili Ne treba raditi na predmetima","",IF(E91="Ocijenjen",IF(F91=0,"",((L91+K91+(M91/2))/(F91)))))) | Q91: =IF(E91="","",IF(E91="Nije ocijenjen ili Ne treba raditi na predmetima","",IF(E91="Ocijenjen",IF(P91>0.2,0,IF(P91>0.15,1,IF(P91>0.1,2,IF(P91>0.06,3,IF(P91>0.03,4,IF(P91<=0.03,5,))))))))) | R91: =IF(E91="","",IF(E91="Nije ocijenjen ili Ne treba raditi na predmetima","",IF(E91="Ocijenjen",IF(N91="Član 18. stav 7. Kriterija",Q91,O91+Q91)))) | S91: =IF(F91=0,"",IF(F91=0,1,0.83*((G91-L91-M91/2)/G91)+0.17*((F91-K91-L91-M91/2)/F91)))
A93: Upisati naziv Suda 1
A94: 2 | B94: Ime i prezime | G94: =SUM(I94:M94) -> 0 | S94: =IF(F94=0,"",IF(F94=0,1,0.83*((G94-L94-M94/2)/G94)+0.17*((F94-K94-L94-M94/2)/F94)))
A95: Upisati naziv Suda 2
A96: =+A94 -> 2 | B96: =+B94 -> Ime i prezime | G96: =SUM(I96:M96) -> 0 | S96: =IF(F96=0,"",IF(F96=0,1,0.83*((G96-L96-M96/2)/G96)+0.17*((F96-K96-L96-M96/2)/F96)))
A97: Individualni kvalitet NPF-a koji je radio u dva suda u toku perioda izvještavanja
A98: =+A94 -> 2 | B98: =+B94 -> Ime i prezime | F98: =+F94+F96 -> 0 | G98: =SUM(I98:M98) -> 0 | H98: =+H94+H96 -> 0 | I98: =+I94+I96 -> 0 | J98: =+J94+J96 -> 0 | K98: =+K94+K96 -> 0 | L98: =+L94+L96 -> 0 | M98: =+M94+M96 -> 0 | N98: =IF(E98="","",IF(E98="Nije ocijenjen","",IF(E98="Ocijenjen",IF(G98<10,"Član 18. stav 7. Kriterija",(L98+(M98/2))/(G98))))) | O98: =IF(E98="","",IF(E98="Nije ocijenjen","",IF(E98="Ocijenjen",IF(N98="Član 18. stav 7. Kriterija","",IF(N98>0.4,0,IF(N98>0.3,5,IF(N98>0.2,10,IF(N98>0.1,15,IF(N98>0.05,20,IF(N98<=0.05,25,)))))))))) | P98: =IF(E98="","",IF(E98="Nije ocijenjen","",IF(E98="Ocijenjen",IF(F98=0,"",((L98+K98+(M98/2))/(F98)))))) | Q98: =IF(E98="","",IF(E98="Nije ocijenjen","",IF(E98="Ocijenjen",IF(P98>0.2,0,IF(P98>0.15,1,IF(P98>0.1,2,IF(P98>0.06,3,IF(P98>0.03,4,IF(P98<=0.03,5,))))))))) | R98: =IF(E98="","",IF(E98="Nije ocijenjen","",IF(E98="Ocijenjen",IF(N98="Član 18. stav 7. Kriterija",Q98,O98+Q98)))) | S98: =IF(F98=0,"",IF(F98=0,1,0.83*((G98-L98-M98/2)/G98)+0.17*((F98-K98-L98-M98/2)/F98)))
A100: Upisati naziv Suda 1
A101: 3 | B101: Ime i prezime | G101: =SUM(I101:M101) -> 0 | S101: =IF(F101=0,"",IF(F101=0,1,0.83*((G101-L101-M101/2)/G101)+0.17*((F101-K101-L101-M101/2)/F101)))
A102: Upisati naziv Suda 2
A103: =+A101 -> 3 | B103: =+B101 -> Ime i prezime | G103: =SUM(I103:M103) -> 0 | S103: =IF(F103=0,"",IF(F103=0,1,0.83*((G103-L103-M103/2)/G103)+0.17*((F103-K103-L103-M103/2)/F103)))
A104: Individualni kvalitet NPF-a koji je radio u dva suda u toku perioda izvještavanja
A105: =+A101 -> 3 | B105: =+B101 -> Ime i prezime | F105: =+F101+F103 -> 0 | G105: =SUM(I105:M105) -> 0 | H105: =+H101+H103 -> 0 | I105: =+I101+I103 -> 0 | J105: =+J101+J103 -> 0 | K105: =+K101+K103 -> 0 | L105: =+L101+L103 -> 0 | M105: =+M101+M103 -> 0 | N105: =IF(E105="","",IF(E105="Nije ocijenjen","",IF(E105="Ocijenjen",IF(G105<10,"Član 18. stav 7. Kriterija",(L105+(M105/2))/(G105))))) | O105: =IF(E105="","",IF(E105="Nije ocijenjen","",IF(E105="Ocijenjen",IF(N105="Član 18. stav 7. Kriterija","",IF(N105>0.4,0,IF(N105>0.3,5,IF(N105>0.2,10,IF(N105>0.1,15,IF(N105>0.05,20,IF(N105<=0.05,25,)))))))))) | P105: =IF(E105="","",IF(E105="Nije ocijenjen","",IF(E105="Ocijenjen",IF(F105=0,"",((L105+K105+(M105/2))/(F105)))))) | Q105: =IF(E105="","",IF(E105="Nije ocijenjen","",IF(E105="Ocijenjen",IF(P105>0.2,0,IF(P105>0.15,1,IF(P105>0.1,2,IF(P105>0.06,3,IF(P105>0.03,4,IF(P105<=0.03,5,))))))))) | R105: =IF(E105="","",IF(E105="Nije ocijenjen","",IF(E105="Ocijenjen",IF(N105="Član 18. stav 7. Kriterija",Q105,O105+Q105)))) | S105: =IF(F105=0,"",IF(F105=0,1,0.83*((G105-L105-M105/2)/G105)+0.17*((F105-K105-L105-M105/2)/F105)))
A107: Upisati naziv Suda 1
A108: 4 | B108: Ime i prezime | G108: =SUM(I108:M108) -> 0 | S108: =IF(F108=0,"",IF(F108=0,1,0.83*((G108-L108-M108/2)/G108)+0.17*((F108-K108-L108-M108/2)/F108)))
A109: Upisati naziv Suda 2
A110: =+A108 -> 4 | B110: =+B108 -> Ime i prezime | G110: =SUM(I110:M110) -> 0 | S110: =IF(F110=0,"",IF(F110=0,1,0.83*((G110-L110-M110/2)/G110)+0.17*((F110-K110-L110-M110/2)/F110)))
A111: Individualni kvalitet NPF-a koji je radio u dva suda u toku perioda izvještavanja
A112: =+A108 -> 4 | B112: =+B108 -> Ime i prezime | F112: =+F108+F110 -> 0 | G112: =SUM(I112:M112) -> 0 | H112: =+H108+H110 -> 0 | I112: =+I108+I110 -> 0 | J112: =+J108+J110 -> 0 | K112: =+K108+K110 -> 0 | L112: =+L108+L110 -> 0 | M112: =+M108+M110 -> 0 | N112: =IF(E112="","",IF(E112="Nije ocijenjen","",IF(E112="Ocijenjen",IF(G112<10,"Član 18. stav 7. Kriterija",(L112+(M112/2))/(G112))))) | O112: =IF(E112="","",IF(E112="Nije ocijenjen","",IF(E112="Ocijenjen",IF(N112="Član 18. stav 7. Kriterija","",IF(N112>0.4,0,IF(N112>0.3,5,IF(N112>0.2,10,IF(N112>0.1,15,IF(N112>0.05,20,IF(N112<=0.05,25,)))))))))) | P112: =IF(E112="","",IF(E112="Nije ocijenjen","",IF(E112="Ocijenjen",IF(F112=0,"",((L112+K112+(M112/2))/(F112)))))) | Q112: =IF(E112="","",IF(E112="Nije ocijenjen","",IF(E112="Ocijenjen",IF(P112>0.2,0,IF(P112>0.15,1,IF(P112>0.1,2,IF(P112>0.06,3,IF(P112>0.03,4,IF(P112<=0.03,5,))))))))) | R112: =IF(E112="","",IF(E112="Nije ocijenjen","",IF(E112="Ocijenjen",IF(N112="Član 18. stav 7. Kriterija",Q112,O112+Q112)))) | S112: =IF(F112=0,"",IF(F112=0,1,0.83*((G112-L112-M112/2)/G112)+0.17*((F112-K112-L112-M112/2)/F112)))
A114: Upisati naziv Suda 1
A115: 5 | B115: Ime i prezime | G115: =SUM(I115:M115) -> 0 | S115: =IF(F115=0,"",IF(F115=0,1,0.83*((G115-L115-M115/2)/G115)+0.17*((F115-K115-L115-M115/2)/F115)))
A116: Upisati naziv Suda 2
A117: =+A115 -> 5 | B117: =+B115 -> Ime i prezime | G117: =SUM(I117:M117) -> 0 | S117: =IF(F117=0,"",IF(F117=0,1,0.83*((G117-L117-M117/2)/G117)+0.17*((F117-K117-L117-M117/2)/F117)))
A118: Individualni kvalitet NPF-a koji je radio u dva suda u toku perioda izvještavanja
A119: =+A115 -> 5 | B119: =+B115 -> Ime i prezime | F119: =+F115+F117 -> 0 | G119: =SUM(I119:M119) -> 0 | H119: =+H115+H117 -> 0 | I119: =+I115+I117 -> 0 | J119: =+J115+J117 -> 0 | K119: =+K115+K117 -> 0 | L119: =+L115+L117 -> 0 | M119: =+M115+M117 -> 0 | N119: =IF(E119="","",IF(E119="Nije ocijenjen","",IF(E119="Ocijenjen",IF(G119<10,"Član 18. stav 7. Kriterija",(L119+(M119/2))/(G119))))) | O119: =IF(E119="","",IF(E119="Nije ocijenjen","",IF(E119="Ocijenjen",IF(N119="Član 18. stav 7. Kriterija","",IF(N119>0.4,0,IF(N119>0.3,5,IF(N119>0.2,10,IF(N119>0.1,15,IF(N119>0.05,20,IF(N119<=0.05,25,)))))))))) | P119: =IF(E119="","",IF(E119="Nije ocijenjen","",IF(E119="Ocijenjen",IF(F119=0,"",((L119+K119+(M119/2))/(F119)))))) | Q119: =IF(E119="","",IF(E119="Nije ocijenjen","",IF(E119="Ocijenjen",IF(P119>0.2,0,IF(P119>0.15,1,IF(P119>0.1,2,IF(P119>0.06,3,IF(P119>0.03,4,IF(P119<=0.03,5,))))))))) | R119: =IF(E119="","",IF(E119="Nije ocijenjen","",IF(E119="Ocijenjen",IF(N119="Član 18. stav 7. Kriterija",Q119,O119+Q119)))) | S119: =IF(F119=0,"",IF(F119=0,1,0.83*((G119-L119-M119/2)/G119)+0.17*((F119-K119-L119-M119/2)/F119)))
A121: Upisati naziv Suda 1
A122: 6 | B122: Ime i prezime | G122: =SUM(I122:M122) -> 0 | S122: =IF(F122=0,"",IF(F122=0,1,0.83*((G122-L122-M122/2)/G122)+0.17*((F122-K122-L122-M122/2)/F122)))
A123: Upisati naziv Suda 2
A124: =+A122 -> 6 | B124: =+B122 -> Ime i prezime | G124: =SUM(I124:M124) -> 0 | S124: =IF(F124=0,"",IF(F124=0,1,0.83*((G124-L124-M124/2)/G124)+0.17*((F124-K124-L124-M124/2)/F124)))
A125: Individualni kvalitet NPF-a koji je radio u dva suda u toku perioda izvještavanja
A126: =+A122 -> 6 | B126: =+B122 -> Ime i prezime | F126: =+F122+F124 -> 0 | G126: =SUM(I126:M126) -> 0 | H126: =+H122+H124 -> 0 | I126: =+I122+I124 -> 0 | J126: =+J122+J124 -> 0 | K126: =+K122+K124 -> 0 | L126: =+L122+L124 -> 0 | M126: =+M122+M124 -> 0 | N126: =IF(E126="","",IF(E126="Nije ocijenjen","",IF(E126="Ocijenjen",IF(G126<10,"Član 18. stav 7. Kriterija",(L126+(M126/2))/(G126))))) | O126: =IF(E126="","",IF(E126="Nije ocijenjen","",IF(E126="Ocijenjen",IF(N126="Član 18. stav 7. Kriterija","",IF(N126>0.4,0,IF(N126>0.3,5,IF(N126>0.2,10,IF(N126>0.1,15,IF(N126>0.05,20,IF(N126<=0.05,25,)))))))))) | P126: =IF(E126="","",IF(E126="Nije ocijenjen","",IF(E126="Ocijenjen",IF(F126=0,"",((L126+K126+(M126/2))/(F126)))))) | Q126: =IF(E126="","",IF(E126="Nije ocijenjen","",IF(E126="Ocijenjen",IF(P126>0.2,0,IF(P126>0.15,1,IF(P126>0.1,2,IF(P126>0.06,3,IF(P126>0.03,4,IF(P126<=0.03,5,))))))))) | R126: =IF(E126="","",IF(E126="Nije ocijenjen","",IF(E126="Ocijenjen",IF(N126="Član 18. stav 7. Kriterija",Q126,O126+Q126)))) | S126: =IF(F126=0,"",IF(F126=0,1,0.83*((G126-L126-M126/2)/G126)+0.17*((F126-K126-L126-M126/2)/F126)))
A128: Upisati naziv Suda 1
A129: 7 | B129: Ime i prezime | G129: =SUM(I129:M129) -> 0 | S129: =IF(F129=0,"",IF(F129=0,1,0.83*((G129-L129-M129/2)/G129)+0.17*((F129-K129-L129-M129/2)/F129)))
A130: Upisati naziv Suda 2
A131: =+A129 -> 7 | B131: =+B129 -> Ime i prezime | G131: =SUM(I131:M131) -> 0 | S131: =IF(F131=0,"",IF(F131=0,1,0.83*((G131-L131-M131/2)/G131)+0.17*((F131-K131-L131-M131/2)/F131)))
A132: Individualni kvalitet NPF-a koji je radio u dva suda u toku perioda izvještavanja
A133: =+A129 -> 7 | B133: =+B129 -> Ime i prezime | F133: =+F129+F131 -> 0 | G133: =SUM(I133:M133) -> 0 | H133: =+H129+H131 -> 0 | I133: =+I129+I131 -> 0 | J133: =+J129+J131 -> 0 | K133: =+K129+K131 -> 0 | L133: =+L129+L131 -> 0 | M133: =+M129+M131 -> 0 | N133: =IF(E133="","",IF(E133="Nije ocijenjen","",IF(E133="Ocijenjen",IF(G133<10,"Član 18. stav 7. Kriterija",(L133+(M133/2))/(G133))))) | O133: =IF(E133="","",IF(E133="Nije ocijenjen","",IF(E133="Ocijenjen",IF(N133="Član 18. stav 7. Kriterija","",IF(N133>0.4,0,IF(N133>0.3,5,IF(N133>0.2,10,IF(N133>0.1,15,IF(N133>0.05,20,IF(N133<=0.05,25,)))))))))) | P133: =IF(E133="","",IF(E133="Nije ocijenjen","",IF(E133="Ocijenjen",IF(F133=0,"",((L133+K133+(M133/2))/(F133)))))) | Q133: =IF(E133="","",IF(E133="Nije ocijenjen","",IF(E133="Ocijenjen",IF(P133>0.2,0,IF(P133>0.15,1,IF(P133>0.1,2,IF(P133>0.06,3,IF(P133>0.03,4,IF(P133<=0.03,5,))))))))) | R133: =IF(E133="","",IF(E133="Nije ocijenjen","",IF(E133="Ocijenjen",IF(N133="Član 18. stav 7. Kriterija",Q133,O133+Q133)))) | S133: =IF(F133=0,"",IF(F133=0,1,0.83*((G133-L133-M133/2)/G133)+0.17*((F133-K133-L133-M133/2)/F133)))
A135: Upisati naziv Suda 1
A136: 8 | B136: Ime i prezime | G136: =SUM(I136:M136) -> 0 | S136: =IF(F136=0,"",IF(F136=0,1,0.83*((G136-L136-M136/2)/G136)+0.17*((F136-K136-L136-M136/2)/F136)))
A137: Upisati naziv Suda 2
A138: =+A136 -> 8 | B138: =+B136 -> Ime i prezime | G138: =SUM(I138:M138) -> 0 | S138: =IF(F138=0,"",IF(F138=0,1,0.83*((G138-L138-M138/2)/G138)+0.17*((F138-K138-L138-M138/2)/F138)))
A139: Individualni kvalitet NPF-a koji je radio u dva suda u toku perioda izvještavanja
A140: =+A136 -> 8 | B140: =+B136 -> Ime i prezime | F140: =+F136+F138 -> 0 | G140: =SUM(I140:M140) -> 0 | H140: =+H136+H138 -> 0 | I140: =+I136+I138 -> 0 | J140: =+J136+J138 -> 0 | K140: =+K136+K138 -> 0 | L140: =+L136+L138 -> 0 | M140: =+M136+M138 -> 0 | N140: =IF(E140="","",IF(E140="Nije ocijenjen","",IF(E140="Ocijenjen",IF(G140<10,"Član 18. stav 7. Kriterija",(L140+(M140/2))/(G140))))) | O140: =IF(E140="","",IF(E140="Nije ocijenjen","",IF(E140="Ocijenjen",IF(N140="Član 18. stav 7. Kriterija","",IF(N140>0.4,0,IF(N140>0.3,5,IF(N140>0.2,10,IF(N140>0.1,15,IF(N140>0.05,20,IF(N140<=0.05,25,)))))))))) | P140: =IF(E140="","",IF(E140="Nije ocijenjen","",IF(E140="Ocijenjen",IF(F140=0,"",((L140+K140+(M140/2))/(F140)))))) | Q140: =IF(E140="","",IF(E140="Nije ocijenjen","",IF(E140="Ocijenjen",IF(P140>0.2,0,IF(P140>0.15,1,IF(P140>0.1,2,IF(P140>0.06,3,IF(P140>0.03,4,IF(P140<=0.03,5,))))))))) | R140: =IF(E140="","",IF(E140="Nije ocijenjen","",IF(E140="Ocijenjen",IF(N140="Član 18. stav 7. Kriterija",Q140,O140+Q140)))) | S140: =IF(F140=0,"",IF(F140=0,1,0.83*((G140-L140-M140/2)/G140)+0.17*((F140-K140-L140-M140/2)/F140)))
A142: Upisati naziv Suda 1
A143: 9 | B143: Ime i prezime | G143: =SUM(I143:M143) -> 0 | S143: =IF(F143=0,"",IF(F143=0,1,0.83*((G143-L143-M143/2)/G143)+0.17*((F143-K143-L143-M143/2)/F143)))
A144: Upisati naziv Suda 2
A145: =+A143 -> 9 | B145: =+B143 -> Ime i prezime | G145: =SUM(I145:M145) -> 0 | S145: =IF(F145=0,"",IF(F145=0,1,0.83*((G145-L145-M145/2)/G145)+0.17*((F145-K145-L145-M145/2)/F145)))
A146: Individualni kvalitet NPF-a koji je radio u dva suda u toku perioda izvještavanja
A147: =+A143 -> 9 | B147: =+B143 -> Ime i prezime | F147: =+F143+F145 -> 0 | G147: =SUM(I147:M147) -> 0 | H147: =+H143+H145 -> 0 | I147: =+I143+I145 -> 0 | J147: =+J143+J145 -> 0 | K147: =+K143+K145 -> 0 | L147: =+L143+L145 -> 0 | M147: =+M143+M145 -> 0 | N147: =IF(E147="","",IF(E147="Nije ocijenjen","",IF(E147="Ocijenjen",IF(G147<10,"Član 18. stav 7. Kriterija",(L147+(M147/2))/(G147))))) | O147: =IF(E147="","",IF(E147="Nije ocijenjen","",IF(E147="Ocijenjen",IF(N147="Član 18. stav 7. Kriterija","",IF(N147>0.4,0,IF(N147>0.3,5,IF(N147>0.2,10,IF(N147>0.1,15,IF(N147>0.05,20,IF(N147<=0.05,25,)))))))))) | P147: =IF(E147="","",IF(E147="Nije ocijenjen","",IF(E147="Ocijenjen",IF(F147=0,"",((L147+K147+(M147/2))/(F147)))))) | Q147: =IF(E147="","",IF(E147="Nije ocijenjen","",IF(E147="Ocijenjen",IF(P147>0.2,0,IF(P147>0.15,1,IF(P147>0.1,2,IF(P147>0.06,3,IF(P147>0.03,4,IF(P147<=0.03,5,))))))))) | R147: =IF(E147="","",IF(E147="Nije ocijenjen","",IF(E147="Ocijenjen",IF(N147="Član 18. stav 7. Kriterija",Q147,O147+Q147)))) | S147: =IF(F147=0,"",IF(F147=0,1,0.83*((G147-L147-M147/2)/G147)+0.17*((F147-K147-L147-M147/2)/F147)))
A149: Upisati naziv Suda 1
A150: 10 | B150: Ime i prezime | G150: =SUM(I150:M150) -> 0 | S150: =IF(F150=0,"",IF(F150=0,1,0.83*((G150-L150-M150/2)/G150)+0.17*((F150-K150-L150-M150/2)/F150)))
...

Sheet tblIII
A1: Sud | B1: Godina | C1: ImePrezime | D1: Naziv odjela | E1: Funkcija | F1: Ocij/NijeOcij | G1: UkBrDonOdlnsmiPrLijek | H1: UkBrOzOdl | I1: BrOdbPravLijekova | J1: BrPotOdl | K1: BrPreinOdl | L1: BrPreOdlNakOdGlRas/PretPredDrugSud | M1: BrUkOdl | N1: BrDjelUkOdl | O1: KvaSudOdlČl16/1/a | P1: BrOstBodZaKvalČl16/1/a | Q1: KvalSudOdlČl16/1/b | R1: BrOstBodZaKvalČl16/1/b | S1: UkBrOstBodZaKval | T1: KvalSudOdlČl16/1/b
A2: =+'Tabela I'!$K$2 -> 0 | B2: =+'Tabela I'!$K$1 -> 2020 | C2: =+'Tabela III'!B10 -> Vladimir Špoljarić | E2: =+'Tabela III'!D10 -> Predsjednik suda * | F2: =+'Tabela III'!E10 -> 0 | G2: =+'Tabela III'!F10 -> 0 | H2: =+'Tabela III'!G10 -> 0 | I2: =+'Tabela III'!H10 -> 0 | J2: =+'Tabela III'!I10 -> 0 | K2: =+'Tabela III'!J10 -> 0 | L2: =+'Tabela III'!K10 -> 0 | ... S2: =+'Tabela III'!R10 | W2: Ocijenjen
A3: =+'Tabela I'!$K$2 -> 0 | B3: =+'Tabela I'!$K$1 -> 2020 | C3: ='Tabela III'!B11 -> Adisa Zahiragić | D3: =+'Tabela III'!C11 -> KRIVIĆNI | E3: =+'Tabela III'!D11 -> Predsjednik odjela | F3: =+'Tabela III'!E11 -> 0 | G3: =+'Tabela III'!F11 -> 7 | H3: =+'Tabela III'!G11 -> 6 | I3: =+'Tabela III'!H11 -> 0 | J3: =+'Tabela III'!I11 -> 4 | K3: =+'Tabela III'!J11 -> 0 | ... S3: =+'Tabela III'!R11 | U3: Sudija | W3: Nije ocijenjen
A4: =+'Tabela I'!$K$2 -> 0 | B4: =+'Tabela I'!$K$1 -> 2020 | C4: =+'Tabela III'!B12 -> Jasenko Ružić | D4: =+'Tabela III'!C12 -> KRIVIČNI | E4: =+'Tabela III'!D12 -> Sudija | F4: =+'Tabela III'!E12 -> 0 | G4: =+'Tabela III'!F12 -> 69 | H4: =+'Tabela III'!G12 -> 44 | I4: =+'Tabela III'!H12 -> 0 | J4: =+'Tabela III'!I12 -> 37 | ... S4: =+'Tabela III'!R12 | U4: Stručni saradnik
A5: =+'Tabela I'!$K$2 -> 0 | B5: =+'Tabela I'!$K$1 -> 2020 | C5: =+'Tabela III'!B13 -> Indira Jahić | D5: =+'Tabela III'!C13 -> KRIVIČNI | E5: =+'Tabela III'!D13 -> Sudija | F5: =+'Tabela III'!E13 -> 0 | G5: =+'Tabela III'!F13 -> 94 | H5: =+'Tabela III'!G13 -> 49 | I5: =+'Tabela III'!H13 -> 0 | J5: =+'Tabela III'!I13 -> 41 | ... S5: =+'Tabela III'!R13
A6: =+'Tabela I'!$K$2 -> 0 | B6: =+'Tabela I'!$K$1 -> 2020 | C6: =+'Tabela III'!B14 -> Igor Todorović | D6: =+'Tabela III'!C14 -> KRIVIČNI | E6: =+'Tabela III'!D14 -> Sudija | F6: =+'Tabela III'!E14 -> 0 | G6: =+'Tabela III'!F14 -> 84 | H6: =+'Tabela III'!G14 -> 42 | I6: =+'Tabela III'!H14 -> 0 | J6: =+'Tabela III'!I14 -> 34 | ... S6: =+'Tabela III'!R14
A7: =+'Tabela I'!$K$2 -> 0 | B7: =+'Tabela I'!$K$1 -> 2020 | C7: =+'Tabela III'!B15 -> Elvira Begović | D7: =+'Tabela III'!C15 -> KRIVIČNI | E7: =+'Tabela III'!D15 -> Sudija | F7: =+'Tabela III'!E15 -> 0 | G7: =+'Tabela III'!F15 -> 74 | H7: =+'Tabela III'!G15 -> 48 | I7: =+'Tabela III'!H15 -> 0 | J7: =+'Tabela III'!I15 -> 44 | ... S7: =+'Tabela III'!R15
A8: =+'Tabela I'!$K$2 -> 0 | B8: =+'Tabela I'!$K$1 -> 2020 | C8: =+'Tabela III'!B16 -> Sanela Rondić | D8: =+'Tabela III'!C16 -> KRIVIČNI | E8: =+'Tabela III'!D16 -> Sudija | F8: =+'Tabela III'!E16 -> 0 | G8: =+'Tabela III'!F16 -> 98 | H8: =+'Tabela III'!G16 -> 58 | I8: =+'Tabela III'!H16 -> 0 | J8: =+'Tabela III'!I16 -> 55 | ... S8: =+'Tabela III'!R16
A9: =+'Tabela I'!$K$2 -> 0 | B9: =+'Tabela I'!$K$1 -> 2020 | C9: =+'Tabela III'!B17 -> Rozita Šimić | D9: =+'Tabela III'!C17 -> KRIVIČNI | E9: =+'Tabela III'!D17 -> Sudija | F9: =+'Tabela III'!E17 -> 0 | G9: =+'Tabela III'!F17 -> 79 | H9: =+'Tabela III'!G17 -> 46 | I9: =+'Tabela III'!H17 -> 0 | J9: =+'Tabela III'!I17 -> 31 | ... S9: =+'Tabela III'!R17
A10: =+'Tabela I'!$K$2 -> 0 | B10: =+'Tabela I'!$K$1 -> 2020 | C10: =+'Tabela III'!B18 -> Žana Knežević | D10: =+'Tabela III'!C18 -> KRIVIČNI | E10: =+'Tabela III'!D18 -> Sudija | F10: =+'Tabela III'!E18 -> 0 | G10: =+'Tabela III'!F18 -> 98 | H10: =+'Tabela III'!G18 -> 41 | I10: =+'Tabela III'!H18 -> 0 | J10: =+'Tabela III'!I18 -> 39 | ... S10: =+'Tabela III'!R18
A11: =+'Tabela I'!$K$2 -> 0 | B11: =+'Tabela I'!$K$1 -> 2020 | C11: =+'Tabela III'!B19 -> Danijela Mikić | D11: =+'Tabela III'!C19 -> UPRAVNI | E11: =+'Tabela III'!D19 -> Predsjednik odjela | F11: =+'Tabela III'!E19 -> 0 | G11: =+'Tabela III'!F19 -> 217 | H11: =+'Tabela III'!G19 -> 29 | I11: =+'Tabela III'!H19 -> 4 | J11: =+'Tabela III'!I19 -> 27 | ... S11: =+'Tabela III'!R19
A12: =+'Tabela I'!$K$2 -> 0 | B12: =+'Tabela I'!$K$1 -> 2020 | C12: =+'Tabela III'!B20 -> Aida Salčinović Kuljanin | D12: =+'Tabela III'!C20 -> UPRAVNI | E12: =+'Tabela III'!D20 -> Sudija | F12: =+'Tabela III'!E20 -> 0 | G12: =+'Tabela III'!F20 -> 196 | H12: =+'Tabela III'!G20 -> 23 | I12: =+'Tabela III'!H20 -> 6 | J12: =+'Tabela III'!I20 -> 23 | ... S12: =+'Tabela III'!R20
A13: =+'Tabela I'!$K$2 -> 0 | B13: =+'Tabela I'!$K$1 -> 2020 | C13: =+'Tabela III'!B21 -> Aida Šabanović | D13: =+'Tabela III'!C21 -> UPRAVNI | E13: =+'Tabela III'!D21 -> Sudija | F13: =+'Tabela III'!E21 -> 0 | G13: =+'Tabela III'!F21 -> 219 | H13: =+'Tabela III'!G21 -> 35 | I13: =+'Tabela III'!H21 -> 4 | J13: =+'Tabela III'!I21 -> 29 | ... S13: =+'Tabela III'!R21
A14: =+'Tabela I'!$K$2 -> 0 | B14: =+'Tabela I'!$K$1 -> 2020 | C14: =+'Tabela III'!B22 -> Rada Bjeljac | D14: =+'Tabela III'!C22 -> UPRAVNI | E14: =+'Tabela III'!D22 -> Sudija | F14: =+'Tabela III'!E22 -> 0 | G14: =+'Tabela III'!F22 -> 162 | H14: =+'Tabela III'!G22 -> 12 | I14: =+'Tabela III'!H22 -> 1 | J14: =+'Tabela III'!I22 -> 11 | ... S14: =+'Tabela III'!R22
A15: =+'Tabela I'!$K$2 -> 0 | B15: =+'Tabela I'!$K$1 -> 2020 | C15: =+'Tabela III'!B23 -> Slavica Džaferović | D15: =+'Tabela III'!C23 -> UPRAVNI | E15: =+'Tabela III'!D23 -> Sudija | F15: =+'Tabela III'!E23 -> 0 | G15: =+'Tabela III'!F23 -> 226 | H15: =+'Tabela III'!G23 -> 19 | I15: =+'Tabela III'!H23 -> 6 | J15: =+'Tabela III'!I23 -> 18 | ... S15: =+'Tabela III'!R23
A16: =+'Tabela I'!$K$2 -> 0 | B16: =+'Tabela I'!$K$1 -> 2020 | C16: =+'Tabela III'!B24 -> Vildana Mujagić | D16: =+'Tabela III'!C24 -> UPRAVNI | E16: =+'Tabela III'!D24 -> Sudija | F16: =+'Tabela III'!E24 -> 0 | G16: =+'Tabela III'!F24 -> 166 | H16: =+'Tabela III'!G24 -> 44 | I16: =+'Tabela III'!H24 -> 2 | J16: =+'Tabela III'!I24 -> 39 | ... S16: =+'Tabela III'!R24
... A71: =+'Tabela I'!$K$2 -> 0 | B71: =+'Tabela I'!$K$1 -> 2020 | C71: =+'Tabela III'!B79 -> 0 | D71: =+'Tabela III'!C79 -> 0 | E71: =+'Tabela III'!D79 -> 0 | F71: =+'Tabela III'!E79 -> 0 | G71: =+'Tabela III'!F79 -> 0 | H71: =+'Tabela III'!G79 -> 0 | I71: =+'Tabela III'!H79 -> 0 | J71: =+'Tabela III'!I79 -> 0 | ... S71: =+'Tabela III'!R79
A74: Tabela IIIb
A76: =+'Tabela I'!$K$2 -> 0 | B76: =+'Tabela I'!$K$1 -> 2020 | C76: =+'Tabela III'!B91 -> Ime i prezime | D76: =+'Tabela III'!C91 -> 0 | E76: =+'Tabela III'!D91 -> Predsjednik suda | F76: =+'Tabela III'!E91 -> 0 | G76: =+'Tabela III'!F91 -> 0 | H76: =+'Tabela III'!G91 -> 0 | I76: =+'Tabela III'!H91 -> 0 | J76: =+'Tabela III'!I91 -> 0 | ... S76: =+'Tabela III'!R91
A77: =+'Tabela I'!$K$2 -> 0 | B77: =+'Tabela I'!$K$1 -> 2020 | C77: =+'Tabela III'!B98 -> Ime i prezime | D77: =+'Tabela III'!C98 -> 0 | E77: =+'Tabela III'!D98 -> 0 | F77: =+'Tabela III'!E98 -> 0 | G77: =+'Tabela III'!F98 -> 0 | H77: =+'Tabela III'!G98 -> 0 | I77: =+'Tabela III'!H98 -> 0 | J77: =+'Tabela III'!I98 -> 0 | ... S77: =+'Tabela III'!R98
A78: =+'Tabela I'!$K$2 -> 0 | B78: =+'Tabela I'!$K$1 -> 2020 | C78: =+'Tabela III'!B105 -> Ime i prezime | D78: =+'Tabela III'!C105 -> 0 | E78: =+'Tabela III'!D105 -> 0 | F78: =+'Tabela III'!E105 -> 0 | G78: =+'Tabela III'!F105 -> 0 | H78: =+'Tabela III'!G105 -> 0 | I78: =+'Tabela III'!H105 -> 0 | J78: =+'Tabela III'!I105 -> 0 | ... S78: =+'Tabela III'!R105
A79: =+'Tabela I'!$K$2 -> 0 | B79: =+'Tabela I'!$K$1 -> 2020 | C79: =+'Tabela III'!B112 -> Ime i prezime | D79: =+'Tabela III'!C112 -> 0 | E79: =+'Tabela III'!D112 -> 0 | F79: =+'Tabela III'!E112 -> 0 | G79: =+'Tabela III'!F112 -> 0 | H79: =+'Tabela III'!G112 -> 0 | I79: =+'Tabela III'!H112 -> 0 | J79: =+'Tabela III'!I112 -> 0 | ... S79: =+'Tabela III'!R112
A80: =+'Tabela I'!$K$2 -> 0 | B80: =+'Tabela I'!$K$1 -> 2020 | C80: =+'Tabela III'!B119 -> Ime i prezime | D80: =+'Tabela III'!C119 -> 0 | E80: =+'Tabela III'!D119 -> 0 | F80: =+'Tabela III'!E119 -> 0 | G80: =+'Tabela III'!F119 -> 0 | H80: =+'Tabela III'!G119 -> 0 | I80: =+'Tabela III'!H119 -> 0 | J80: =+'Tabela III'!I119 -> 0 | ... S80: =+'Tabela III'!R119
A81: =+'Tabela I'!$K$2 -> 0 | B81: =+'Tabela I'!$K$1 -> 2020 | C81: =+'Tabela III'!B126 -> Ime i prezime | D81: =+'Tabela III'!C126 -> 0 | E81: =+'Tabela III'!D126 -> 0 | F81: =+'Tabela III'!E126 -> 0 | G81: =+'Tabela III'!F126 -> 0 | H81: =+'Tabela III'!G126 -> 0 | I81: =+'Tabela III'!H126 -> 0 | J81: =+'Tabela III'!I126 -> 0 | ... S81: =+'Tabela III'!R126
A82: =+'Tabela I'!$K$2 -> 0 | B82: =+'Tabela I'!$K$1 -> 2020 | C82: =+'Tabela III'!B133 -> Ime i prezime | D82: =+'Tabela III'!C133 -> 0 | E82: =+'Tabela III'!D133 -> 0 | F82: =+'Tabela III'!E133 -> 0 | G82: =+'Tabela III'!F133 -> 0 | H82: =+'Tabela III'!G133 -> 0 | I82: =+'Tabela III'!H133 -> 0 | J82: =+'Tabela III'!I133 -> 0 | ... S82: =+'Tabela III'!R133
A83: =+'Tabela I'!$K$2 -> 0 | B83: =+'Tabela I'!$K$1 -> 2020 | C83: =+'Tabela III'!B140 -> Ime i prezime | D83: =+'Tabela III'!C140 -> 0 | E83: =+'Tabela III'!D140 -> 0 | F83: =+'Tabela III'!E140 -> 0 | G83: =+'Tabela III'!F140 -> 0 | H83: =+'Tabela III'!G140 -> 0 | I83: =+'Tabela III'!H140 -> 0 | J83: =+'Tabela III'!I140 -> 0 | ... S83: =+'Tabela III'!R140
A84: =+'Tabela I'!$K$2 -> 0 | B84: =+'Tabela I'!$K$1 -> 2020 | C84: =+'Tabela III'!B147 -> Ime i prezime | D84: =+'Tabela III'!C147 -> 0 | E84: =+'Tabela III'!D147 -> 0 | F84: =+'Tabela III'!E147 -> 0 | G84: =+'Tabela III'!F147 -> 0 | H84: =+'Tabela III'!G147 -> 0 | I84: =+'Tabela III'!H147 -> 0 | J84: =+'Tabela III'!I147 -> 0 | ... S84: =+'Tabela III'!R147
A85: =+'Tabela I'!$K$2 -> 0 | B85: =+'Tabela I'!$K$1 -> 2020 | C85: =+'Tabela III'!B154 -> Ime i prezime | D85: =+'Tabela III'!C154 -> 0 | E85: =+'Tabela III'!D154 -> 0 | F85: =+'Tabela III'!E154 -> 0 | G85: =+'Tabela III'!F154 -> 0 | H85: =+'Tabela III'!G154 -> 0 | I85: =+'Tabela III'!H154 -> 0 | J85: =+'Tabela III'!I154 -> 0 | ... S85: =+'Tabela III'!R154
A86: =+'Tabela I'!$K$2 -> 0 | B86: =+'Tabela I'!$K$1 -> 2020 | C86: =+'Tabela III'!B161 -> Ime i prezime | D86: =+'Tabela III'!C161 -> 0 | E86: =+'Tabela III'!D161 -> 0 | F86: =+'Tabela III'!E161 -> 0 | G86: =+'Tabela III'!F161 -> 0 | H86: =+'Tabela III'!G161 -> 0 | I86: =+'Tabela III'!H161 -> 0 | J86: =+'Tabela III'!I161 -> 0 | ... S86: =+'Tabela III'!R161
A87: =+'Tabela I'!$K$2 -> 0 | B87: =+'Tabela I'!$K$1 -> 2020 | C87: =+'Tabela III'!B168 -> Ime i prezime | D87: =+'Tabela III'!C168 -> 0 | E87: =+'Tabela III'!D168 -> 0 | F87: =+'Tabela III'!E168 -> 0 | G87: =+'Tabela III'!F168 -> 0 | H87: =+'Tabela III'!G168 -> 0 | I87: =+'Tabela III'!H168 -> 0 | J87: =+'Tabela III'!I168 -> 0 | ... S87: =+'Tabela III'!R168
A88: =+'Tabela I'!$K$2 -> 0 | B88: =+'Tabela I'!$K$1 -> 2020 | C88: =+'Tabela III'!B175 -> Ime i prezime | D88: =+'Tabela III'!C175 -> 0 | E88: =+'Tabela III'!D175 -> 0 | F88: =+'Tabela III'!E175 -> 0 | G88: =+'Tabela III'!F175 -> 0 | H88: =+'Tabela III'!G175 -> 0 | I88: =+'Tabela III'!H175 -> 0 | J88: =+'Tabela III'!I175 -> 0 | ... S88: =+'Tabela III'!R175
A89: =+'Tabela I'!$K$2 -> 0 | B89: =+'Tabela I'!$K$1 -> 2020 | C89: =+'Tabela III'!B182 -> Ime i prezime | D89: =+'Tabela III'!C182 -> 0 | E89: =+'Tabela III'!D182 -> 0 | F89: =+'Tabela III'!E182 -> 0 | G89: =+'Tabela III'!F182 -> 0 | H89: =+'Tabela III'!G182 -> 0 | I89: =+'Tabela III'!H182 -> 0 | J89: =+'Tabela III'!I182 -> 0 | ... S89: =+'Tabela III'!R182
A90: =+'Tabela I'!$K$2 -> 0 | B90: =+'Tabela I'!$K$1 -> 2020 | C90: =+'Tabela III'!B189 -> Ime i prezime | D90: =+'Tabela III'!C189 -> 0 | E90: =+'Tabela III'!D189 -> 0 | F90: =+'Tabela III'!E189 -> 0 | G90: =+'Tabela III'!F189 -> 0 | H90: =+'Tabela III'!G189 -> 0 | I90: =+'Tabela III'!H189 -> 0 | J90: =+'Tabela III'!I189 -> 0 | ... S90: =+'Tabela III'!R189
A91: =+'Tabela I'!$K$2 -> 0 | B91: =+'Tabela I'!$K$1 -> 2020 | C91: =+'Tabela III'!B196 -> Ime i prezime | D91: =+'Tabela III'!C196 -> 0 | E91: =+'Tabela III'!D196 -> 0 | F91: =+'Tabela III'!E196 -> 0 | G91: =+'Tabela III'!F196 -> 0 | H91: =+'Tabela III'!G196 -> 0 | I91: =+'Tabela III'!H196 -> 0 | J91: =+'Tabela III'!I196 -> 0 | ... S91: =+'Tabela III'!R196
A92: =+'Tabela I'!$K$2 -> 0 | B92: =+'Tabela I'!$K$1 -> 2020 | C92: =+'Tabela III'!B203 -> Ime i prezime | D92: =+'Tabela III'!C203 -> 0 | E92: =+'Tabela III'!D203 -> 0 | F92: =+'Tabela III'!E203 -> 0 | G92: =+'Tabela III'!F203 -> 0 | H92: =+'Tabela III'!G203 -> 0 | I92: =+'Tabela III'!H203 -> 0 | J92: =+'Tabela III'!I203 -> 0 | ... S92: =+'Tabela III'!R203
A93: =+'Tabela I'!$K$2 -> 0 | B93: =+'Tabela I'!$K$1 -> 2020 | C93: =+'Tabela III'!B210 -> Ime i prezime | D93: =+'Tabela III'!C210 -> 0 | E93: =+'Tabela III'!D210 -> 0 | F93: =+'Tabela III'!E210 -> 0 | G93: =+'Tabela III'!F210 -> 0 | H93: =+'Tabela III'!G210 -> 0 | I93: =+'Tabela III'!H210 -> 0 | J93: =+'Tabela III'!I210 -> 0 | ... S93: =+'Tabela III'!R210
A94: =+'Tabela I'!$K$2 -> 0 | B94: =+'Tabela I'!$K$1 -> 2020 | C94: =+'Tabela III'!B217 -> Ime i prezime | D94: =+'Tabela III'!C217 -> 0 | E94: =+'Tabela III'!D217 -> 0 | F94: =+'Tabela III'!E217 -> 0 | G94: =+'Tabela III'!F217 -> 0 | H94: =+'Tabela III'!G217 -> 0 | I94: =+'Tabela III'!H217 -> 0 | J94: =+'Tabela III'!I217 -> 0 | ... S94: =+'Tabela III'!R217
A95: =+'Tabela I'!$K$2 -> 0 | B95: =+'Tabela I'!$K$1 -> 2020 | C95: =+'Tabela III'!B224 -> Ime i prezime | D95: =+'Tabela III'!C224 -> 0 | E95: =+'Tabela III'!D224 -> 0 | F95: =+'Tabela III'!E224 -> 0 | G95: =+'Tabela III'!F224 -> 0 | H95: =+'Tabela III'!G224 -> 0 | I95: =+'Tabela III'!H224 -> 0 | J95: =+'Tabela III'!I224 -> 0 | ... S95: =+'Tabela III'!R224

Sheet Tabela IV
A1: =+'Tabela I'!A1 -> Kantonalni/Okružni sud: | B1: =+'Tabela I'!C1 -> KANTONALNI SUD U SARAJEVU
A2: Izvještajni period: | B2: =+'Tabela I'!B2 -> 1.1.2020.-31.12.2020.
A3: Tabela IV - Odluke Ustavnog suda BiH
A4: Tabela IVa - Odluke kojima se ne usvaja apelacija
A5: Broj odluka kojima se odbacuje apelacija | B5: Broj odluka kojima se obustavlja postupak pred Ustavnim sudom BiH | C5: Broj odluka kojima se odbija apelacija | D5: Ukupno
A6: I | B6: II | C6: III | D6: IV=I+II+III
D7: =IF(SUM(A7:C7)=0," ",SUM(A7:C7))
A8: Tabela IVb - Odluke kojima se usvaja apelacija
A9: Pravni osnov | B9: Broj odluka kojima se usvaja apelacija | E9: Ukupno
B10: Broj odluka kojima se preinačuju odluke suda | C10: Broj odluka kojima se ukidaju odluke suda | D10: Broj ostalih odluka kojima se usvaja apelacija
B11: I | C11: II | D11: III | E11: IV=I+II+III
A12: Čl. 13. EK (pravo na djelotvorni pravni lijek) | E12: =IF(SUM(B12:D12)=0," ",SUM(B12:D12))
A13: Čl. 3. P7 (naknada za pogrešnu presudu) | E13: =IF(SUM(B13:D13)=0," ",SUM(B13:D13))
A14: Čl. 6. EK i II/3.e) Ustava BiH (pravo na pravično suđenje) | E14: =IF(SUM(B14:D14)=0," ",SUM(B14:D14))
A15: Čl. 5.EK i II/3d Ustava (pravo na ličnu slobodu) | E15: =IF(SUM(B15:D15)=0," ",SUM(B15:D15))
A16: Čl. 1. P.1. i II/3.k) Ustava BiH (pravo na imovinu) | E16: =IF(SUM(B16:D16)=0," ",SUM(B16:D16))
A17: Čl. 1. P.7. (Proceduralne zaštite u vezi sa protjerivanjem stranaca) | E17: =IF(SUM(B17:D17)=0," ",SUM(B17:D17))
A18: Ostalo | E18: =IF(SUM(B18:D18)=0," ",SUM(B18:D18))
A19: Tabela IVc – Predmeti u kojima se nalaže sudu da okonča predmet bez odlaganja zbog kršenja prava na donošenje odluke u razumnom roku
A20: Pravni osnov | B20: Broj odluka kojima se nalaže sudu da okonča predmet bez odlaganja zbog kršenja prava na donošenje odluke u razumnom roku jer je Ustavni sud BiH zaključio da je odugovlačenju postupka najviše doprinio
B21: prvostepeni sud | C21: drugostepeni sud | D21: sud koji rješava predmet po uloženom vanrednom pravnom lijeku | E21: Ostalo | F21: Ukupno
B22: I | C22: II | D22: III | E22: IV | F22: V=I+II+III+IV
A23: Čl. 6 EK i II/3.e) Ustava BiH (pravo na pravično suđenje) | F23: =IF(SUM(B23:E23)=0," ",SUM(B23:E23))
A24: Tabela IVd - Predmeti u kojima je utvrđeno kršenje prava na donošenje odluke u razumnom roku*
A25: Broj predmeta u kojima je određena naknada nematerijalne štete zbog kršenja prava na donošenje odluke u razumnom roku
A26: Ukupan iznos određene naknade
A28: * U Tabelu IVd unose se podaci o predmetima u kojima je usvojena apelacija u odnosu na odluke Vašeg suda i određena naknada nematerijalne štete zbog kršenja prava na donošenje odluke u razumnom roku, kao i ukupan iznos naknade koji je utvrdio Ustavni sud BiH.

Sheet tbl10_ust_sud
A1: for_key | B1: godina | C1: BrOdbacApel | D1: BrObustPost | E1: BrOdbijApel
A2: =+'Tabela I'!$K$2 -> 0 | B2: =+'Tabela I'!$K$1 -> 2020 | C2: ='Tabela IV'!A7 -> 0 | D2: ='Tabela IV'!B7 -> 0 | E2: ='Tabela IV'!C7 -> 0
A5: for_key | B5: godina | C5: Pravni osnov | D5: BrPreinOdl | E5: BrUkidOdl | F5: BrUsvApel
A6: =+'Tabela I'!$K$2 -> 0 | B6: =+'Tabela I'!$K$1 -> 2020 | C6: 1 | D6: ='Tabela IV'!B12 -> 0 | E6: ='Tabela IV'!C12 -> 0 | F6: ='Tabela IV'!D12 -> 0
A7: =+'Tabela I'!$K$2 -> 0 | B7: =+'Tabela I'!$K$1 -> 2020 | C7: 2 | D7: ='Tabela IV'!B13 -> 0 | E7: ='Tabela IV'!C13 -> 0 | F7: ='Tabela IV'!D13 -> 0
A8: =+'Tabela I'!$K$2 -> 0 | B8: =+'Tabela I'!$K$1 -> 2020 | C8: 3 | D8: ='Tabela IV'!B14 -> 0 | E8: ='Tabela IV'!C14 -> 0 | F8: ='Tabela IV'!D14 -> 0
A9: =+'Tabela I'!$K$2 -> 0 | B9: =+'Tabela I'!$K$1 -> 2020 | C9: 4 | D9: ='Tabela IV'!B15 -> 0 | E9: ='Tabela IV'!C15 -> 0 | F9: ='Tabela IV'!D15 -> 0
A10: =+'Tabela I'!$K$2 -> 0 | B10: =+'Tabela I'!$K$1 -> 2020 | C10: 5 | D10: ='Tabela IV'!B16 -> 0 | E10: ='Tabela IV'!C16 -> 0 | F10: ='Tabela IV'!D16 -> 0
A11: =+'Tabela I'!$K$2 -> 0 | B11: =+'Tabela I'!$K$1 -> 2020 | C11: 6 | D11: ='Tabela IV'!B17 -> 0 | E11: ='Tabela IV'!C17 -> 0 | F11: ='Tabela IV'!D17 -> 0
A12: =+'Tabela I'!$K$2 -> 0 | B12: =+'Tabela I'!$K$1 -> 2020 | C12: 7 | D12: ='Tabela IV'!B18 -> 0 | E12: ='Tabela IV'!C18 -> 0 | F12: ='Tabela IV'!D18 -> 0
A15: for_key | B15: godina | C15: Pravni osnov | D15: PrvostSud | E15: DrugostSud | F15: SudPoUlPrLij | G15: Ostalo
A16: =+'Tabela I'!$K$2 -> 0 | B16: =+'Tabela I'!$K$1 -> 2020 | C16: 3 | D16: ='Tabela IV'!B23 -> 0 | E16: ='Tabela IV'!C23 -> 0 | F16: ='Tabela IV'!D23 -> 0 | G16: ='Tabela IV'!E23 -> 0
A19: for_key | B19: godina | C19: BrNaknNematStete | D19: UkIznosNaknade
A20: =+'Tabela I'!$K$2 -> 0 | B20: =+'Tabela I'!$K$1 -> 2020 | C20: ='Tabela IV'!B25 -> 0 | D20: ='Tabela IV'!B26 -> 0

Sheet tbl II
A1: Godina | B1: Sud | C1: ImePrezime | D1: Ocjenjen | E1: Odjel | F1: Funkcija | G1: NormaPravilnik | H1: DatumOd | I1: DatumDo | J1: BroDanaZa Normu | K1: Odsustvo | L1: NormaCMS | M1: NormaVanCMS | N1: VeceVrenovanje | O1: OstvarenaNorma | P1: PreracunataNorma | Q1: BrPredURadu | R1: BrRijPred | S1: BrNerijPredSaZakProcSmet | T1: BrNerijPredBezZakProcSmet | U1: ProcRijePred | V1: BrOStBod
A2: ='Tabela I'!$K$1 -> 2020 | B2: ='Tabela I'!$K$2 -> 0 | C2: ='Tabela II'!B8 -> Vladimir Špoljarić | D2: ='Tabela II'!C8 -> 0 | E2: ='Tabela II'!D8 -> 0 | F2: ='Tabela II'!E8 -> Predsjednik suda | G2: ='Tabela II'!G8 -> Ne treba raditi na predm. | H2: ='Tabela II'!H8 -> 01.01.2020 | I2: ='Tabela II'!I8 -> 13.11.2020 | J2: ='Tabela II'!J8 -> 262 | K2: ='Tabela II'!K8 -> 0 | L2: ='Tabela II'!L8 -> 0.0781 | M2: ='Tabela II'!M8 -> 0 | N2: ='Tabela II'!N8 -> 0 | ... V2: ='Tabela II'!V8
A3: ='Tabela I'!$K$1 -> 2020 | B3: ='Tabela I'!$K$2 -> 0 | C3: ='Tabela II'!B9 -> 0 | D3: ='Tabela II'!C9 -> 0 | E3: ='Tabela II'!D9 -> 0 | F3: ='Tabela II'!E9 -> Predsjednik suda | G3: ='Tabela II'!G9 -> 0 | H3: ='Tabela II'!H9 -> 0 | I3: ='Tabela II'!I9 -> 0 | J3: ='Tabela II'!J9 -> 262 | K3: ='Tabela II'!K9 -> 0 | L3: ='Tabela II'!L9 -> 0 | M3: ='Tabela II'!M9 -> 0 | N3: ='Tabela II'!N9 -> 0 | ... V3: ='Tabela II'!V9
A4: ='Tabela I'!$K$1 -> 2020 | B4: ='Tabela I'!$K$2 -> 0 | C4: ='Tabela II'!B10 -> Adisa Zahiragić | D4: ='Tabela II'!C10 -> 0 | E4: ='Tabela II'!D10 -> KRIVIĆNI | F4: ='Tabela II'!E10 -> Predsjednik odjela | G4: ='Tabela II'!G10 -> 0.8 | H4: ='Tabela II'!H10 -> 01.01.2020 | I4: ='Tabela II'!I10 -> 31.12.2020 | J4: ='Tabela II'!J10 -> 262 | K4: ='Tabela II'!K10 -> 5 | L4: ='Tabela II'!L10 -> 1.1259 | M4: ='Tabela II'!M10 -> 0 | N4: ='Tabela II'!N10 -> 0 | ... V4: ='Tabela II'!V10 -> 30
A5: ='Tabela I'!$K$1 -> 2020 | B5: ='Tabela I'!$K$2 -> 0 | C5: ='Tabela II'!B11 -> Jasenko Ružić | D5: ='Tabela II'!C11 -> 0 | E5: ='Tabela II'!D11 -> KRIVIČNI | F5: ='Tabela II'!E11 -> Sudija | G5: ='Tabela II'!G11 -> 1 | H5: ='Tabela II'!H11 -> 01.01.2020 | I5: ='Tabela II'!I11 -> 31.12.2020 | J5: ='Tabela II'!J11 -> 262 | K5: ='Tabela II'!K11 -> 0 | L5: ='Tabela II'!L11 -> 1.0322 | M5: ='Tabela II'!M11 -> 0 | N5: ='Tabela II'!N11 -> 0 | ... V5: ='Tabela II'!V11 -> 30
A6: ='Tabela I'!$K$1 -> 2020 | B6: ='Tabela I'!$K$2 -> 0 | C6: ='Tabela II'!B12 -> Indira Jahić | D6: ='Tabela II'!C12 -> 0 | E6: ='Tabela II'!D12 -> KRIVIČNI | F6: ='Tabela II'!E12 -> Sudija | G6: ='Tabela II'!G12 -> 1 | H6: ='Tabela II'!H12 -> 01.01.2020 | I6: ='Tabela II'!I12 -> 31.12.2020 | J6: ='Tabela II'!J12 -> 262 | K6: ='Tabela II'!K12 -> 13 | L6: ='Tabela II'!L12 -> 1.0893 | M6: ='Tabela II'!M12 -> 0 | N6: ='Tabela II'!N12 -> 0 | ... V6: ='Tabela II'!V12 -> 30
A7: ='Tabela I'!$K$1 -> 2020 | B7: ='Tabela I'!$K$2 -> 0 | C7: ='Tabela II'!B13 -> Igor Todorović | D7: ='Tabela II'!C13 -> 0 | E7: ='Tabela II'!D13 -> KRIVIČNI | F7: ='Tabela II'!E13 -> Sudija | G7: ='Tabela II'!G13 -> 1 | H7: ='Tabela II'!H13 -> 01.01.2020 | I7: ='Tabela II'!I13 -> 31.12.2020 | J7: ='Tabela II'!J13 -> 262 | K7: ='Tabela II'!K13 -> 22 | L7: ='Tabela II'!L13 -> 1.3183 | M7: ='Tabela II'!M13 -> 0 | N7: ='Tabela II'!N13 -> 0 | ... V7: ='Tabela II'!V13 -> 30
A8: ='Tabela I'!$K$1 -> 2020 | B8: ='Tabela I'!$K$2 -> 0 | C8: ='Tabela II'!B14 -> Elvira Begović | D8: ='Tabela II'!C14 -> 0 | E8: ='Tabela II'!D14 -> KRIVIČNI | F8: ='Tabela II'!E14 -> Sudija | G8: ='Tabela II'!G14 -> 1 | H8: ='Tabela II'!H14 -> 01.01.2020 | I8: ='Tabela II'!I14 -> 31.12.2020 | J8: ='Tabela II'!J14 -> 262 | K8: ='Tabela II'!K14 -> 34 | L8: ='Tabela II'!L14 -> 1.0141 | M8: ='Tabela II'!M14 -> 0 | N8: ='Tabela II'!N14 -> 0 | ... V8: ='Tabela II'!V14 -> 30
A9: ='Tabela I'!$K$1 -> 2020 | B9: ='Tabela I'!$K$2 -> 0 | C9: ='Tabela II'!B15 -> Sanela Rondić | D9: ='Tabela II'!C15 -> 0 | E9: ='Tabela II'!D15 -> KRIVIČNI | F9: ='Tabela II'!E15 -> Sudija | G9: ='Tabela II'!G15 -> 1 | H9: ='Tabela II'!H15 -> 01.01.2020 | I9: ='Tabela II'!I15 -> 31.12.2020 | J9: ='Tabela II'!J15 -> 262 | K9: ='Tabela II'!K15 -> 4 | L9: ='Tabela II'!L15 -> 1.3264 | M9: ='Tabela II'!M15 -> 0 | N9: ='Tabela II'!N15 -> 0 | ... V9: ='Tabela II'!V15 -> 30
A10: ='Tabela I'!$K$1 -> 2020 | B10: ='Tabela I'!$K$2 -> 0 | C10: ='Tabela II'!B16 -> Rozita Šimić | D10: ='Tabela II'!C16 -> 0 | E10: ='Tabela II'!D16 -> KRIVIČNI | F10: ='Tabela II'!E16 -> Sudija | G10: ='Tabela II'!G16 -> 1 | H10: ='Tabela II'!H16 -> 01.01.2020 | I10: ='Tabela II'!I16 -> 31.12.2020 | J10: ='Tabela II'!J16 -> 262 | K10: ='Tabela II'!K16 -> 0 | L10: ='Tabela II'!L16 -> 1.2395 | M10: ='Tabela II'!M16 -> 0 | N10: ='Tabela II'!N16 -> 0 | ... V10: ='Tabela II'!V16 -> 30
A11: ='Tabela I'!$K$1 -> 2020 | B11: ='Tabela I'!$K$2 -> 0 | C11: ='Tabela II'!B17 -> Žana Knežević | D11: ='Tabela II'!C17 -> 0 | E11: ='Tabela II'!D17 -> KRIVIČNI | F11: ='Tabela II'!E17 -> Sudija | G11: ='Tabela II'!G17 -> 1 | H11: ='Tabela II'!H17 -> 01.01.2020 | I11: ='Tabela II'!I17 -> 31.12.2020 | J11: ='Tabela II'!J17 -> 262 | K11: ='Tabela II'!K17 -> 14 | L11: ='Tabela II'!L17 -> 1.2469 | M11: ='Tabela II'!M17 -> 0 | N11: ='Tabela II'!N17 -> 0.0727 | ... V11: ='Tabela II'!V17 -> 30
A12: ='Tabela I'!$K$1 -> 2020 | B12: ='Tabela I'!$K$2 -> 0 | C12: ='Tabela II'!B18 -> Danijela Mikić | D12: ='Tabela II'!C18 -> 0 | E12: ='Tabela II'!D18 -> UPRAVNI | F12: ='Tabela II'!E18 -> Predsjednik odjela | G12: ='Tabela II'!G18 -> 0.8 | H12: ='Tabela II'!H18 -> 01.01.2020 | I12: ='Tabela II'!I18 -> 31.12.2020 | J12: ='Tabela II'!J18 -> 262 | K12: ='Tabela II'!K18 -> 10 | L12: ='Tabela II'!L18 -> 0.9483 | M12: ='Tabela II'!M18 -> 0 | N12: ='Tabela II'!N18 -> 0.05 | ... V12: ='Tabela II'!V18 -> 30
A13: ='Tabela I'!$K$1 -> 2020 | B13: ='Tabela I'!$K$2 -> 0 | C13: ='Tabela II'!B19 -> Aida Salčinović Kuljanin | D13: ='Tabela II'!C19 -> 0 | E13: ='Tabela II'!D19 -> UPRAVNI | F13: ='Tabela II'!E19 -> Sudija | G13: ='Tabela II'!G19 -> 1 | H13: ='Tabela II'!H19 -> 01.01.2020 | I13: ='Tabela II'!I19 -> 31.12.2020 | J13: ='Tabela II'!J19 -> 262 | K13: ='Tabela II'!K19 -> 0 | L13: ='Tabela II'!L19 -> 0.8719 | M13: ='Tabela II'!M19 -> 0 | N13: ='Tabela II'!N19 -> 0.1 | ... V13: ='Tabela II'!V19 -> 25
... A77: ='Tabela I'!$K$1 -> 2020 | B77: ='Tabela I'!$K$2 -> 0 | C77: ='Tabela II'!B83 -> 0 | D77: ='Tabela II'!C83 -> 0 | E77: ='Tabela II'!D83 -> 0 | F77: ='Tabela II'!E83 -> 0 | G77: ='Tabela II'!G83 -> 0 | H77: ='Tabela II'!H83 -> 0 | I77: ='Tabela II'!I83 -> 0 | J77: ='Tabela II'!J83 -> 262 | K77: ='Tabela II'!K83 -> 0 | L77: ='Tabela II'!L83 -> 0 | M77: ='Tabela II'!M83 -> 0 | N77: ='Tabela II'!N83 -> 0 | ... V77: ='Tabela II'!V83
A79: Godina | B79: Sud | C79: ImePrezime | D79: Ocjenjen | E79: Odjel | F79: Funkcija | G79: NormaPravilnik | H79: DatumOd | I79: DatumDo | J79: BroDanaZa Normu | K79: Odsustvo | L79: NormaCMS | M79: NormaVanCMS | N79: VeceVrenovanje | O79: OstvarenaNorma | P79: PreracunataNorma | Q79: BrPredURadu | R79: BrRijPred | S79: BrNerijPredSaZakProcSmet | T79: BrNerijPredBezZakProcSmet | U79: ProcRijePred | V79: BrOStBod | W79: Sud
A80: ='Tabela I'!$K$1 -> 2020 | B80: ='Tabela I'!$K$2 -> 0 | C80: ='Tabela II'!D110 -> 0 | D80: ='Tabela II'!C111 -> 0 | E80: ='Tabela II'!D111 -> 0 | F80: ='Tabela II'!E111 -> Predsjednik suda | G80: ='Tabela II'!G111 -> 0 | H80: ='Tabela II'!H111 -> 0 | I80: ='Tabela II'!I111 -> 0 | J80: ='Tabela II'!J111 -> 0 | K80: ='Tabela II'!K111 -> 0 | L80: ='Tabela II'!L111 -> 0 | M80: ='Tabela II'!M111 -> 0 | N80: ='Tabela II'!N111 -> 0 | ... V80: ='Tabela II'!V111 -> 0 | W80: ='Tabela II'!A111 -> Sud 1
A81: ='Tabela I'!$K$1 -> 2020 | B81: ='Tabela I'!$K$2 -> 0 | C81: ='Tabela II'!D110 -> 0 | D81: ='Tabela II'!C112 -> 0 | E81: ='Tabela II'!D112 -> 0 | F81: ='Tabela II'!E112 -> 0 | G81: ='Tabela II'!G112 -> 0 | H81: ='Tabela II'!H112 -> 0 | I81: ='Tabela II'!I112 -> 0 | J81: ='Tabela II'!J112 -> 0 | K81: ='Tabela II'!K112 -> 0 | L81: ='Tabela II'!L112 -> 0 | M81: ='Tabela II'!M112 -> 0 | N81: ='Tabela II'!N112 -> 0 | ... V81: ='Tabela II'!V112 -> 0 | W81: ='Tabela II'!A112 -> Sud 2
A82: ='Tabela I'!$K$1 -> 2020 | B82: ='Tabela I'!$K$2 -> 0 | C82: ='Tabela II'!D113 -> 0 | D82: ='Tabela II'!C114 -> 0 | E82: ='Tabela II'!D114 -> 0 | F82: ='Tabela II'!E114 -> 0 | G82: ='Tabela II'!G114 -> 0 | H82: ='Tabela II'!H114 -> 0 | I82: ='Tabela II'!I114 -> 0 | J82: ='Tabela II'!J114 -> 0 | K82: ='Tabela II'!K114 -> 0 | L82: ='Tabela II'!L114 -> 0 | M82: ='Tabela II'!M114 -> 0 | N82: ='Tabela II'!N114 -> 0 | ... V82: ='Tabela II'!V114 -> 0 | W82: ='Tabela II'!A114 -> Sud 1
A83: ='Tabela I'!$K$1 -> 2020 | B83: ='Tabela I'!$K$2 -> 0 | C83: ='Tabela II'!D113 -> 0 | D83: ='Tabela II'!C115 -> 0 | E83: ='Tabela II'!D115 -> 0 | F83: ='Tabela II'!E115 -> 0 | G83: ='Tabela II'!G115 -> 0 | H83: ='Tabela II'!H115 -> 0 | I83: ='Tabela II'!I115 -> 0 | J83: ='Tabela II'!J115 -> 0 | K83: ='Tabela II'!K115 -> 0 | L83: ='Tabela II'!L115 -> 0 | M83: ='Tabela II'!M115 -> 0 | N83: ='Tabela II'!N115 -> 0 | ... V83: ='Tabela II'!V115 -> 0 | W83: ='Tabela II'!A115 -> Sud 2
A84: ='Tabela I'!$K$1 -> 2020 | B84: ='Tabela I'!$K$2 -> 0 | C84: ='Tabela II'!D116 -> 0 | D84: ='Tabela II'!C117 -> 0 | E84: ='Tabela II'!D117 -> 0 | F84: ='Tabela II'!E117 -> 0 | G84: ='Tabela II'!G117 -> 0 | H84: ='Tabela II'!H117 -> 0 | I84: ='Tabela II'!I117 -> 0 | J84: ='Tabela II'!J117 -> 0 | K84: ='Tabela II'!K117 -> 0 | L84: ='Tabela II'!L117 -> 0 | M84: ='Tabela II'!M117 -> 0 | N84: ='Tabela II'!N117 -> 0 | ... V84: ='Tabela II'!V117 -> 0 | W84: ='Tabela II'!A117 -> Sud 1
A85: ='Tabela I'!$K$1 -> 2020 | B85: ='Tabela I'!$K$2 -> 0 | C85: ='Tabela II'!D116 -> 0 | D85: ='Tabela II'!C118 -> 0 | E85: ='Tabela II'!D118 -> 0 | F85: ='Tabela II'!E118 -> 0 | G85: ='Tabela II'!G118 -> 0 | H85: ='Tabela II'!H118 -> 0 | I85: ='Tabela II'!I118 -> 0 | J85: ='Tabela II'!J118 -> 0 | K85: ='Tabela II'!K118 -> 0 | L85: ='Tabela II'!L118 -> 0 | M85: ='Tabela II'!M118 -> 0 | N85: ='Tabela II'!N118 -> 0 | ... V85: ='Tabela II'!V118 -> 0 | W85: ='Tabela II'!A118 -> Sud 2
A86: ='Tabela I'!$K$1 -> 2020 | B86: ='Tabela I'!$K$2 -> 0 | C86: ='Tabela II'!D119 -> 0 | D86: ='Tabela II'!C120 -> 0 | E86: ='Tabela II'!D120 -> 0 | F86: ='Tabela II'!E120 -> 0 | G86: ='Tabela II'!G120 -> 0 | H86: ='Tabela II'!H120 -> 0 | I86: ='Tabela II'!I120 -> 0 | J86: ='Tabela II'!J120 -> 0 | K86: ='Tabela II'!K120 -> 0 | L86: ='Tabela II'!L120 -> 0 | M86: ='Tabela II'!M120 -> 0 | N86: ='Tabela II'!N120 -> 0 | ... V86: ='Tabela II'!V120 -> 0 | W86: ='Tabela II'!A120 -> Sud 1
A87: ='Tabela I'!$K$1 -> 2020 | B87: ='Tabela I'!$K$2 -> 0 | C87: ='Tabela II'!D119 -> 0 | D87: ='Tabela II'!C121 -> 0 | E87: ='Tabela II'!D121 -> 0 | F87: ='Tabela II'!E121 -> 0 | G87: ='Tabela II'!G121 -> 0 | H87: ='Tabela II'!H121 -> 0 | I87: ='Tabela II'!I121 -> 0 | J87: ='Tabela II'!J121 -> 0 | K87: ='Tabela II'!K121 -> 0 | L87: ='Tabela II'!L121 -> 0 | M87: ='Tabela II'!M121 -> 0 | N87: ='Tabela II'!N121 -> 0 | ... V87: ='Tabela II'!V121 -> 0 | W87: ='Tabela II'!A121 -> Sud 2
A88: ='Tabela I'!$K$1 -> 2020 | B88: ='Tabela I'!$K$2 -> 0 | C88: ='Tabela II'!D122 -> 0 | D88: ='Tabela II'!C123 -> 0 | E88: ='Tabela II'!D123 -> 0 | F88: ='Tabela II'!E123 -> 0 | G88: ='Tabela II'!G123 -> 0 | H88: ='Tabela II'!H123 -> 0 | I88: ='Tabela II'!I123 -> 0 | J88: ='Tabela II'!J123 -> 0 | K88: ='Tabela II'!K123 -> 0 | L88: ='Tabela II'!L123 -> 0 | M88: ='Tabela II'!M123 -> 0 | N88: ='Tabela II'!N123 -> 0 | ... V88: ='Tabela II'!V123 -> 0 | W88: ='Tabela II'!A123 -> Sud 1
A89: ='Tabela I'!$K$1 -> 2020 | B89: ='Tabela I'!$K$2 -> 0 | C89: ='Tabela II'!D122 -> 0 | D89: ='Tabela II'!C124 -> 0 | E89: ='Tabela II'!D124 -> 0 | F89: ='Tabela II'!E124 -> 0 | G89: ='Tabela II'!G124 -> 0 | H89: ='Tabela II'!H124 -> 0 | I89: ='Tabela II'!I124 -> 0 | J89: ='Tabela II'!J124 -> 0 | K89: ='Tabela II'!K124 -> 0 | L89: ='Tabela II'!L124 -> 0 | M89: ='Tabela II'!M124 -> 0 | N89: ='Tabela II'!N124 -> 0 | ... V89: ='Tabela II'!V124 -> 0 | W89: ='Tabela II'!A124 -> Sud 2
A90: ='Tabela I'!$K$1 -> 2020 | B90: ='Tabela I'!$K$2 -> 0 | C90: ='Tabela II'!D125 -> 0 | D90: ='Tabela II'!C126 -> 0 | E90: ='Tabela II'!D126 -> 0 | F90: ='Tabela II'!E126 -> 0 | G90: ='Tabela II'!G126 -> 0 | H90: ='Tabela II'!H126 -> 0 | I90: ='Tabela II'!I126 -> 0 | J90: ='Tabela II'!J126 -> 0 | K90: ='Tabela II'!K126 -> 0 | L90: ='Tabela II'!L126 -> 0 | M90: ='Tabela II'!M126 -> 0 | N90: ='Tabela II'!N126 -> 0 | ... V90: ='Tabela II'!V126 -> 0 | W90: ='Tabela II'!A126 -> Sud 1
A91: ='Tabela I'!$K$1 -> 2020 | B91: ='Tabela I'!$K$2 -> 0 | C91: ='Tabela II'!D125 -> 0 | D91: ='Tabela II'!C127 -> 0 | E91: ='Tabela II'!D127 -> 0 | F91: ='Tabela II'!E127 -> 0 | G91: ='Tabela II'!G127 -> 0 | H91: ='Tabela II'!H127 -> 0 | I91: ='Tabela II'!I127 -> 0 | J91: ='Tabela II'!J127 -> 0 | K91: ='Tabela II'!K127 -> 0 | L91: ='Tabela II'!L127 -> 0 | M91: ='Tabela II'!M127 -> 0 | N91: ='Tabela II'!N127 -> 0 | ... V91: ='Tabela II'!V127 -> 0 | W91: ='Tabela II'!A127 -> Sud 2
A92: ='Tabela I'!$K$1 -> 2020 | B92: ='Tabela I'!$K$2 -> 0 | C92: ='Tabela II'!D128 -> 0 | D92: ='Tabela II'!C129 -> 0 | E92: ='Tabela II'!D129 -> 0 | F92: ='Tabela II'!E129 -> 0 | G92: ='Tabela II'!G129 -> 0 | H92: ='Tabela II'!H129 -> 0 | I92: ='Tabela II'!I129 -> 0 | J92: ='Tabela II'!J129 -> 0 | K92: ='Tabela II'!K129 -> 0 | L92: ='Tabela II'!L129 -> 0 | M92: ='Tabela II'!M129 -> 0 | N92: ='Tabela II'!N129 -> 0 | ... V92: ='Tabela II'!V129 -> 0 | W92: ='Tabela II'!A129 -> Sud 1
A93: ='Tabela I'!$K$1 -> 2020 | B93: ='Tabela I'!$K$2 -> 0 | C93: ='Tabela II'!D128 -> 0 | D93: ='Tabela II'!C130 -> 0 | E93: ='Tabela II'!D130 -> 0 | F93: ='Tabela II'!E130 -> 0 | G93: ='Tabela II'!G130 -> 0 | H93: ='Tabela II'!H130 -> 0 | I93: ='Tabela II'!I130 -> 0 | J93: ='Tabela II'!J130 -> 0 | K93: ='Tabela II'!K130 -> 0 | L93: ='Tabela II'!L130 -> 0 | M93: ='Tabela II'!M130 -> 0 | N93: ='Tabela II'!N130 -> 0 | ... V93: ='Tabela II'!V130 -> 0 | W93: ='Tabela II'!A130 -> Sud 2
A94: ='Tabela I'!$K$1 -> 2020 | B94: ='Tabela I'!$K$2 -> 0 | C94: ='Tabela II'!D131 -> 0 | D94: ='Tabela II'!C132 -> 0 | E94: ='Tabela II'!D132 -> 0 | F94: ='Tabela II'!E132 -> 0 | G94: ='Tabela II'!G132 -> 0 | H94: ='Tabela II'!H132 -> 0 | I94: ='Tabela II'!I132 -> 0 | J94: ='Tabela II'!J132 -> 0 | K94: ='Tabela II'!K132 -> 0 | L94: ='Tabela II'!L132 -> 0 | M94: ='Tabela II'!M132 -> 0 | N94: ='Tabela II'!N132 -> 0 | ... V94: ='Tabela II'!V132 -> 0 | W94: ='Tabela II'!A132 -> Sud 1
A95: ='Tabela I'!$K$1 -> 2020 | B95: ='Tabela I'!$K$2 -> 0 | C95: ='Tabela II'!D131 -> 0 | D95: ='Tabela II'!C133 -> 0 | E95: ='Tabela II'!D133 -> 0 | F95: ='Tabela II'!E133 -> 0 | G95: ='Tabela II'!G133 -> 0 | H95: ='Tabela II'!H133 -> 0 | I95: ='Tabela II'!I133 -> 0 | J95: ='Tabela II'!J133 -> 0 | K95: ='Tabela II'!K133 -> 0 | L95: ='Tabela II'!L133 -> 0 | M95: ='Tabela II'!M133 -> 0 | N95: ='Tabela II'!N133 -> 0 | ... V95: ='Tabela II'!V133 -> 0 | W95: ='Tabela II'!A133 -> Sud 2
A96: ='Tabela I'!$K$1 -> 2020 | B96: ='Tabela I'!$K$2 -> 0 | C96: ='Tabela II'!D134 -> 0 | D96: ='Tabela II'!C135 -> 0 | E96: ='Tabela II'!D135 -> 0 | F96: ='Tabela II'!E135 -> 0 | G96: ='Tabela II'!G135 -> 0 | H96: ='Tabela II'!H135 -> 0 | I96: ='Tabela II'!I135 -> 0 | J96: ='Tabela II'!J135 -> 0 | K96: ='Tabela II'!K135 -> 0 | L96: ='Tabela II'!L135 -> 0 | M96: ='Tabela II'!M135 -> 0 | N96: ='Tabela II'!N135 -> 0 | ... V96: ='Tabela II'!V135 -> 0 | W96: ='Tabela II'!A135 -> Sud 1
A97: ='Tabela I'!$K$1 -> 2020 | B97: ='Tabela I'!$K$2 -> 0 | C97: ='Tabela II'!D134 -> 0 | D97: ='Tabela II'!C136 -> 0 | E97: ='Tabela II'!D136 -> 0 | F97: ='Tabela II'!E136 -> 0 | G97: ='Tabela II'!G136 -> 0 | H97: ='Tabela II'!H136 -> 0 | I97: ='Tabela II'!I136 -> 0 | J97: ='Tabela II'!J136 -> 0 | K97: ='Tabela II'!K136 -> 0 | L97: ='Tabela II'!L136 -> 0 | M97: ='Tabela II'!M136 -> 0 | N97: ='Tabela II'!N136 -> 0 | ... V97: ='Tabela II'!V136 -> 0 | W97: ='Tabela II'!A136 -> Sud 2
A98: ='Tabela I'!$K$1 -> 2020 | B98: ='Tabela I'!$K$2 -> 0 | C98: ='Tabela II'!D137 -> 0 | D98: ='Tabela II'!C138 -> 0 | E98: ='Tabela II'!D138 -> 0 | F98: ='Tabela II'!E138 -> 0 | G98: ='Tabela II'!G138 -> 0 | H98: ='Tabela II'!H138 -> 0 | I98: ='Tabela II'!I138 -> 0 | J98: ='Tabela II'!J138 -> 0 | K98: ='Tabela II'!K138 -> 0 | L98: ='Tabela II'!L138 -> 0 | M98: ='Tabela II'!M138 -> 0 | N98: ='Tabela II'!N138 -> 0 | ... V98: ='Tabela II'!V138 -> 0 | W98: ='Tabela II'!A138 -> Sud 1
A99: ='Tabela I'!$K$1 -> 2020 | B99: ='Tabela I'!$K$2 -> 0 | C99: ='Tabela II'!D137 -> 0 | D99: ='Tabela II'!C139 -> 0 | E99: ='Tabela II'!D139 -> 0 | F99: ='Tabela II'!E139 -> 0 | G99: ='Tabela II'!G139 -> 0 | H99: ='Tabela II'!H139 -> 0 | I99: ='Tabela II'!I139 -> 0 | J99: ='Tabela II'!J139 -> 0 | K99: ='Tabela II'!K139 -> 0 | L99: ='Tabela II'!L139 -> 0 | M99: ='Tabela II'!M139 -> 0 | N99: ='Tabela II'!N139 -> 0 | ... V99: ='Tabela II'!V139 -> 0 | W99: ='Tabela II'!A139 -> Sud 2
A100: ='Tabela I'!$K$1 -> 2020 | B100: ='Tabela I'!$K$2 -> 0 | C100: ='Tabela II'!D140 -> 0 | D100: ='Tabela II'!C141 -> 0 | E100: ='Tabela II'!D141 -> 0 | F100: ='Tabela II'!E141 -> 0 | G100: ='Tabela II'!G141 -> 0 | H100: ='Tabela II'!H141 -> 0 | I100: ='Tabela II'!I141 -> 0 | J100: ='Tabela II'!J141 -> 0 | K100: ='Tabela II'!K141 -> 0 | L100: ='Tabela II'!L141 -> 0 | M100: ='Tabela II'!M141 -> 0 | N100: ='Tabela II'!N141 -> 0 | ... V100: ='Tabela II'!V141 -> 0 | W100: ='Tabela II'!A141 -> Sud 1
A101: ='Tabela I'!$K$1 -> 2020 | B101: ='Tabela I'!$K$2 -> 0 | C101: ='Tabela II'!D140 -> 0 | D101: ='Tabela II'!C142 -> 0 | E101: ='Tabela II'!D142 -> 0 | F101: ='Tabela II'!E142 -> 0 | G101: ='Tabela II'!G142 -> 0 | H101: ='Tabela II'!H142 -> 0 | I101: ='Tabela II'!I142 -> 0 | J101: ='Tabela II'!J142 -> 0 | K101: ='Tabela II'!K142 -> 0 | L101: ='Tabela II'!L142 -> 0 | M101: ='Tabela II'!M142 -> 0 | N101: ='Tabela II'!N142 -> 0 | ... V101: ='Tabela II'!V142 -> 0 | W101: ='Tabela II'!A142 -> Sud 2
A102: ='Tabela I'!$K$1 -> 2020 | B102: ='Tabela I'!$K$2 -> 0 | C102: ='Tabela II'!D143 -> 0 | D102: ='Tabela II'!C144 -> 0 | E102: ='Tabela II'!D144 -> 0 | F102: ='Tabela II'!E144 -> 0 | G102: ='Tabela II'!G144 -> 0 | H102: ='Tabela II'!H144 -> 0 | I102: ='Tabela II'!I144 -> 0 | J102: ='Tabela II'!J144 -> 0 | K102: ='Tabela II'!K144 -> 0 | L102: ='Tabela II'!L144 -> 0 | M102: ='Tabela II'!M144 -> 0 | N102: ='Tabela II'!N144 -> 0 | ... V102: ='Tabela II'!V144 -> 0 | W102: ='Tabela II'!A144 -> Sud 1
A103: ='Tabela I'!$K$1 -> 2020 | B103: ='Tabela I'!$K$2 -> 0 | C103: ='Tabela II'!D143 -> 0 | D103: ='Tabela II'!C145 -> 0 | E103: ='Tabela II'!D145 -> 0 | F103: ='Tabela II'!E145 -> 0 | G103: ='Tabela II'!G145 -> 0 | H103: ='Tabela II'!H145 -> 0 | I103: ='Tabela II'!I145 -> 0 | J103: ='Tabela II'!J145 -> 0 | K103: ='Tabela II'!K145 -> 0 | L103: ='Tabela II'!L145 -> 0 | M103: ='Tabela II'!M145 -> 0 | N103: ='Tabela II'!N145 -> 0 | ... V103: ='Tabela II'!V145 -> 0 | W103: ='Tabela II'!A145 -> Sud 2
A104: ='Tabela I'!$K$1 -> 2020 | B104: ='Tabela I'!$K$2 -> 0 | C104: ='Tabela II'!D146 -> 0 | D104: ='Tabela II'!C147 -> 0 | E104: ='Tabela II'!D147 -> 0 | F104: ='Tabela II'!E147 -> 0 | G104: ='Tabela II'!G147 -> 0 | H104: ='Tabela II'!H147 -> 0 | I104: ='Tabela II'!I147 -> 0 | J104: ='Tabela II'!J147 -> 0 | K104: ='Tabela II'!K147 -> 0 | L104: ='Tabela II'!L147 -> 0 | M104: ='Tabela II'!M147 -> 0 | N104: ='Tabela II'!N147 -> 0 | ... V104: ='Tabela II'!V147 -> 0 | W104: ='Tabela II'!A147 -> Sud 1
A105: ='Tabela I'!$K$1 -> 2020 | B105: ='Tabela I'!$K$2 -> 0 | C105: ='Tabela II'!D146 -> 0 | D105: ='Tabela II'!C148 -> 0 | E105: ='Tabela II'!D148 -> 0 | F105: ='Tabela II'!E148 -> 0 | G105: ='Tabela II'!G148 -> 0 | H105: ='Tabela II'!H148 -> 0 | I105: ='Tabela II'!I148 -> 0 | J105: ='Tabela II'!J148 -> 0 | K105: ='Tabela II'!K148 -> 0 | L105: ='Tabela II'!L148 -> 0 | M105: ='Tabela II'!M148 -> 0 | N105: ='Tabela II'!N148 -> 0 | ... V105: ='Tabela II'!V148 -> 0 | W105: ='Tabela II'!A148 -> Sud 2
A106: ='Tabela I'!$K$1 -> 2020 | B106: ='Tabela I'!$K$2 -> 0 | C106: ='Tabela II'!D149 -> 0 | D106: ='Tabela II'!C150 -> 0 | E106: ='Tabela II'!D150 -> 0 | F106: ='Tabela II'!E150 -> 0 | G106: ='Tabela II'!G150 -> 0 | H106: ='Tabela II'!H150 -> 0 | I106: ='Tabela II'!I150 -> 0 | J106: ='Tabela II'!J150 -> 0 | K106: ='Tabela II'!K150 -> 0 | L106: ='Tabela II'!L150 -> 0 | M106: ='Tabela II'!M150 -> 0 | N106: ='Tabela II'!N150 -> 0 | ... V106: ='Tabela II'!V150 -> 0 | W106: ='Tabela II'!A150 -> Sud 1
A107: ='Tabela I'!$K$1 -> 2020 | B107: ='Tabela I'!$K$2 -> 0 | C107: ='Tabela II'!D149 -> 0 | D107: ='Tabela II'!C151 -> 0 | E107: ='Tabela II'!D151 -> 0 | F107: ='Tabela II'!E151 -> 0 | G107: ='Tabela II'!G151 -> 0 | H107: ='Tabela II'!H151 -> 0 | I107: ='Tabela II'!I151 -> 0 | J107: ='Tabela II'!J151 -> 0 | K107: ='Tabela II'!K151 -> 0 | L107: ='Tabela II'!L151 -> 0 | M107: ='Tabela II'!M151 -> 0 | N107: ='Tabela II'!N151 -> 0 | ... V107: ='Tabela II'!V151 -> 0 | W107: ='Tabela II'!A151 -> Sud 2
A108: ='Tabela I'!$K$1 -> 2020 | B108: ='Tabela I'!$K$2 -> 0 | C108: ='Tabela II'!D152 -> 0 | D108: ='Tabela II'!C153 -> 0 | E108: ='Tabela II'!D153 -> 0 | F108: ='Tabela II'!E153 -> 0 | G108: ='Tabela II'!G153 -> 0 | H108: ='Tabela II'!H153 -> 0 | I108: ='Tabela II'!I153 -> 0 | J108: ='Tabela II'!J153 -> 0 | K108: ='Tabela II'!K153 -> 0 | L108: ='Tabela II'!L153 -> 0 | M108: ='Tabela II'!M153 -> 0 | N108: ='Tabela II'!N153 -> 0 | ... V108: ='Tabela II'!V153 -> 0 | W108: ='Tabela II'!A153 -> Sud 1
A109: ='Tabela I'!$K$1 -> 2020 | B109: ='Tabela I'!$K$2 -> 0 | C109: ='Tabela II'!D152 -> 0 | D109: ='Tabela II'!C154 -> 0 | E109: ='Tabela II'!D154 -> 0 | F109: ='Tabela II'!E154 -> 0 | G109: ='Tabela II'!G154 -> 0 | H109: ='Tabela II'!H154 -> 0 | I109: ='Tabela II'!I154 -> 0 | J109: ='Tabela II'!J154 -> 0 | K109: ='Tabela II'!K154 -> 0 | L109: ='Tabela II'!L154 -> 0 | M109: ='Tabela II'!M154 -> 0 | N109: ='Tabela II'!N154 -> 0 | ... V109: ='Tabela II'!V154 -> 0 | W109: ='Tabela II'!A154 -> Sud 2
A110: ='Tabela I'!$K$1 -> 2020 | B110: ='Tabela I'!$K$2 -> 0 | C110: ='Tabela II'!D155 -> 0 | D110: ='Tabela II'!C156 -> 0 | E110: ='Tabela II'!D156 -> 0 | F110: ='Tabela II'!E156 -> 0 | G110: ='Tabela II'!G156 -> 0 | H110: ='Tabela II'!H156 -> 0 | I110: ='Tabela II'!I156 -> 0 | J110: ='Tabela II'!J156 -> 0 | K110: ='Tabela II'!K156 -> 0 | L110: ='Tabela II'!L156 -> 0 | M110: ='Tabela II'!M156 -> 0 | N110: ='Tabela II'!N156 -> 0 | ... V110: ='Tabela II'!V156 -> 0 | W110: ='Tabela II'!A156 -> Sud 1
A111: ='Tabela I'!$K$1 -> 2020 | B111: ='Tabela I'!$K$2 -> 0 | C111: ='Tabela II'!D155 -> 0 | D111: ='Tabela II'!C157 -> 0 | E111: ='Tabela II'!D157 -> 0 | F111: ='Tabela II'!E157 -> 0 | G111: ='Tabela II'!G157 -> 0 | H111: ='Tabela II'!H157 -> 0 | I111: ='Tabela II'!I157 -> 0 | J111: ='Tabela II'!J157 -> 0 | K111: ='Tabela II'!K157 -> 0 | L111: ='Tabela II'!L157 -> 0 | M111: ='Tabela II'!M157 -> 0 | N111: ='Tabela II'!N157 -> 0 | ... V111: ='Tabela II'!V157 -> 0 | W111: ='Tabela II'!A157 -> Sud 2
A112: ='Tabela I'!$K$1 -> 2020 | B112: ='Tabela I'!$K$2 -> 0 | C112: ='Tabela II'!D158 -> 0 | D112: ='Tabela II'!C159 -> 0 | E112: ='Tabela II'!D159 -> 0 | F112: ='Tabela II'!E159 -> 0 | G112: ='Tabela II'!G159 -> 0 | H112: ='Tabela II'!H159 -> 0 | I112: ='Tabela II'!I159 -> 0 | J112: ='Tabela II'!J159 -> 0 | K112: ='Tabela II'!K159 -> 0 | L112: ='Tabela II'!L159 -> 0 | M112: ='Tabela II'!M159 -> 0 | N112: ='Tabela II'!N159 -> 0 | ... V112: ='Tabela II'!V159 -> 0 | W112: ='Tabela II'!A159 -> Sud 1
A113: ='Tabela I'!$K$1 -> 2020 | B113: ='Tabela I'!$K$2 -> 0 | C113: ='Tabela II'!D158 -> 0 | D113: ='Tabela II'!C160 -> 0 | E113: ='Tabela II'!D160 -> 0 | F113: ='Tabela II'!E160 -> 0 | G113: ='Tabela II'!G160 -> 0 | H113: ='Tabela II'!H160 -> 0 | I113: ='Tabela II'!I160 -> 0 | J113: ='Tabela II'!J160 -> 0 | K113: ='Tabela II'!K160 -> 0 | L113: ='Tabela II'!L160 -> 0 | M113: ='Tabela II'!M160 -> 0 | N113: ='Tabela II'!N160 -> 0 | ... V113: ='Tabela II'!V160 -> 0 | W113: ='Tabela II'!A160 -> Sud 2
A114: ='Tabela I'!$K$1 -> 2020 | B114: ='Tabela I'!$K$2 -> 0 | C114: ='Tabela II'!D161 -> 0 | D114: ='Tabela II'!C162 -> 0 | E114: ='Tabela II'!D162 -> 0 | F114: ='Tabela II'!E162 -> 0 | G114: ='Tabela II'!G162 -> 0 | H114: ='Tabela II'!H162 -> 0 | I114: ='Tabela II'!I162 -> 0 | J114: ='Tabela II'!J162 -> 0 | K114: ='Tabela II'!K162 -> 0 | L114: ='Tabela II'!L162 -> 0 | M114: ='Tabela II'!M162 -> 0 | N114: ='Tabela II'!N162 -> 0 | ... V114: ='Tabela II'!V162 -> 0 | W114: ='Tabela II'!A162 -> Sud 1
A115: ='Tabela I'!$K$1 -> 2020 | B115: ='Tabela I'!$K$2 -> 0 | C115: ='Tabela II'!D161 -> 0 | D115: ='Tabela II'!C163 -> 0 | E115: ='Tabela II'!D163 -> 0 | F115: ='Tabela II'!E163 -> 0 | G115: ='Tabela II'!G163 -> 0 | H115: ='Tabela II'!H163 -> 0 | I115: ='Tabela II'!I163 -> 0 | J115: ='Tabela II'!J163 -> 0 | K115: ='Tabela II'!K163 -> 0 | L115: ='Tabela II'!L163 -> 0 | M115: ='Tabela II'!M163 -> 0 | N115: ='Tabela II'!N163 -> 0 | ... V115: ='Tabela II'!V163 -> 0 | W115: ='Tabela II'!A163 -> Sud 2
A116: ='Tabela I'!$K$1 -> 2020 | B116: ='Tabela I'!$K$2 -> 0 | C116: ='Tabela II'!D164 -> 0 | D116: ='Tabela II'!C165 -> 0 | E116: ='Tabela II'!D165 -> 0 | F116: ='Tabela II'!E165 -> 0 | G116: ='Tabela II'!G165 -> 0 | H116: ='Tabela II'!H165 -> 0 | I116: ='Tabela II'!I165 -> 0 | J116: ='Tabela II'!J165 -> 0 | K116: ='Tabela II'!K165 -> 0 | L116: ='Tabela II'!L165 -> 0 | M116: ='Tabela II'!M165 -> 0 | N116: ='Tabela II'!N165 -> 0 | ... V116: ='Tabela II'!V165 -> 0 | W116: ='Tabela II'!A165 -> Sud 1
A117: ='Tabela I'!$K$1 -> 2020 | B117: ='Tabela I'!$K$2 -> 0 | C117: ='Tabela II'!D164 -> 0 | D117: ='Tabela II'!C166 -> 0 | E117: ='Tabela II'!D166 -> 0 | F117: ='Tabela II'!E166 -> 0 | G117: ='Tabela II'!G166 -> 0 | H117: ='Tabela II'!H166 -> 0 | I117: ='Tabela II'!I166 -> 0 | J117: ='Tabela II'!J166 -> 0 | K117: ='Tabela II'!K166 -> 0 | L117: ='Tabela II'!L166 -> 0 | M117: ='Tabela II'!M166 -> 0 | N117: ='Tabela II'!N166 -> 0 | ... V117: ='Tabela II'!V166 -> 0 | W117: ='Tabela II'!A166 -> Sud 2
A118: ='Tabela I'!$K$1 -> 2020 | B118: ='Tabela I'!$K$2 -> 0 | C118: ='Tabela II'!D167 -> 0 | D118: ='Tabela II'!C168 -> 0 | E118: ='Tabela II'!D168 -> 0 | F118: ='Tabela II'!E168 -> 0 | G118: ='Tabela II'!G168 -> 0 | H118: ='Tabela II'!H168 -> 0 | I118: ='Tabela II'!I168 -> 0 | J118: ='Tabela II'!J168 -> 0 | K118: ='Tabela II'!K168 -> 0 | L118: ='Tabela II'!L168 -> 0 | M118: ='Tabela II'!M168 -> 0 | N118: ='Tabela II'!N168 -> 0 | ... V118: ='Tabela II'!V168 -> 0 | W118: ='Tabela II'!A168 -> Sud 1
A119: ='Tabela I'!$K$1 -> 2020 | B119: ='Tabela I'!$K$2 -> 0 | C119: ='Tabela II'!D167 -> 0 | D119: ='Tabela II'!C169 -> 0 | E119: ='Tabela II'!D169 -> 0 | F119: ='Tabela II'!E169 -> 0 | G119: ='Tabela II'!G169 -> 0 | H119: ='Tabela II'!H169 -> 0 | I119: ='Tabela II'!I169 -> 0 | J119: ='Tabela II'!J169 -> 0 | K119: ='Tabela II'!K169 -> 0 | L119: ='Tabela II'!L169 -> 0 | M119: ='Tabela II'!M169 -> 0 | N119: ='Tabela II'!N169 -> 0 | ... V119: ='Tabela II'!V169 -> 0 | W119: ='Tabela II'!A169 -> Sud 2
