Workbook

Sheet Uputstvo
B2: OPĆINSKI/OSNOVNI SUDOVI
B4: Kompletni materijali u vezi procesa izvještavanja i ocjenjivanja rada u sudovima dostupni su na linkovima:
B5: http://www.pravosudje.ba/vstv/faces/kategorijevijesti.jsp?ins=141&modul=1198&kat=1201&kolona=12200
B6: https://vstv.pravosudje.ba/vstv/faces/vijesti.jsp?id=65385
B7: Tabele za popunjavanje podataka o radu sudova nije moguće mijenjati, niti dodavati nove redove ili kolone.
B8: Tabele se isključivo popunjavaju predviđenim redoslijedom, po redoslijedu postavljenih tabela.
B11: Podatke je potrebno upisivati samo u polja osjenčena žutom bojom.
B12: U ostala polja nije moguće upisivati vrijednosti, u ovim poljima vrijednosti će biti izračunate automatski.
B13: Molimo Vas da u Tabeli I i naslovu e-maila (subject) kojim ćete poslati popunjene obrasce navedete naziv Vašeg suda.
B16: Popunjene obrasce poslati na e-mail adresu: vstvstatistika@pravosudje.ba do 1.2.2020. godine.
B18: Za sva eventualna pitanja vezano za popunjavanje obrazaca molimo Vas da kontaktirate
B19: Odjel za pravosudnu upravu, na telefon: 033 704 616 ili 033 707 584.
... B37: TABELA I – PROTOK PREDMETA U SUDU KOJI NISU EVIDENTIRANI U CMS-U Napomena za prikazivanje podataka o tzv. komunalnim predmetima: Prema pojašnjenju ove kategorije predmeta, koja je Vijeće pružilo u dopisu broj VSTV-08-0027-10012007 od 10.01.2007.godine, pod komunalnim predmetima se smatraju svi predmeti u kojima su povjerilac preduzeća, a odnose se na neplaćene komunalne usluge. Prema tome, u ovu kategoriju predmeta spadaju predmeti koji se odnose na naplatu potraživanja nastalih na osnovu isporuke vode, toplotne energije, odvoza smeća, električne energije, telefonskih usluga, održavanje zajedničkih prostorija, RTV takse i slično. TABELA IV – OSTALI PODACI Molimo Vas da u tabeli IV date odgovor na pitanje o broju zaprimljenih predmeta koji nisu zavedeni kroz sudski upisnik (ukoliko imate takvih predmeta), navodeći podatke o godini prijema, vrsti i broju predmeta sa obrazloženjem razloga zbog kojih predmeti nisu uvedeni u sudski upisnik. TABELA V – PREGLED STAROSTI NERIJEŠENIH PREDMETA SA 31.12.2019. Molimo Vas da u u Tabeli V razvrstate neriješene predmete registracije poslovnih subjekata i ZK predmeta, zaključno sa 31.12.2019. godine, prema godini iniciranja pred općinskim, odnosno osnovnim sudom. Napominjemo da podaci iskazani u ovoj tabeli moraju biti konzistentni sa podacima iskazanim u tabeli I i tabeli Ia. TABELA VI – ODLUKE USTAVNOG SUDA BIH U tabeli VI potrebno je prikazati samo podatke o odlukama Ustavnog suda BiH u kojima je izrekom obuhvaćena odluka Vašeg suda, odnosno postupak koji je u toku pred Vašim sudom (kada je riječ o apelacijama sa navodima da postoji kršenje prava na suđenje u razumnom roku). Posebna napomena: Traženi podaci se odnose na odluke iz apelacione nadležnosti Ustavnog suda BiH. Tabela VIa – Odluke kojima se ne usvaja apelacija: potrebno je prikazati podatke o odlukama Ustavnog suda BiH kojima je utvrđeno da nije osnovana apelacija izjavljena u odnosu na odluke Vašeg suda. Molimo da unesete podatake u kolone I-III prema njihovim nazivima. Podaci se automatski preračunavaju u koloni IV. Tabela VIb – Odluke kojima se apelacija usvaja: “Pravni osnov” - Odluke kojima se usvaja apelacija potrebno je razvrstati prema izrekama odluka Ustavnog suda BiH kojima su utvrđene povrede Ustava BiH, Evropske konvencije o ljudskim pravima (u tabeli: EK) i njenih protokola (u tabeli:P). Svi pomenuti dokumenti i klasifikacija povreda su dostupni na zvaničnoj web stranici Ustavnog suda BiH (http://www.ccbh.ba/bos/p_stream.php?kat=83). Kolone I - IV “Broj odluka kojima se usvaja apelacija” – Potrebno je razvrstati broj odluka Ustavnog suda kojima se izjavljena apelacija usvaja u odnosu na odluku Vašeg suda, prema odgovarajućim kategorijama, u zavisnosti od izreke odluke Ustavnog suda BiH. Preostale odluke Ustavnog suda, koje ne spadaju u navedene tri kategorije, potrebno je upisati u rubriku “Broj ostalih odluka kojima se usvajaju apelacije” (npr. odluka kojom se usvaja apelacija i konstatuje povreda prava na pravično suđenje, zbog prekoračenja razumnog roka za donošenje odluke, nakon što je sudski postupak završen, a kojom se ne nalaže sudu da okonča predmet bez odlaganja, odnosno ne ukida ili ne preinačuje odluka suda). Ukoliko su izrekom odluke Ustavnog suda BiH ustanovljene dvije ili više povreda ustavom zagarantovanih prava i sloboda, molimo Vas da svaku od povreda evidentirate posebno u tabeli VIb. Molimo Vas da i djelimično usvojene apelacije prikažete u odgovarajućim kolonama tabele VIb. Tabela VIc – Predmeti u kojima se nalaže sudu da okonča predmet bez odlaganja zbog kršenja prava na donošenje odluke u razumnom roku U tabeli VIc potrebno je prikazati predmete u kojima je Ustavni sud BiH naložio sudu da okonča predmet bez odlaganja zbog kršenja prava na donošenje odluke u razumnom roku. Molimo Vas da u ovu tabelu unesete samo podatke o predmetima u kojima je Vašem sudu naloženo da okonča predmet bez odlaganja. U skladu sa obrazloženjem odluke Ustavnog suda BiH, potrebno je da naznačite u kojoj fazi postupka je Vaš sud rješavao predmet za koji je Ustavni sud utvrdio da je Vaš sud u najvećoj mjeri doprinio odugovlačenju postupka. Tabela VId - Predmeti u kojima je utvrđeno kršenje prava na donošenje odluke u razumnom roku Takođe, potrebno je da popunite i tabelu VId koja se odnosi na ukupan broj predmeta, u kojima je usvojena apelacija u odnosu na Vaš sud i određena naknada nematerijalne štete zbog kršenja prava na donošenje odluke u razumnom roku, kao i ukupan iznos naknade koji je utvrdio Ustavni sud BiH.

Sheet Tabela I
A1: Općinski/Osnovni sud: | C1: Bugojno | F1: 2019
A2: Izvještajni period: | C2: 1.1.2019.- 31.12.2019.
A3: Ostvarena kolektivna norma za sud u 2019. godini: | E3: =+'Tabela II'!P84 -> 1.1105651
A4: Kvalitet rada suda: | C4: ='Tabela III'!J47 -> 0.88129253
A5: Tabela I - Protok predmeta u sudu koji nisu evidentirani u sistemu CMS (pogledati NAPOMENU 1)
A6: Vrsta predmeta | B6: Broj neriješenih predmeta na početku izvještajnog perioda | C6: Broj primljenih predmeta | D6: Ukupan broj svih predmeta u radu | E6: Broj riješenih predmeta | F6: Broj neriješenih predmeta na kraju izvještajnog perioda
B7: I | C7: II | D7: III=I+II | E7: IV | F7: V=III-IV
A8: Predmeti za naplatu komunalnih usluga
A9: Mal | D9: =IF((B9+C9)=0," ",(B9+C9)) | F9: =IF((B9+C9-E9)=0," ",(B9+C9-E9))
A10: Mals | D10: =IF((B10+C10)=0," ",(B10+C10)) | F10: =IF((B10+C10-E10)=0," ",(B10+C10-E10))
A11: I | B11: 4215 | D11: =IF((B11+C11)=0," ",(B11+C11)) -> 4215 | F11: =IF((B11+C11-E11)=0," ",(B11+C11-E11)) -> 4215
A12: Ip | B12: 81 | D12: =IF((B12+C12)=0," ",(B12+C12)) -> 81 | F12: =IF((B12+C12-E12)=0," ",(B12+C12-E12)) -> 81
A13: Ukupno | B13: =SUM(B9:B12) -> 4296 | C13: =SUM(C9:C12) -> 0 | D13: =SUM(D9:D12) -> 4296 | E13: =SUM(E9:E12) -> 0 | F13: =SUM(F9:F12) -> 4296
A14: Predmeti registracije
A15: Reg | D15: =IF((B15+C15)=0," ",(B15+C15)) | F15: =IF((B15+C15-E15)=0," ",(B15+C15-E15))
A16: RegZ | D16: =IF((B16+C16)=0," ",(B16+C16)) | F16: =IF((B16+C16-E16)=0," ",(B16+C16-E16))
A17: F1 | D17: =IF((B17+C17)=0," ",(B17+C17)) | F17: =IF((B17+C17-E17)=0," ",(B17+C17-E17))
A18: F2 | D18: =IF((B18+C18)=0," ",(B18+C18)) | F18: =IF((B18+C18-E18)=0," ",(B18+C18-E18))
A19: F3 | D19: =IF((B19+C19)=0," ",(B19+C19)) | F19: =IF((B19+C19-E19)=0," ",(B19+C19-E19))
A20: Ostalo | D20: =IF((B20+C20)=0," ",(B20+C20)) | F20: =IF((B20+C20-E20)=0," ",(B20+C20-E20))
A21: Ukupno | B21: =SUM(B15:B20) -> 0 | C21: =SUM(C15:C20) -> 0 | D21: =SUM(D15:D20) -> 0 | E21: =SUM(E15:E20) -> 0 | F21: =SUM(F15:F20) -> 0
A22: ZK predmeti
A23: Dn | B23: 13 | C23: 2363 | D23: =IF((B23+C23)=0," ",(B23+C23)) -> 2376 | E23: 2308 | F23: =IF((B23+C23-E23)=0," ",(B23+C23-E23)) -> 68
A24: Nar | C24: 6594 | D24: =IF((B24+C24)=0," ",(B24+C24)) -> 6594 | E24: 6594 | F24: =IF((B24+C24-E24)=0," ",(B24+C24-E24))
A25: Rz | C25: 1141 | D25: =IF((B25+C25)=0," ",(B25+C25)) -> 1141 | E25: 1141 | F25: =IF((B25+C25-E25)=0," ",(B25+C25-E25))
A26: Kpu | C26: 60 | D26: =IF((B26+C26)=0," ",(B26+C26)) -> 60 | E26: 60 | F26: =IF((B26+C26-E26)=0," ",(B26+C26-E26))
A27: Ostalo | D27: =IF((B27+C27)=0," ",(B27+C27)) | F27: =IF((B27+C27-E27)=0," ",(B27+C27-E27))
A28: Ukupno | B28: =SUM(B23:B27) -> 13 | C28: =SUM(C23:C27) -> 10158 | D28: =SUM(D23:D27) -> 10171 | E28: =SUM(E23:E27) -> 10103 | F28: =SUM(F23:F27) -> 68
A30: Medijacija | D30: =B30+C30 -> 0 | F30: =B30+C30-E30 -> 0
A32: UKUPNO | B32: =B13+B21+B28+B30 -> 4309 | C32: =C13+C21+C28+C30 -> 10158 | D32: =D13+D21+D28+D30 -> 14467 | E32: =E13+E21+E28+E30 -> 10103 | F32: =F13+F21+F28+F30 -> 4364
A35: Napomena 1: Molimo Vas da obratite pažnju da podaci koji se iskazuju u Tabeli I - Protok predmeta u sudu koji nisu evidentirani u CMS Kolona I – Broj neriješenih predmeta na početku izvještajnog perioda trebaju biti jednaki podacima o broju neriješenih predmeta na kraju izvještajnog perioda koje ste iskazali u Tabeli za izvještavanje o radu suda za 2018.godinu ( Tabela I - Protok predmeta u sudu koji nisu evidentirani u CMS Kolona V – Broj neriješenih predmeta na kraju izvještajnog perioda).
A36: Pomoći radi, u prilogu Vam dostavljamo tabelu sa podacima o ukupnom broju neriješenih predmeta koji nisu evidentirani u CMS-u na kraju 2018.godine, koje ste VSTV-u BiH dostavili putem Tabele za izvještavanje o radu suda za 2018.godinu (Tabela I - Protok predmeta u sudu koji nisu evidentirani u CMS Kolona V – Broj neriješenih predmeta na kraju izvještajnog perioda).

Sheet Tabela Ia
A1: Općinski/Osnovni sud: | B1: ='Tabela I'!C1 -> Bugojno
A2: Izvještajni period: | B2: ='Tabela I'!C2 -> 1.1.2019.- 31.12.2019.
A3: Tabela Ia - Protok ZK predmeta
A4: Vrsta predmeta | B4: Broj neriješenih predmeta na početku izvještajnog perioda | C4: Broj primljenih predmeta | D4: Ukupan broj svih predmeta u radu | E4: Broj riješenih predmeta | F4: Broj neriješenih predmeta na kraju izvještajnog perioda
B5: I | C5: II | D5: III=I+II | E5: IV | F5: V=III-IV
A6: ZK predmeti
A7: Zahtjevi za upis | B7: 13 | C7: 2363 | D7: =IF(B7+C7=0," ",(B7+C7)) -> 2376 | E7: 2308 | F7: =IF((B7+C7-E7)=0," ",(B7+C7-E7)) -> 68
A8: Zahtjevi za ZK izvadke | C8: 6594 | D8: =IF(B8+C8=0," ",(B8+C8)) -> 6594 | E8: 6594 | F8: =IF((B8+C8-E8)=0," ",(B8+C8-E8))
A9: Zahtjevi za uspostavljanje ZK uložaka | C9: 1141 | D9: =IF(B9+C9=0," ",(B9+C9)) -> 1141 | E9: 1141 | F9: =IF((B9+C9-E9)=0," ",(B9+C9-E9))
A10: Ostalo (uvjerenja, potvrde i dr.) | C10: 60 | D10: =IF(B10+C10=0," ",(B10+C10)) -> 60 | E10: 60 | F10: =IF((B10+C10-E10)=0," ",(B10+C10-E10))
A11: Ukupno | B11: =(B7+B8+B9+B10) -> 13 | C11: =(C7+C8+C9+C10) -> 10158 | D11: =SUM(B7:C10) -> 10171 | E11: =(E7+E8+E9+E10) -> 10103 | F11: =(SUM(B7:C10)-SUM(E7:E10)) -> 68

Sheet Tabela II
A1: ='Tabela I'!A1 -> Općinski/Osnovni sud: | D1: ='Tabela I'!C1 -> Bugojno
A2: Izvještajni period: | C2: 1.1.2019.-31.12.2019.
A3: Tabela IIa – Ostvarena orijentaciona norma - Elektronski obrazac za obračun ostvarene orijentacione norme iz člana 11. Kriterija za ocjenjivanje rada sudija u BiH i člana 8. Kriterija za ocjenjivanje rada predsjednika sudova i predsjednika sudskih odjeljenja u BiH (pogledati NAPOMENU 4)
A5: Redni broj | B5: Ime i prezime - evidentirani podatak se automatski prenosi u Tabelu IIIa | C5: Ocjenjen u sudu | D5: Naziv odjela | E5: Pravosudna funkcija | G5: Procenat orijentacijske norme koju je nosilac pravosudne funkcije dužan ostvariti - Ukoliko procenat orijenatcijske norme nije predviđen u padajućem meniju pogledati NAPOMENU 3 | H5: Period obavljanja pravosudne funkcije u instituciji koja popunjava tabelu Ia | J5: Ukupan broj dana za obračun norme - pogledati NAPOMENU 2 | K5: Broj dana opravdanog odsustva iz člana 14.Kriterija za ocjenjivanje rada sudija u BiH (pogledati NAPOMENU 9) | L5: Ostvarena orijentaciona norma iz CMS-a | M5: Ostvarena orijentaciona norma na predmetima van CMS-a - pogledati NAPOMENU 6 | N5: Procenat ostvarene orijentacione norme prema članu 9. Pravilnika o orijentacijskim mjerilima - pogledati NAPOMENU 7 | O5: Procenat ostvarene propisane godišnje orijentacijske norme u 2019. godini | P5: Ukupno ostvarena orijentacijska norma u 2019. godini | Q5: Nedovoljan broj predmeta u radu - pogledati NAPOMENU 5 | V5: Broj ostvarenih bodova | W5: Sudija | X5: Stručni saradnik | Y5: Predsjednik odjela | Z5: Predsjednik sudskog vijeća vrhovnog suda entiteta
H6: Datum od | I6: Datum do | Q6: broj predmeta u radu | R6: broj riješenih predmeta | S6: broj neriješenih predmeta sa zakonskim i procesnim smetnjama | T6: broj neriješenih predmeta bez zakonskih i procesnih smetnji | U6: procenat riješenih predmeta
A7: I | B7: II | C7: III | D7: IV | E7: V | G7: VI | H7: VII | I7: VIII | J7: IX | K7: X | L7: XI | M7: XII | N7: XIII | O7: XIV | P7: XV | Q7: XVI | R7: XVII | S7: XVIII | T7: XIX | U7: XX | V7: XXI | W7: 1 | X7: 0.9 | Y7: 0.8 | Z7: 0.5 | AA7: 0.25 | AB7: Ne treba raditi na predm.
A8: 1 | B8: Randžana Hadžibegović Haračić | C8: Da | E8: Predsjednik suda | J8: 261 | O8: =IF(G8="","",IF(G8="Ne treba raditi na predm.",1+SUM(L8:N8),(SUM(L8:N8)/G8))) | P8: =IF(K8>0,O8*(J8/(J8-K8)),O8) | U8: =IF(Q8="","",R8/(Q8-S8)) | V8: =IF(P8="","",IF(C8="Ne","",IF(G8="Ne treba raditi na predm.","",IF(P8>1,10,IF(U8="",IF(P8>0.9,8,IF(P8>0.8,6,IF(P8>0.7,4,IF(P8>0.6,2,0)))),IF(U8=1,10,IF(U8>0.9,8,IF(U8>0.8,6,IF(U8>0.7,5,IF(U8>0.6,4,IF(U8>0.5,2,0))))))))))) | W8: 0.7 | X8: 0.5 | Y8: 0.4 | Z8: 0.3 | AA8: Ne treba raditi na predm.
E9: Predsjednik suda | G9: 0.4 | H9: 01.01.2019. | I9: 31.12.2019. | J9: 261 | L9: 0.4968 | O9: =IF(G9="","",IF(G9="Ne treba raditi na predm.",1+SUM(L9:N9),(SUM(L9:N9)/G9))) -> 1.242 | P9: =IF(K9>0,O9*(J9/(J9-K9)),O9) -> 1.242 | U9: =IF(Q9="","",R9/(Q9-S9)) | V9: =IF(P9="","",IF(C9="Ne","",IF(G9="Ne treba raditi na predm.","",IF(P9>1,10,IF(U9="",IF(P9>0.9,8,IF(P9>0.8,6,IF(P9>0.7,4,IF(P9>0.6,2,0)))),IF(U9=1,10,IF(U9>0.9,8,IF(U9>0.8,6,IF(U9>0.7,5,IF(U9>0.6,4,IF(U9>0.5,2,0))))))))))) -> 10
A10: 2 | B10: Amira Ždralović | C10: Da | D10: Parnični | E10: Predsjednik odjela | F10: =IF(E10="Sudija",1,IF(E10="Stručni saradnik",1,"")) | G10: 0.9 | H10: 01.01.2019. | I10: 31.12.2019. | J10: 261 | L10: 1.0024 | O10: =IF(G10="","",IF(G10="Ne treba raditi na predm.",1+SUM(L10:N10),(SUM(L10:N10)/G10))) -> 1.1137778 | P10: =IF(K10>0,O10*(J10/(J10-K10)),O10) -> 1.1137778 | U10: =IF(Q10="","",R10/(Q10-S10)) | V10: =IF(P10="","",IF(C10="Ne","",IF(G10="Ne treba raditi na predm.","", IF(P10>1,30,IF(U10="",IF(P10>0.9,25,IF(P10>0.8,20,IF(P10>0.7,16,IF(P10>0.6,10,IF(P10>0.5,4,0))))),IF(U10=1,30,IF(U10>0.9,25,IF(U10>0.8,20,IF(U10>0.7,15,IF(U10>0.6,10,IF(U10>0.5,5,0))))))))))) -> 30 | W10: Da | X10: Ne
A11: 3 | B11: Darko Solomun | C11: Da | D11: Krivično-prekršajni | E11: Predsjednik odjela | F11: =IF(E11="Sudija",1,IF(E11="Stručni saradnik",1,"")) | G11: 0.9 | H11: 01.01.2019. | I11: 31.12.2019. | J11: 261 | K11: 10 | L11: 0.8893 | O11: =IF(G11="","",IF(G11="Ne treba raditi na predm.",1+SUM(L11:N11),(SUM(L11:N11)/G11))) -> 0.98811111 | P11: =IF(K11>0,O11*(J11/(J11-K11)),O11) -> 1.0274781 | U11: =IF(Q11="","",R11/(Q11-S11)) | V11: =IF(P11="","",IF(C11="Ne","",IF(G11="Ne treba raditi na predm.","", IF(P11>1,30,IF(U11="",IF(P11>0.9,25,IF(P11>0.8,20,IF(P11>0.7,16,IF(P11>0.6,10,IF(P11>0.5,4,0))))),IF(U11=1,30,IF(U11>0.9,25,IF(U11>0.8,20,IF(U11>0.7,15,IF(U11>0.6,10,IF(U11>0.5,5,0))))))))))) -> 30
A12: 4 | B12: Nebojša Vrhovac | C12: Da | D12: Izvršni | E12: Predsjednik odjela | F12: =IF(E12="Sudija",1,IF(E12="Stručni saradnik",1,"")) | G12: 0.9 | H12: 01.01.2019. | I12: 31.12.2019. | J12: 261 | K12: 17 | L12: 0.925 | O12: =IF(G12="","",IF(G12="Ne treba raditi na predm.",1+SUM(L12:N12),(SUM(L12:N12)/G12))) -> 1.0277778 | P12: =IF(K12>0,O12*(J12/(J12-K12)),O12) -> 1.0993852 | U12: =IF(Q12="","",R12/(Q12-S12)) | V12: =IF(P12="","",IF(C12="Ne","",IF(G12="Ne treba raditi na predm.","", IF(P12>1,30,IF(U12="",IF(P12>0.9,25,IF(P12>0.8,20,IF(P12>0.7,16,IF(P12>0.6,10,IF(P12>0.5,4,0))))),IF(U12=1,30,IF(U12>0.9,25,IF(U12>0.8,20,IF(U12>0.7,15,IF(U12>0.6,10,IF(U12>0.5,5,0))))))))))) -> 30
A13: 5 | B13: Safet Žuljko | C13: Da | D13: Krivično-prekršajni | E13: Sudija | F13: =IF(E13="Sudija",1,IF(E13="Stručni saradnik",1,"")) -> 1 | G13: 1 | H13: 01.01.2019. | I13: 31.12.2019. | J13: 261 | K13: 24 | L13: 1.2214 | O13: =IF(G13="","",IF(G13="Ne treba raditi na predm.",1+SUM(L13:N13),(SUM(L13:N13)/G13))) -> 1.2214 | P13: =IF(K13>0,O13*(J13/(J13-K13)),O13) -> 1.3450861 | U13: =IF(Q13="","",R13/(Q13-S13)) | V13: =IF(P13="","",IF(C13="Ne","",IF(G13="Ne treba raditi na predm.","", IF(P13>1,30,IF(U13="",IF(P13>0.9,25,IF(P13>0.8,20,IF(P13>0.7,16,IF(P13>0.6,10,IF(P13>0.5,4,0))))),IF(U13=1,30,IF(U13>0.9,25,IF(U13>0.8,20,IF(U13>0.7,15,IF(U13>0.6,10,IF(U13>0.5,5,0))))))))))) -> 30
A14: 6 | B14: Katica Soldo | C14: Da | D14: Parnični | E14: Sudija | F14: =IF(E14="Sudija",1,IF(E14="Stručni saradnik",1,"")) -> 1 | G14: 1 | H14: 01.01.2019. | I14: 31.12.2019. | J14: 261 | K14: 10 | L14: 1.1746 | O14: =IF(G14="","",IF(G14="Ne treba raditi na predm.",1+SUM(L14:N14),(SUM(L14:N14)/G14))) -> 1.1746 | P14: =IF(K14>0,O14*(J14/(J14-K14)),O14) -> 1.2213968 | U14: =IF(Q14="","",R14/(Q14-S14)) | V14: =IF(P14="","",IF(C14="Ne","",IF(G14="Ne treba raditi na predm.","", IF(P14>1,30,IF(U14="",IF(P14>0.9,25,IF(P14>0.8,20,IF(P14>0.7,16,IF(P14>0.6,10,IF(P14>0.5,4,0))))),IF(U14=1,30,IF(U14>0.9,25,IF(U14>0.8,20,IF(U14>0.7,15,IF(U14>0.6,10,IF(U14>0.5,5,0))))))))))) -> 30
A15: 7 | B15: Lejla Nurikić | C15: Da | D15: Parnični | E15: Sudija | F15: =IF(E15="Sudija",1,IF(E15="Stručni saradnik",1,"")) -> 1 | G15: 1 | H15: 01.01.2019. | I15: 31.12.2019. | J15: 261 | K15: 6 | L15: 0.9805 | O15: =IF(G15="","",IF(G15="Ne treba raditi na predm.",1+SUM(L15:N15),(SUM(L15:N15)/G15))) -> 0.9805 | P15: =IF(K15>0,O15*(J15/(J15-K15)),O15) -> 1.0035706 | U15: =IF(Q15="","",R15/(Q15-S15)) | V15: =IF(P15="","",IF(C15="Ne","",IF(G15="Ne treba raditi na predm.","", IF(P15>1,30,IF(U15="",IF(P15>0.9,25,IF(P15>0.8,20,IF(P15>0.7,16,IF(P15>0.6,10,IF(P15>0.5,4,0))))),IF(U15=1,30,IF(U15>0.9,25,IF(U15>0.8,20,IF(U15>0.7,15,IF(U15>0.6,10,IF(U15>0.5,5,0))))))))))) -> 30
A16: 8 | B16: Janja Pilić | C16: Da | D16: Parnični | E16: Sudija | F16: =IF(E16="Sudija",1,IF(E16="Stručni saradnik",1,"")) -> 1 | G16: 1 | H16: 01.01.2019. | I16: 31.12.2019. | J16: 261 | K16: 3 | L16: 1.0871 | O16: =IF(G16="","",IF(G16="Ne treba raditi na predm.",1+SUM(L16:N16),(SUM(L16:N16)/G16))) -> 1.0871 | P16: =IF(K16>0,O16*(J16/(J16-K16)),O16) -> 1.0997407 | U16: =IF(Q16="","",R16/(Q16-S16)) | V16: =IF(P16="","",IF(C16="Ne","",IF(G16="Ne treba raditi na predm.","", IF(P16>1,30,IF(U16="",IF(P16>0.9,25,IF(P16>0.8,20,IF(P16>0.7,16,IF(P16>0.6,10,IF(P16>0.5,4,0))))),IF(U16=1,30,IF(U16>0.9,25,IF(U16>0.8,20,IF(U16>0.7,15,IF(U16>0.6,10,IF(U16>0.5,5,0))))))))))) -> 30
A17: 9 | B17: Samil Ramić | C17: Da | D17: Izvršni | E17: Sudija | F17: =IF(E17="Sudija",1,IF(E17="Stručni saradnik",1,"")) -> 1 | G17: 1 | H17: 01.01.2019. | I17: 31.12.2019. | J17: 261 | K17: 36 | L17: 0.9951 | O17: =IF(G17="","",IF(G17="Ne treba raditi na predm.",1+SUM(L17:N17),(SUM(L17:N17)/G17))) -> 0.9951 | P17: =IF(K17>0,O17*(J17/(J17-K17)),O17) -> 1.154316 | U17: =IF(Q17="","",R17/(Q17-S17)) | V17: =IF(P17="","",IF(C17="Ne","",IF(G17="Ne treba raditi na predm.","", IF(P17>1,30,IF(U17="",IF(P17>0.9,25,IF(P17>0.8,20,IF(P17>0.7,16,IF(P17>0.6,10,IF(P17>0.5,4,0))))),IF(U17=1,30,IF(U17>0.9,25,IF(U17>0.8,20,IF(U17>0.7,15,IF(U17>0.6,10,IF(U17>0.5,5,0))))))))))) -> 30
A18: 10 | B18: Ivan Gudelj | C18: Da | D18: Izvršni | E18: Sudija | F18: =IF(E18="Sudija",1,IF(E18="Stručni saradnik",1,"")) -> 1 | G18: 1 | H18: 01.01.2019. | I18: 31.12.2019. | J18: 261 | K18: 5 | L18: 1.0406 | O18: =IF(G18="","",IF(G18="Ne treba raditi na predm.",1+SUM(L18:N18),(SUM(L18:N18)/G18))) -> 1.0406 | P18: =IF(K18>0,O18*(J18/(J18-K18)),O18) -> 1.0609242 | U18: =IF(Q18="","",R18/(Q18-S18)) | V18: =IF(P18="","",IF(C18="Ne","",IF(G18="Ne treba raditi na predm.","", IF(P18>1,30,IF(U18="",IF(P18>0.9,25,IF(P18>0.8,20,IF(P18>0.7,16,IF(P18>0.6,10,IF(P18>0.5,4,0))))),IF(U18=1,30,IF(U18>0.9,25,IF(U18>0.8,20,IF(U18>0.7,15,IF(U18>0.6,10,IF(U18>0.5,5,0))))))))))) -> 30
A19: 11 | B19: Aldina Rebihić Topoljak | C19: Da | D19: Izvršni | E19: Sudija | F19: =IF(E19="Sudija",1,IF(E19="Stručni saradnik",1,"")) -> 1 | G19: 1 | H19: 01.01.2019. | I19: 31.12.2019. | J19: 261 | K19: 55 | L19: 0.8916 | O19: =IF(G19="","",IF(G19="Ne treba raditi na predm.",1+SUM(L19:N19),(SUM(L19:N19)/G19))) -> 0.8916 | P19: =IF(K19>0,O19*(J19/(J19-K19)),O19) -> 1.1296485 | U19: =IF(Q19="","",R19/(Q19-S19)) | V19: =IF(P19="","",IF(C19="Ne","",IF(G19="Ne treba raditi na predm.","", IF(P19>1,30,IF(U19="",IF(P19>0.9,25,IF(P19>0.8,20,IF(P19>0.7,16,IF(P19>0.6,10,IF(P19>0.5,4,0))))),IF(U19=1,30,IF(U19>0.9,25,IF(U19>0.8,20,IF(U19>0.7,15,IF(U19>0.6,10,IF(U19>0.5,5,0))))))))))) -> 30
A20: 12 | B20: Sonsirej Radivojević | C20: Da | D20: Krivično-prekršajni | E20: Sudija | F20: =IF(E20="Sudija",1,IF(E20="Stručni saradnik",1,"")) -> 1 | G20: 1 | H20: 01.01.2019. | I20: 31.12.2019. | J20: 261 | L20: 1.0093 | O20: =IF(G20="","",IF(G20="Ne treba raditi na predm.",1+SUM(L20:N20),(SUM(L20:N20)/G20))) -> 1.0093 | P20: =IF(K20>0,O20*(J20/(J20-K20)),O20) -> 1.0093 | U20: =IF(Q20="","",R20/(Q20-S20)) | V20: =IF(P20="","",IF(C20="Ne","",IF(G20="Ne treba raditi na predm.","", IF(P20>1,30,IF(U20="",IF(P20>0.9,25,IF(P20>0.8,20,IF(P20>0.7,16,IF(P20>0.6,10,IF(P20>0.5,4,0))))),IF(U20=1,30,IF(U20>0.9,25,IF(U20>0.8,20,IF(U20>0.7,15,IF(U20>0.6,10,IF(U20>0.5,5,0))))))))))) -> 30
A21: 13 | B21: Amela Agić | C21: Ne | D21: Izvršni | E21: Stručni saradnik | F21: =IF(E21="Sudija",1,IF(E21="Stručni saradnik",1,"")) -> 1 | G21: 1 | H21: 01.01.2019. | I21: 31.12.2019. | J21: 261 | K21: 22 | L21: 0.997 | O21: =IF(G21="","",IF(G21="Ne treba raditi na predm.",1+SUM(L21:N21),(SUM(L21:N21)/G21))) -> 0.997 | P21: =IF(K21>0,O21*(J21/(J21-K21)),O21) -> 1.0887741 | U21: =IF(Q21="","",R21/(Q21-S21)) | V21: =IF(P21="","",IF(C21="Ne","",IF(G21="Ne treba raditi na predm.","", IF(P21>1,30,IF(U21="",IF(P21>0.9,25,IF(P21>0.8,20,IF(P21>0.7,16,IF(P21>0.6,10,IF(P21>0.5,4,0))))),IF(U21=1,30,IF(U21>0.9,25,IF(U21>0.8,20,IF(U21>0.7,15,IF(U21>0.6,10,IF(U21>0.5,5,0)))))))))))
A22: 14 | B22: Marin Kajić | C22: Ne | D22: Izvršni | E22: Stručni saradnik | F22: =IF(E22="Sudija",1,IF(E22="Stručni saradnik",1,"")) -> 1 | G22: 1 | H22: 01.01.2019. | I22: 31.12.2019. | J22: 261 | L22: 1.021 | O22: =IF(G22="","",IF(G22="Ne treba raditi na predm.",1+SUM(L22:N22),(SUM(L22:N22)/G22))) -> 1.021 | P22: =IF(K22>0,O22*(J22/(J22-K22)),O22) -> 1.021 | U22: =IF(Q22="","",R22/(Q22-S22)) | V22: =IF(P22="","",IF(C22="Ne","",IF(G22="Ne treba raditi na predm.","", IF(P22>1,30,IF(U22="",IF(P22>0.9,25,IF(P22>0.8,20,IF(P22>0.7,16,IF(P22>0.6,10,IF(P22>0.5,4,0))))),IF(U22=1,30,IF(U22>0.9,25,IF(U22>0.8,20,IF(U22>0.7,15,IF(U22>0.6,10,IF(U22>0.5,5,0)))))))))))
A23: 15 | B23: Ivan Sokanović | C23: Ne | D23: Izvršni | E23: Stručni saradnik | F23: =IF(E23="Sudija",1,IF(E23="Stručni saradnik",1,"")) -> 1 | G23: 1 | H23: 01.01.2019. | I23: 31.12.2019. | J23: 261 | K23: 3 | L23: 1.0301 | O23: =IF(G23="","",IF(G23="Ne treba raditi na predm.",1+SUM(L23:N23),(SUM(L23:N23)/G23))) -> 1.0301 | P23: =IF(K23>0,O23*(J23/(J23-K23)),O23) -> 1.0420779 | U23: =IF(Q23="","",R23/(Q23-S23)) | V23: =IF(P23="","",IF(C23="Ne","",IF(G23="Ne treba raditi na predm.","", IF(P23>1,30,IF(U23="",IF(P23>0.9,25,IF(P23>0.8,20,IF(P23>0.7,16,IF(P23>0.6,10,IF(P23>0.5,4,0))))),IF(U23=1,30,IF(U23>0.9,25,IF(U23>0.8,20,IF(U23>0.7,15,IF(U23>0.6,10,IF(U23>0.5,5,0)))))))))))
A24: 16 | F24: =IF(E24="Sudija",1,IF(E24="Stručni saradnik",1,"")) | J24: 261 | O24: =IF(G24="","",IF(G24="Ne treba raditi na predm.",1+SUM(L24:N24),(SUM(L24:N24)/G24))) | P24: =IF(K24>0,O24*(J24/(J24-K24)),O24) | U24: =IF(Q24="","",R24/(Q24-S24)) | V24: =IF(P24="","",IF(C24="Ne","",IF(G24="Ne treba raditi na predm.","", IF(P24>1,30,IF(U24="",IF(P24>0.9,25,IF(P24>0.8,20,IF(P24>0.7,16,IF(P24>0.6,10,IF(P24>0.5,4,0))))),IF(U24=1,30,IF(U24>0.9,25,IF(U24>0.8,20,IF(U24>0.7,15,IF(U24>0.6,10,IF(U24>0.5,5,0)))))))))))
A25: 17 | F25: =IF(E25="Sudija",1,IF(E25="Stručni saradnik",1,"")) | J25: 261 | O25: =IF(G25="","",IF(G25="Ne treba raditi na predm.",1+SUM(L25:N25),(SUM(L25:N25)/G25))) | P25: =IF(K25>0,O25*(J25/(J25-K25)),O25) | U25: =IF(Q25="","",R25/(Q25-S25)) | V25: =IF(P25="","",IF(C25="Ne","",IF(G25="Ne treba raditi na predm.","", IF(P25>1,30,IF(U25="",IF(P25>0.9,25,IF(P25>0.8,20,IF(P25>0.7,16,IF(P25>0.6,10,IF(P25>0.5,4,0))))),IF(U25=1,30,IF(U25>0.9,25,IF(U25>0.8,20,IF(U25>0.7,15,IF(U25>0.6,10,IF(U25>0.5,5,0)))))))))))
A26: 18 | F26: =IF(E26="Sudija",1,IF(E26="Stručni saradnik",1,"")) | J26: 261 | O26: =IF(G26="","",IF(G26="Ne treba raditi na predm.",1+SUM(L26:N26),(SUM(L26:N26)/G26))) | P26: =IF(K26>0,O26*(J26/(J26-K26)),O26) | U26: =IF(Q26="","",R26/(Q26-S26)) | V26: =IF(P26="","",IF(C26="Ne","",IF(G26="Ne treba raditi na predm.","", IF(P26>1,30,IF(U26="",IF(P26>0.9,25,IF(P26>0.8,20,IF(P26>0.7,16,IF(P26>0.6,10,IF(P26>0.5,4,0))))),IF(U26=1,30,IF(U26>0.9,25,IF(U26>0.8,20,IF(U26>0.7,15,IF(U26>0.6,10,IF(U26>0.5,5,0)))))))))))
A27: 19 | F27: =IF(E27="Sudija",1,IF(E27="Stručni saradnik",1,"")) | J27: 261 | O27: =IF(G27="","",IF(G27="Ne treba raditi na predm.",1+SUM(L27:N27),(SUM(L27:N27)/G27))) | P27: =IF(K27>0,O27*(J27/(J27-K27)),O27) | U27: =IF(Q27="","",R27/(Q27-S27)) | V27: =IF(P27="","",IF(C27="Ne","",IF(G27="Ne treba raditi na predm.","", IF(P27>1,30,IF(U27="",IF(P27>0.9,25,IF(P27>0.8,20,IF(P27>0.7,16,IF(P27>0.6,10,IF(P27>0.5,4,0))))),IF(U27=1,30,IF(U27>0.9,25,IF(U27>0.8,20,IF(U27>0.7,15,IF(U27>0.6,10,IF(U27>0.5,5,0)))))))))))
A28: 20 | F28: =IF(E28="Sudija",1,IF(E28="Stručni saradnik",1,"")) | J28: 261 | O28: =IF(G28="","",IF(G28="Ne treba raditi na predm.",1+SUM(L28:N28),(SUM(L28:N28)/G28))) | P28: =IF(K28>0,O28*(J28/(J28-K28)),O28) | U28: =IF(Q28="","",R28/(Q28-S28)) | V28: =IF(P28="","",IF(C28="Ne","",IF(G28="Ne treba raditi na predm.","", IF(P28>1,30,IF(U28="",IF(P28>0.9,25,IF(P28>0.8,20,IF(P28>0.7,16,IF(P28>0.6,10,IF(P28>0.5,4,0))))),IF(U28=1,30,IF(U28>0.9,25,IF(U28>0.8,20,IF(U28>0.7,15,IF(U28>0.6,10,IF(U28>0.5,5,0)))))))))))
A29: 21 | F29: =IF(E29="Sudija",1,IF(E29="Stručni saradnik",1,"")) | J29: 261 | O29: =IF(G29="","",IF(G29="Ne treba raditi na predm.",1+SUM(L29:N29),(SUM(L29:N29)/G29))) | P29: =IF(K29>0,O29*(J29/(J29-K29)),O29) | U29: =IF(Q29="","",R29/(Q29-S29)) | V29: =IF(P29="","",IF(C29="Ne","",IF(G29="Ne treba raditi na predm.","", IF(P29>1,30,IF(U29="",IF(P29>0.9,25,IF(P29>0.8,20,IF(P29>0.7,16,IF(P29>0.6,10,IF(P29>0.5,4,0))))),IF(U29=1,30,IF(U29>0.9,25,IF(U29>0.8,20,IF(U29>0.7,15,IF(U29>0.6,10,IF(U29>0.5,5,0)))))))))))
A30: 22 | F30: =IF(E30="Sudija",1,IF(E30="Stručni saradnik",1,"")) | J30: 261 | O30: =IF(G30="","",IF(G30="Ne treba raditi na predm.",1+SUM(L30:N30),(SUM(L30:N30)/G30))) | P30: =IF(K30>0,O30*(J30/(J30-K30)),O30) | U30: =IF(Q30="","",R30/(Q30-S30)) | V30: =IF(P30="","",IF(C30="Ne","",IF(G30="Ne treba raditi na predm.","", IF(P30>1,30,IF(U30="",IF(P30>0.9,25,IF(P30>0.8,20,IF(P30>0.7,16,IF(P30>0.6,10,IF(P30>0.5,4,0))))),IF(U30=1,30,IF(U30>0.9,25,IF(U30>0.8,20,IF(U30>0.7,15,IF(U30>0.6,10,IF(U30>0.5,5,0)))))))))))
A31: 23 | F31: =IF(E31="Sudija",1,IF(E31="Stručni saradnik",1,"")) | J31: 261 | O31: =IF(G31="","",IF(G31="Ne treba raditi na predm.",1+SUM(L31:N31),(SUM(L31:N31)/G31))) | P31: =IF(K31>0,O31*(J31/(J31-K31)),O31) | U31: =IF(Q31="","",R31/(Q31-S31)) | V31: =IF(P31="","",IF(C31="Ne","",IF(G31="Ne treba raditi na predm.","", IF(P31>1,30,IF(U31="",IF(P31>0.9,25,IF(P31>0.8,20,IF(P31>0.7,16,IF(P31>0.6,10,IF(P31>0.5,4,0))))),IF(U31=1,30,IF(U31>0.9,25,IF(U31>0.8,20,IF(U31>0.7,15,IF(U31>0.6,10,IF(U31>0.5,5,0)))))))))))
A32: 24 | F32: =IF(E32="Sudija",1,IF(E32="Stručni saradnik",1,"")) | J32: 261 | O32: =IF(G32="","",IF(G32="Ne treba raditi na predm.",1+SUM(L32:N32),(SUM(L32:N32)/G32))) | P32: =IF(K32>0,O32*(J32/(J32-K32)),O32) | U32: =IF(Q32="","",R32/(Q32-S32)) | V32: =IF(P32="","",IF(C32="Ne","",IF(G32="Ne treba raditi na predm.","", IF(P32>1,30,IF(U32="",IF(P32>0.9,25,IF(P32>0.8,20,IF(P32>0.7,16,IF(P32>0.6,10,IF(P32>0.5,4,0))))),IF(U32=1,30,IF(U32>0.9,25,IF(U32>0.8,20,IF(U32>0.7,15,IF(U32>0.6,10,IF(U32>0.5,5,0)))))))))))
A33: 25 | F33: =IF(E33="Sudija",1,IF(E33="Stručni saradnik",1,"")) | J33: 261 | O33: =IF(G33="","",IF(G33="Ne treba raditi na predm.",1+SUM(L33:N33),(SUM(L33:N33)/G33))) | P33: =IF(K33>0,O33*(J33/(J33-K33)),O33) | U33: =IF(Q33="","",R33/(Q33-S33)) | V33: =IF(P33="","",IF(C33="Ne","",IF(G33="Ne treba raditi na predm.","", IF(P33>1,30,IF(U33="",IF(P33>0.9,25,IF(P33>0.8,20,IF(P33>0.7,16,IF(P33>0.6,10,IF(P33>0.5,4,0))))),IF(U33=1,30,IF(U33>0.9,25,IF(U33>0.8,20,IF(U33>0.7,15,IF(U33>0.6,10,IF(U33>0.5,5,0)))))))))))
A34: 26 | F34: =IF(E34="Sudija",1,IF(E34="Stručni saradnik",1,"")) | J34: 261 | O34: =IF(G34="","",IF(G34="Ne treba raditi na predm.",1+SUM(L34:N34),(SUM(L34:N34)/G34))) | P34: =IF(K34>0,O34*(J34/(J34-K34)),O34) | U34: =IF(Q34="","",R34/(Q34-S34)) | V34: =IF(P34="","",IF(C34="Ne","",IF(G34="Ne treba raditi na predm.","", IF(P34>1,30,IF(U34="",IF(P34>0.9,25,IF(P34>0.8,20,IF(P34>0.7,16,IF(P34>0.6,10,IF(P34>0.5,4,0))))),IF(U34=1,30,IF(U34>0.9,25,IF(U34>0.8,20,IF(U34>0.7,15,IF(U34>0.6,10,IF(U34>0.5,5,0)))))))))))
A35: 27 | F35: =IF(E35="Sudija",1,IF(E35="Stručni saradnik",1,"")) | J35: 261 | O35: =IF(G35="","",IF(G35="Ne treba raditi na predm.",1+SUM(L35:N35),(SUM(L35:N35)/G35))) | P35: =IF(K35>0,O35*(J35/(J35-K35)),O35) | U35: =IF(Q35="","",R35/(Q35-S35)) | V35: =IF(P35="","",IF(C35="Ne","",IF(G35="Ne treba raditi na predm.","", IF(P35>1,30,IF(U35="",IF(P35>0.9,25,IF(P35>0.8,20,IF(P35>0.7,16,IF(P35>0.6,10,IF(P35>0.5,4,0))))),IF(U35=1,30,IF(U35>0.9,25,IF(U35>0.8,20,IF(U35>0.7,15,IF(U35>0.6,10,IF(U35>0.5,5,0)))))))))))
... A73: 65 | F73: =IF(E73="Sudija",1,IF(E73="Stručni saradnik",1,"")) | J73: 261 | O73: =IF(G73="","",IF(G73="Ne treba raditi na predm.",1+SUM(L73:N73),(SUM(L73:N73)/G73))) | P73: =IF(K73>0,O73*(J73/(J73-K73)),O73) | U73: =IF(Q73="","",R73/(Q73-S73)) | V73: =IF(P73="","",IF(C73="Ne","",IF(G73="Ne treba raditi na predm.","", IF(P73>1,30,IF(U73="",IF(P73>0.9,25,IF(P73>0.8,20,IF(P73>0.7,16,IF(P73>0.6,10,IF(P73>0.5,4,0))))),IF(U73=1,30,IF(U73>0.9,25,IF(U73>0.8,20,IF(U73>0.7,15,IF(U73>0.6,10,IF(U73>0.5,5,0)))))))))))
F74: =IF(E74="Sudija",1,IF(E74="Stručni saradnik",1,"")) | J74: 261 | O74: =IF(G74="","",IF(G74="Ne treba raditi na predm.",1+SUM(L74:N74),(SUM(L74:N74)/G74))) | P74: =IF(K74>0,O74*(J74/(J74-K74)),O74) | U74: =IF(Q74="","",R74/(Q74-S74)) | V74: =IF(P74="","",IF(C74="Ne","",IF(G74="Ne treba raditi na predm.","", IF(P74>1,30,IF(U74="",IF(P74>0.9,25,IF(P74>0.8,20,IF(P74>0.7,16,IF(P74>0.6,10,IF(P74>0.5,4,0))))),IF(U74=1,30,IF(U74>0.9,25,IF(U74>0.8,20,IF(U74>0.7,15,IF(U74>0.6,10,IF(U74>0.5,5,0)))))))))))
F75: =IF(E75="Sudija",1,IF(E75="Stručni saradnik",1,"")) | J75: 261 | O75: =IF(G75="","",IF(G75="Ne treba raditi na predm.",1+SUM(L75:N75),(SUM(L75:N75)/G75))) | P75: =IF(K75>0,O75*(J75/(J75-K75)),O75) | U75: =IF(Q75="","",R75/(Q75-S75)) | V75: =IF(P75="","",IF(C75="Ne","",IF(G75="Ne treba raditi na predm.","", IF(P75>1,30,IF(U75="",IF(P75>0.9,25,IF(P75>0.8,20,IF(P75>0.7,16,IF(P75>0.6,10,IF(P75>0.5,4,0))))),IF(U75=1,30,IF(U75>0.9,25,IF(U75>0.8,20,IF(U75>0.7,15,IF(U75>0.6,10,IF(U75>0.5,5,0)))))))))))
F76: =IF(E76="Sudija",1,IF(E76="Stručni saradnik",1,"")) | J76: 261 | O76: =IF(G76="","",IF(G76="Ne treba raditi na predm.",1+SUM(L76:N76),(SUM(L76:N76)/G76))) | P76: =IF(K76>0,O76*(J76/(J76-K76)),O76) | U76: =IF(Q76="","",R76/(Q76-S76)) | V76: =IF(P76="","",IF(C76="Ne","",IF(G76="Ne treba raditi na predm.","", IF(P76>1,30,IF(U76="",IF(P76>0.9,25,IF(P76>0.8,20,IF(P76>0.7,16,IF(P76>0.6,10,IF(P76>0.5,4,0))))),IF(U76=1,30,IF(U76>0.9,25,IF(U76>0.8,20,IF(U76>0.7,15,IF(U76>0.6,10,IF(U76>0.5,5,0)))))))))))
F77: =IF(E77="Sudija",1,IF(E77="Stručni saradnik",1,"")) | J77: 261 | O77: =IF(G77="","",IF(G77="Ne treba raditi na predm.",1+SUM(L77:N77),(SUM(L77:N77)/G77))) | P77: =IF(K77>0,O77*(J77/(J77-K77)),O77) | U77: =IF(Q77="","",R77/(Q77-S77)) | V77: =IF(P77="","",IF(C77="Ne","",IF(G77="Ne treba raditi na predm.","", IF(P77>1,30,IF(U77="",IF(P77>0.9,25,IF(P77>0.8,20,IF(P77>0.7,16,IF(P77>0.6,10,IF(P77>0.5,4,0))))),IF(U77=1,30,IF(U77>0.9,25,IF(U77>0.8,20,IF(U77>0.7,15,IF(U77>0.6,10,IF(U77>0.5,5,0)))))))))))
F78: =IF(E78="Sudija",1,IF(E78="Stručni saradnik",1,"")) | J78: 261 | O78: =IF(G78="","",IF(G78="Ne treba raditi na predm.",1+SUM(L78:N78),(SUM(L78:N78)/G78))) | P78: =IF(K78>0,O78*(J78/(J78-K78)),O78) | U78: =IF(Q78="","",R78/(Q78-S78)) | V78: =IF(P78="","",IF(C78="Ne","",IF(G78="Ne treba raditi na predm.","", IF(P78>1,30,IF(U78="",IF(P78>0.9,25,IF(P78>0.8,20,IF(P78>0.7,16,IF(P78>0.6,10,IF(P78>0.5,4,0))))),IF(U78=1,30,IF(U78>0.9,25,IF(U78>0.8,20,IF(U78>0.7,15,IF(U78>0.6,10,IF(U78>0.5,5,0)))))))))))
...

Sheet Tabela III
A1: Općinski/Osnovni sud: | B1: ='Tabela I'!C1 -> Bugojno
A2: Izvještajni period: | B2: ='Tabela I'!C2 -> 1.1.2019.- 31.12.2019.
A3: Tabela IIIa - Kvalitet sudskih odluka po vrstama predmeta
A4: Vrsta predmeta | B4: Broj donesenih odluka na koje se može izjaviti pravni lijek - pogledati NAPOMENU 2 | C4: Ukupan broj ožalbenih odluka | D4: Broj odbačenih pravnih lijekova | E4: Broj potvrđenih odluka | F4: Broj preinačenih odluka | G4: Broj preinačenih odluka donijetih na raspravi ili na pretresu pred višim sudom | H4: Broj ukinutih odluka - pogledati NAPOMENU 2 | I4: Broj djelimično ukinutih odluka | J4: Kvalitet sudskih odluka | K4: Broj presuda koje su ukinute i predmet vraćen na ponovno suđenje
E5: Odbijen pravni lijek
B6: I | C6: II=IV+V+VI+ VII+VIII) | D6: III | E6: IV | F6: V | G6: VI | H6: VII | I6: VIII | J6: IX1 | K6: X
A7: Parnični referat
A8: P | B8: 475 | C8: =E8+F8+G8+H8+I8 -> 80 | E8: 57 | F8: 10 | H8: 12 | I8: 1 | J8: =IF(C8=0,"",IF(B8=0,1,0.83*((C8-H8-I8/2)/C8)+0.17*((B8-G8-H8-I8/2)/B8))) -> 0.86583882
A9: Mal | B9: 831 | C9: =E9+F9+G9+H9+I9 -> 32 | E9: 30 | F9: 2 | J9: =IF(C9=0,"",IF(B9=0,1,0.83*((C9-H9-I9/2)/C9)+0.17*((B9-G9-H9-I9/2)/B9))) -> 1
A10: Radni sporovi | B10: 67 | C10: =E10+F10+G10+H10+I10 -> 20 | E10: 13 | F10: 2 | H10: 5 | J10: =IF(C10=0,"",IF(B10=0,1,0.83*((C10-H10-I10/2)/C10)+0.17*((B10-G10-H10-I10/2)/B10))) -> 0.77981343
A11: Pom | C11: =E11+F11+G11+H11+I11 -> 0 | J11: =IF(C11=0,"",IF(B11=0,1,0.83*((C11-H11-I11/2)/C11)+0.17*((B11-G11-H11-I11/2)/B11)))
A12: Ostalo | B12: 14 | C12: =E12+F12+G12+H12+I12 -> 12 | E12: 11 | F12: 1 | J12: =IF(C12=0,"",IF(B12=0,1,0.83*((C12-H12-I12/2)/C12)+0.17*((B12-G12-H12-I12/2)/B12))) -> 1
A13: Privredni referat
A14: Ps | C14: =E14+F14+G14+H14+I14 -> 0 | J14: =IF(C14=0,"",IF(B14=0,1,0.83*((C14-H14-I14/2)/C14)+0.17*((B14-G14-H14-I14/2)/B14)))
A15: Mals | C15: =E15+F15+G15+H15+I15 -> 0 | J15: =IF(C15=0,"",IF(B15=0,1,0.83*((C15-H15-I15/2)/C15)+0.17*((B15-G15-H15-I15/2)/B15)))
A16: L | C16: =E16+F16+G16+H16+I16 -> 0 | J16: =IF(C16=0,"",IF(B16=0,1,0.83*((C16-H16-I16/2)/C16)+0.17*((B16-G16-H16-I16/2)/B16)))
A17: Ls | C17: =E17+F17+G17+H17+I17 -> 0 | J17: =IF(C17=0,"",IF(B17=0,1,0.83*((C17-H17-I17/2)/C17)+0.17*((B17-G17-H17-I17/2)/B17)))
A18: St | C18: =E18+F18+G18+H18+I18 -> 0 | J18: =IF(C18=0,"",IF(B18=0,1,0.83*((C18-H18-I18/2)/C18)+0.17*((B18-G18-H18-I18/2)/B18)))
A19: Ostalo | C19: =E19+F19+G19+H19+I19 -> 0 | J19: =IF(C19=0,"",IF(B19=0,1,0.83*((C19-H19-I19/2)/C19)+0.17*((B19-G19-H19-I19/2)/B19)))
A20: Krivični referat
A21: K | B21: 235 | C21: =E21+F21+G21+H21+I21 -> 76 | E21: 47 | F21: 12 | H21: 16 | I21: 1 | J21: =IF(C21=0,"",IF(B21=0,1,0.83*((C21-H21-I21/2)/C21)+0.17*((B21-G21-H21-I21/2)/B21))) -> 0.80786646
A22: Kpp | B22: 125 | C22: =E22+F22+G22+H22+I22 -> 1 | E22: 1 | J22: =IF(C22=0,"",IF(B22=0,1,0.83*((C22-H22-I22/2)/C22)+0.17*((B22-G22-H22-I22/2)/B22))) -> 1
A23: Kps | B23: 123 | C23: =E23+F23+G23+H23+I23 -> 2 | E23: 2 | J23: =IF(C23=0,"",IF(B23=0,1,0.83*((C23-H23-I23/2)/C23)+0.17*((B23-G23-H23-I23/2)/B23))) -> 1
A24: Kzs | B24: 0 | C24: =E24+F24+G24+H24+I24 -> 0 | J24: =IF(C24=0,"",IF(B24=0,1,0.83*((C24-H24-I24/2)/C24)+0.17*((B24-G24-H24-I24/2)/B24)))
A25: Kbs | B25: 10 | C25: =E25+F25+G25+H25+I25 -> 1 | E25: 0 | H25: 1 | J25: =IF(C25=0,"",IF(B25=0,1,0.83*((C25-H25-I25/2)/C25)+0.17*((B25-G25-H25-I25/2)/B25))) -> 0.153
A26: Km | B26: 7 | C26: =E26+F26+G26+H26+I26 -> 0 | E26: 0 | J26: =IF(C26=0,"",IF(B26=0,1,0.83*((C26-H26-I26/2)/C26)+0.17*((B26-G26-H26-I26/2)/B26)))
A27: Kv | B27: 71 | C27: =E27+F27+G27+H27+I27 -> 7 | E27: 6 | H27: 1 | J27: =IF(C27=0,"",IF(B27=0,1,0.83*((C27-H27-I27/2)/C27)+0.17*((B27-G27-H27-I27/2)/B27))) -> 0.87903421
A28: Kvl | B28: 0 | C28: =E28+F28+G28+H28+I28 -> 0 | J28: =IF(C28=0,"",IF(B28=0,1,0.83*((C28-H28-I28/2)/C28)+0.17*((B28-G28-H28-I28/2)/B28)))
A29: Kp | B29: 2 | C29: =E29+F29+G29+H29+I29 -> 0 | E29: 0 | J29: =IF(C29=0,"",IF(B29=0,1,0.83*((C29-H29-I29/2)/C29)+0.17*((B29-G29-H29-I29/2)/B29)))
A30: Iks | B30: 140 | C30: =E30+F30+G30+H30+I30 -> 3 | E30: 3 | J30: =IF(C30=0,"",IF(B30=0,1,0.83*((C30-H30-I30/2)/C30)+0.17*((B30-G30-H30-I30/2)/B30))) -> 1
A31: Pom | B31: 0 | C31: =E31+F31+G31+H31+I31 -> 0 | J31: =IF(C31=0,"",IF(B31=0,1,0.83*((C31-H31-I31/2)/C31)+0.17*((B31-G31-H31-I31/2)/B31)))
A32: Ostalo | B32: 6 | C32: =E32+F32+G32+H32+I32 -> 2 | E32: 1 | H32: 1 | J32: =IF(C32=0,"",IF(B32=0,1,0.83*((C32-H32-I32/2)/C32)+0.17*((B32-G32-H32-I32/2)/B32))) -> 0.55666667
A33: Izvršni referat
A34: I | B34: 1830 | C34: =E34+F34+G34+H34+I34 -> 111 | E34: 95 | F34: 2 | H34: 14 | J34: =IF(C34=0,"",IF(B34=0,1,0.83*((C34-H34-I34/2)/C34)+0.17*((B34-G34-H34-I34/2)/B34))) -> 0.89401477
A35: Ip | B35: 133 | C35: =E35+F35+G35+H35+I35 -> 6 | E35: 5 | F35: 1 | J35: =IF(C35=0,"",IF(B35=0,1,0.83*((C35-H35-I35/2)/C35)+0.17*((B35-G35-H35-I35/2)/B35))) -> 1
A36: Ostalo | B36: 1780 | C36: =E36+F36+G36+H36+I36 -> 0 | J36: =IF(C36=0,"",IF(B36=0,1,0.83*((C36-H36-I36/2)/C36)+0.17*((B36-G36-H36-I36/2)/B36)))
A37: Vanparnični referat
A38: V | B38: 225 | C38: =E38+F38+G38+H38+I38 -> 11 | E38: 7 | H38: 3 | I38: 1 | J38: =IF(C38=0,"",IF(B38=0,1,0.83*((C38-H38-I38/2)/C38)+0.17*((B38-G38-H38-I38/2)/B38))) -> 0.73326465
A39: O | B39: 980 | C39: =E39+F39+G39+H39+I39 -> 1 | E39: 1 | J39: =IF(C39=0,"",IF(B39=0,1,0.83*((C39-H39-I39/2)/C39)+0.17*((B39-G39-H39-I39/2)/B39))) -> 1
A40: Ostalo | B40: 23 | C40: =E40+F40+G40+H40+I40 -> 0 | J40: =IF(C40=0,"",IF(B40=0,1,0.83*((C40-H40-I40/2)/C40)+0.17*((B40-G40-H40-I40/2)/B40)))
...

Sheet tbl2_kvalitet_rada
A1: for_key | B1: godina | C1: lista_referata | D1: DonesOdluke | E1: OdbPrLijek | F1: PotvOdluke | G1: PreinOdluke | H1: PreinOdlukeNakonRasp | I1: UkinOdluke | J1: DjelimUkin | K1: UkinVracPonSud
A2: ='Tabela I'!$F$2 -> 0 | B2: ='Tabela I'!$F$1 -> 2019 | C2: 1 | D2: ='Tabela III'!B8 -> 475 | E2: ='Tabela III'!D8 -> 0 | F2: ='Tabela III'!E8 -> 57 | G2: ='Tabela III'!F8 -> 10 | H2: ='Tabela III'!G8 -> 0 | I2: ='Tabela III'!H8 -> 12 | J2: ='Tabela III'!I8 -> 1 | K2: ='Tabela III'!K8 -> 0
A3: ='Tabela I'!$F$2 -> 0 | B3: ='Tabela I'!$F$1 -> 2019 | C3: 3 | D3: ='Tabela III'!B9 -> 831 | E3: ='Tabela III'!D9 -> 0 | F3: ='Tabela III'!E9 -> 30 | G3: ='Tabela III'!F9 -> 2 | H3: ='Tabela III'!G9 -> 0 | I3: ='Tabela III'!H9 -> 0 | J3: ='Tabela III'!I9 -> 0 | K3: ='Tabela III'!K9 -> 0
A4: ='Tabela I'!$F$2 -> 0 | B4: ='Tabela I'!$F$1 -> 2019 | C4: 2 | D4: ='Tabela III'!B10 -> 67 | E4: ='Tabela III'!D10 -> 0 | F4: ='Tabela III'!E10 -> 13 | G4: ='Tabela III'!F10 -> 2 | H4: ='Tabela III'!G10 -> 0 | I4: ='Tabela III'!H10 -> 5 | J4: ='Tabela III'!I10 -> 0 | K4: ='Tabela III'!K10 -> 0
A5: ='Tabela I'!$F$2 -> 0 | B5: ='Tabela I'!$F$1 -> 2019 | C5: 96 | D5: ='Tabela III'!B11 -> 0 | E5: ='Tabela III'!D11 -> 0 | F5: ='Tabela III'!E11 -> 0 | G5: ='Tabela III'!F11 -> 0 | H5: ='Tabela III'!G11 -> 0 | I5: ='Tabela III'!H11 -> 0 | J5: ='Tabela III'!I11 -> 0 | K5: ='Tabela III'!K11 -> 0
A6: ='Tabela I'!$F$2 -> 0 | B6: ='Tabela I'!$F$1 -> 2019 | C6: 4 | D6: ='Tabela III'!B12 -> 14 | E6: ='Tabela III'!D12 -> 0 | F6: ='Tabela III'!E12 -> 11 | G6: ='Tabela III'!F12 -> 1 | H6: ='Tabela III'!G12 -> 0 | I6: ='Tabela III'!H12 -> 0 | J6: ='Tabela III'!I12 -> 0 | K6: ='Tabela III'!K12 -> 0
A7: ='Tabela I'!$F$2 -> 0 | B7: ='Tabela I'!$F$1 -> 2019 | C7: 5 | D7: ='Tabela III'!B14 -> 0 | E7: ='Tabela III'!D14 -> 0 | F7: ='Tabela III'!E14 -> 0 | G7: ='Tabela III'!F14 -> 0 | H7: ='Tabela III'!G14 -> 0 | I7: ='Tabela III'!H14 -> 0 | J7: ='Tabela III'!I14 -> 0 | K7: ='Tabela III'!K14 -> 0
A8: ='Tabela I'!$F$2 -> 0 | B8: ='Tabela I'!$F$1 -> 2019 | C8: 6 | D8: ='Tabela III'!B15 -> 0 | E8: ='Tabela III'!D15 -> 0 | F8: ='Tabela III'!E15 -> 0 | G8: ='Tabela III'!F15 -> 0 | H8: ='Tabela III'!G15 -> 0 | I8: ='Tabela III'!H15 -> 0 | J8: ='Tabela III'!I15 -> 0 | K8: ='Tabela III'!K15 -> 0
A9: ='Tabela I'!$F$2 -> 0 | B9: ='Tabela I'!$F$1 -> 2019 | C9: 7 | D9: ='Tabela III'!B16 -> 0 | E9: ='Tabela III'!D16 -> 0 | F9: ='Tabela III'!E16 -> 0 | G9: ='Tabela III'!F16 -> 0 | H9: ='Tabela III'!G16 -> 0 | I9: ='Tabela III'!H16 -> 0 | J9: ='Tabela III'!I16 -> 0 | K9: ='Tabela III'!K16 -> 0
A10: ='Tabela I'!$F$2 -> 0 | B10: ='Tabela I'!$F$1 -> 2019 | C10: 97 | D10: ='Tabela III'!B17 -> 0 | E10: ='Tabela III'!D17 -> 0 | F10: ='Tabela III'!E17 -> 0 | G10: ='Tabela III'!F17 -> 0 | H10: ='Tabela III'!G17 -> 0 | I10: ='Tabela III'!H17 -> 0 | J10: ='Tabela III'!I17 -> 0 | K10: ='Tabela III'!K17 -> 0
A11: ='Tabela I'!$F$2 -> 0 | B11: ='Tabela I'!$F$1 -> 2019 | C11: 8 | D11: ='Tabela III'!B18 -> 0 | E11: ='Tabela III'!D18 -> 0 | F11: ='Tabela III'!E18 -> 0 | G11: ='Tabela III'!F18 -> 0 | H11: ='Tabela III'!G18 -> 0 | I11: ='Tabela III'!H18 -> 0 | J11: ='Tabela III'!I18 -> 0 | K11: ='Tabela III'!K18 -> 0
A12: ='Tabela I'!$F$2 -> 0 | B12: ='Tabela I'!$F$1 -> 2019 | C12: 10 | D12: ='Tabela III'!B19 -> 0 | E12: ='Tabela III'!D19 -> 0 | F12: ='Tabela III'!E19 -> 0 | G12: ='Tabela III'!F19 -> 0 | H12: ='Tabela III'!G19 -> 0 | I12: ='Tabela III'!H19 -> 0 | J12: ='Tabela III'!I19 -> 0 | K12: ='Tabela III'!K19 -> 0
A13: ='Tabela I'!$F$2 -> 0 | B13: ='Tabela I'!$F$1 -> 2019 | C13: 11 | D13: ='Tabela III'!B21 -> 235 | E13: ='Tabela III'!D21 -> 0 | F13: ='Tabela III'!E21 -> 47 | G13: ='Tabela III'!F21 -> 12 | H13: ='Tabela III'!G21 -> 0 | I13: ='Tabela III'!H21 -> 16 | J13: ='Tabela III'!I21 -> 1 | K13: ='Tabela III'!K21 -> 0
A14: ='Tabela I'!$F$2 -> 0 | B14: ='Tabela I'!$F$1 -> 2019 | C14: 13 | D14: ='Tabela III'!B22 -> 125 | E14: ='Tabela III'!D22 -> 0 | F14: ='Tabela III'!E22 -> 1 | G14: ='Tabela III'!F22 -> 0 | H14: ='Tabela III'!G22 -> 0 | I14: ='Tabela III'!H22 -> 0 | J14: ='Tabela III'!I22 -> 0 | K14: ='Tabela III'!K22 -> 0
A15: ='Tabela I'!$F$2 -> 0 | B15: ='Tabela I'!$F$1 -> 2019 | C15: 12 | D15: ='Tabela III'!B23 -> 123 | E15: ='Tabela III'!D23 -> 0 | F15: ='Tabela III'!E23 -> 2 | G15: ='Tabela III'!F23 -> 0 | H15: ='Tabela III'!G23 -> 0 | I15: ='Tabela III'!H23 -> 0 | J15: ='Tabela III'!I23 -> 0 | K15: ='Tabela III'!K23 -> 0
A16: ='Tabela I'!$F$2 -> 0 | B16: ='Tabela I'!$F$1 -> 2019 | C16: 92 | D16: ='Tabela III'!B24 -> 0 | E16: ='Tabela III'!D24 -> 0 | F16: ='Tabela III'!E24 -> 0 | G16: ='Tabela III'!F24 -> 0 | H16: ='Tabela III'!G24 -> 0 | I16: ='Tabela III'!H24 -> 0 | J16: ='Tabela III'!I24 -> 0 | K16: ='Tabela III'!K24 -> 0
A17: ='Tabela I'!$F$2 -> 0 | B17: ='Tabela I'!$F$1 -> 2019 | C17: 93 | D17: ='Tabela III'!B25 -> 10 | E17: ='Tabela III'!D25 -> 0 | F17: ='Tabela III'!E25 -> 0 | G17: ='Tabela III'!F25 -> 0 | H17: ='Tabela III'!G25 -> 0 | I17: ='Tabela III'!H25 -> 1 | J17: ='Tabela III'!I25 -> 0 | K17: ='Tabela III'!K25 -> 0
A18: ='Tabela I'!$F$2 -> 0 | B18: ='Tabela I'!$F$1 -> 2019 | C18: 15 | D18: ='Tabela III'!B26 -> 7 | E18: ='Tabela III'!D26 -> 0 | F18: ='Tabela III'!E26 -> 0 | G18: ='Tabela III'!F26 -> 0 | H18: ='Tabela III'!G26 -> 0 | I18: ='Tabela III'!H26 -> 0 | J18: ='Tabela III'!I26 -> 0 | K18: ='Tabela III'!K26 -> 0
A19: ='Tabela I'!$F$2 -> 0 | B19: ='Tabela I'!$F$1 -> 2019 | C19: 16 | D19: ='Tabela III'!B27 -> 71 | E19: ='Tabela III'!D27 -> 0 | F19: ='Tabela III'!E27 -> 6 | G19: ='Tabela III'!F27 -> 0 | H19: ='Tabela III'!G27 -> 0 | I19: ='Tabela III'!H27 -> 1 | J19: ='Tabela III'!I27 -> 0 | K19: ='Tabela III'!K27 -> 0
A20: ='Tabela I'!$F$2 -> 0 | B20: ='Tabela I'!$F$1 -> 2019 | C20: 69 | D20: ='Tabela III'!B28 -> 0 | E20: ='Tabela III'!D28 -> 0 | F20: ='Tabela III'!E28 -> 0 | G20: ='Tabela III'!F28 -> 0 | H20: ='Tabela III'!G28 -> 0 | I20: ='Tabela III'!H28 -> 0 | J20: ='Tabela III'!I28 -> 0 | K20: ='Tabela III'!K28 -> 0
A21: ='Tabela I'!$F$2 -> 0 | B21: ='Tabela I'!$F$1 -> 2019 | C21: 17 | D21: ='Tabela III'!B29 -> 2 | E21: ='Tabela III'!D29 -> 0 | F21: ='Tabela III'!E29 -> 0 | G21: ='Tabela III'!F29 -> 0 | H21: ='Tabela III'!G29 -> 0 | I21: ='Tabela III'!H29 -> 0 | J21: ='Tabela III'!I29 -> 0 | K21: ='Tabela III'!K29 -> 0
A22: ='Tabela I'!$F$2 -> 0 | B22: ='Tabela I'!$F$1 -> 2019 | C22: 18 | D22: ='Tabela III'!B30 -> 140 | E22: ='Tabela III'!D30 -> 0 | F22: ='Tabela III'!E30 -> 3 | G22: ='Tabela III'!F30 -> 0 | H22: ='Tabela III'!G30 -> 0 | I22: ='Tabela III'!H30 -> 0 | J22: ='Tabela III'!I30 -> 0 | K22: ='Tabela III'!K30 -> 0
A23: ='Tabela I'!$F$2 -> 0 | B23: ='Tabela I'!$F$1 -> 2019 | C23: 98 | D23: ='Tabela III'!B31 -> 0 | E23: ='Tabela III'!D31 -> 0 | F23: ='Tabela III'!E31 -> 0 | G23: ='Tabela III'!F31 -> 0 | H23: ='Tabela III'!G31 -> 0 | I23: ='Tabela III'!H31 -> 0 | J23: ='Tabela III'!I31 -> 0 | K23: ='Tabela III'!K31 -> 0
A24: ='Tabela I'!$F$2 -> 0 | B24: ='Tabela I'!$F$1 -> 2019 | C24: 19 | D24: ='Tabela III'!B32 -> 6 | E24: ='Tabela III'!D32 -> 0 | F24: ='Tabela III'!E32 -> 1 | G24: ='Tabela III'!F32 -> 0 | H24: ='Tabela III'!G32 -> 0 | I24: ='Tabela III'!H32 -> 1 | J24: ='Tabela III'!I32 -> 0 | K24: ='Tabela III'!K32 -> 0
A25: ='Tabela I'!$F$2 -> 0 | B25: ='Tabela I'!$F$1 -> 2019 | C25: 20 | D25: ='Tabela III'!B34 -> 1830 | E25: ='Tabela III'!D34 -> 0 | F25: ='Tabela III'!E34 -> 95 | G25: ='Tabela III'!F34 -> 2 | H25: ='Tabela III'!G34 -> 0 | I25: ='Tabela III'!H34 -> 14 | J25: ='Tabela III'!I34 -> 0 | K25: ='Tabela III'!K34 -> 0
A26: ='Tabela I'!$F$2 -> 0 | B26: ='Tabela I'!$F$1 -> 2019 | C26: 21 | D26: ='Tabela III'!B35 -> 133 | E26: ='Tabela III'!D35 -> 0 | F26: ='Tabela III'!E35 -> 5 | G26: ='Tabela III'!F35 -> 1 | H26: ='Tabela III'!G35 -> 0 | I26: ='Tabela III'!H35 -> 0 | J26: ='Tabela III'!I35 -> 0 | K26: ='Tabela III'!K35 -> 0
A27: ='Tabela I'!$F$2 -> 0 | B27: ='Tabela I'!$F$1 -> 2019 | C27: 22 | D27: ='Tabela III'!B36 -> 1780 | E27: ='Tabela III'!D36 -> 0 | F27: ='Tabela III'!E36 -> 0 | G27: ='Tabela III'!F36 -> 0 | H27: ='Tabela III'!G36 -> 0 | I27: ='Tabela III'!H36 -> 0 | J27: ='Tabela III'!I36 -> 0 | K27: ='Tabela III'!K36 -> 0
A28: ='Tabela I'!$F$2 -> 0 | B28: ='Tabela I'!$F$1 -> 2019 | C28: 23 | D28: ='Tabela III'!B38 -> 225 | E28: ='Tabela III'!D38 -> 0 | F28: ='Tabela III'!E38 -> 7 | G28: ='Tabela III'!F38 -> 0 | H28: ='Tabela III'!G38 -> 0 | I28: ='Tabela III'!H38 -> 3 | J28: ='Tabela III'!I38 -> 1 | K28: ='Tabela III'!K38 -> 0
A29: ='Tabela I'!$F$2 -> 0 | B29: ='Tabela I'!$F$1 -> 2019 | C29: 24 | D29: ='Tabela III'!B39 -> 980 | E29: ='Tabela III'!D39 -> 0 | F29: ='Tabela III'!E39 -> 1 | G29: ='Tabela III'!F39 -> 0 | H29: ='Tabela III'!G39 -> 0 | I29: ='Tabela III'!H39 -> 0 | J29: ='Tabela III'!I39 -> 0 | K29: ='Tabela III'!K39 -> 0
A30: ='Tabela I'!$F$2 -> 0 | B30: ='Tabela I'!$F$1 -> 2019 | C30: 25 | D30: ='Tabela III'!B40 -> 23 | E30: ='Tabela III'!D40 -> 0 | F30: ='Tabela III'!E40 -> 0 | G30: ='Tabela III'!F40 -> 0 | H30: ='Tabela III'!G40 -> 0 | I30: ='Tabela III'!H40 -> 0 | J30: ='Tabela III'!I40 -> 0 | K30: ='Tabela III'!K40 -> 0
A31: ='Tabela I'!$F$2 -> 0 | B31: ='Tabela I'!$F$1 -> 2019 | C31: 28 | D31: ='Tabela III'!B42 -> 1460 | E31: ='Tabela III'!D42 -> 0 | F31: ='Tabela III'!E42 -> 42 | G31: ='Tabela III'!F42 -> 8 | H31: ='Tabela III'!G42 -> 0 | I31: ='Tabela III'!H42 -> 4 | J31: ='Tabela III'!I42 -> 0 | K31: ='Tabela III'!K42 -> 0
A32: ='Tabela I'!$F$2 -> 0 | B32: ='Tabela I'!$F$1 -> 2019 | C32: 122 | D32: ='Tabela III'!B43 -> 461 | E32: ='Tabela III'!D43 -> 0 | F32: ='Tabela III'!E43 -> 0 | G32: ='Tabela III'!F43 -> 0 | H32: ='Tabela III'!G43 -> 0 | I32: ='Tabela III'!H43 -> 1 | J32: ='Tabela III'!I43 -> 0 | K32: ='Tabela III'!K43 -> 0
A33: ='Tabela I'!$F$2 -> 0 | B33: ='Tabela I'!$F$1 -> 2019 | C33: 26 | D33: ='Tabela III'!B45 -> 0 | E33: ='Tabela III'!D45 -> 0 | F33: ='Tabela III'!E45 -> 0 | G33: ='Tabela III'!F45 -> 0 | H33: ='Tabela III'!G45 -> 0 | I33: ='Tabela III'!H45 -> 0 | J33: ='Tabela III'!I45 -> 0 | K33: ='Tabela III'!K45 -> 0
D34: =SUM(D2:D33) -> 8998 | E34: =SUM(E2:E33) -> 0 | F34: =SUM(F2:F33) -> 321 | G34: =SUM(G2:G33) -> 38 | H34: =SUM(H2:H33) -> 0 | I34: =SUM(I2:I33) -> 58 | J34: =SUM(J2:J33) -> 3 | K34: =SUM(K2:K33) -> 0
A38: for_key | B38: godina | C38: Odjel | D38: DonesOdluke | E38: OdbPrLijek | F38: PotvOdluke | G38: PreinOdluke | H38: PreinOdlukeNakonRasp | I38: UkinOdluke | J38: DjelimUkin | K38: UkinVracPonSud
A39: ='Tabela I'!$F$2 -> 0 | B39: ='Tabela I'!$F$1 -> 2019 | C39: =+'Tabela III'!#REF! -> #REF! | D39: =+'Tabela III'!#REF! -> #REF! | E39: =+'Tabela III'!#REF! -> #REF! | F39: =+'Tabela III'!#REF! -> #REF! | G39: =+'Tabela III'!#REF! -> #REF! | H39: =+'Tabela III'!#REF! -> #REF! | I39: =+'Tabela III'!#REF! -> #REF! | J39: =+'Tabela III'!#REF! -> #REF! | K39: =+'Tabela III'!#REF! -> #REF!
A40: ='Tabela I'!$F$2 -> 0 | B40: ='Tabela I'!$F$1 -> 2019 | C40: =+'Tabela III'!#REF! -> #REF! | D40: =+'Tabela III'!#REF! -> #REF! | E40: =+'Tabela III'!#REF! -> #REF! | F40: =+'Tabela III'!#REF! -> #REF! | G40: =+'Tabela III'!#REF! -> #REF! | H40: =+'Tabela III'!#REF! -> #REF! | I40: =+'Tabela III'!#REF! -> #REF! | J40: =+'Tabela III'!#REF! -> #REF! | K40: =+'Tabela III'!#REF! -> #REF!
A41: ='Tabela I'!$F$2 -> 0 | B41: ='Tabela I'!$F$1 -> 2019 | C41: =+'Tabela III'!#REF! -> #REF! | D41: =+'Tabela III'!#REF! -> #REF! | E41: =+'Tabela III'!#REF! -> #REF! | F41: =+'Tabela III'!#REF! -> #REF! | G41: =+'Tabela III'!#REF! -> #REF! | H41: =+'Tabela III'!#REF! -> #REF! | I41: =+'Tabela III'!#REF! -> #REF! | J41: =+'Tabela III'!#REF! -> #REF! | K41: =+'Tabela III'!#REF! -> #REF!
A42: ='Tabela I'!$F$2 -> 0 | B42: ='Tabela I'!$F$1 -> 2019 | C42: =+'Tabela III'!#REF! -> #REF! | D42: =+'Tabela III'!#REF! -> #REF! | E42: =+'Tabela III'!#REF! -> #REF! | F42: =+'Tabela III'!#REF! -> #REF! | G42: =+'Tabela III'!#REF! -> #REF! | H42: =+'Tabela III'!#REF! -> #REF! | I42: =+'Tabela III'!#REF! -> #REF! | J42: =+'Tabela III'!#REF! -> #REF! | K42: =+'Tabela III'!#REF! -> #REF!
A43: ='Tabela I'!$F$2 -> 0 | B43: ='Tabela I'!$F$1 -> 2019 | C43: =+'Tabela III'!#REF! -> #REF! | D43: =+'Tabela III'!#REF! -> #REF! | E43: =+'Tabela III'!#REF! -> #REF! | F43: =+'Tabela III'!#REF! -> #REF! | G43: =+'Tabela III'!#REF! -> #REF! | H43: =+'Tabela III'!#REF! -> #REF! | I43: =+'Tabela III'!#REF! -> #REF! | J43: =+'Tabela III'!#REF! -> #REF! | K43: =+'Tabela III'!#REF! -> #REF!
...

Sheet Tabela IIIc
A1: =+'Tabela I'!A1 -> Općinski/Osnovni sud: | E1: =+'Tabela I'!C1 -> Bugojno
A2: Izvještajni period: | E2: =+'Tabela I'!C2 -> 1.1.2019.- 31.12.2019.
A3: Tabela IIIc - Kvalitet sudskih sudskih odluka po nosiocima pravosudnih funkcija - Elektronski obrazac za obračun kvaliteta odluka iz člana 13. Kriterija za ocjenjivanje rada sudija u BiH i člana 8. Kriterija za ocjenjivanje rada predsjednika sudova i predsjednika sudskih odjeljenja u BiH (pogledati NAPOMENU 2 i 3)
A5: Redni broj | B5: Ime i prezime - podatak je automatski prenesen iz Tabele IIa - OBAVEZNO ZADRŽATI REDOSLIJED NPF-a iz Tabele IIa | C5: Naziv odjela - podatak je automatski prenesen iz Tabele IIa - OBAVEZNO ZADRŽATI REDOSLIJED NPF-a iz Tabele IIa | D5: Pravosudna funkcija - podatak je automatski prenesen iz Tabele IIa - OBAVEZNO ZADRŽATI REDOSLIJED NPF-a iz Tabele IIa | E5: Ocijenjen / Nije ocijenjen u sudu | F5: Ukupan broj donesenih odluka na koje se može izjaviti pravni lijek | G5: Ukupan broj ožalbenih odluka | H5: Broj odbačenih pravnih lijekova*** | I5: Broj potvrđenih odluka | J5: Broj preinačenih odluka | K5: Broj preinačenih odluka donijetih na raspravi ili na pretresu pred višim sudom**** | L5: Broj ukinutih odluka | M5: Broj djelimično ukinutih odluka | N5: Kvalitet sudskih odluka prema članu 18. stav (1) tačka a) Kriterija (S) i članu 17. stav (1) Kriterija (PS i PSO) | O5: Broj ostvarenih bodova za kvalitet prema članu 18. stav (1) tačka a) Kriterija (S) i članu 17. stav (1) Kriterija (PS i PSO) | P5: Kvalitet sudskih odluka prema članu 18. stav (1) tačka b) Kriterija (S) i članu 17. stav (2) Kriterija (PS i PSO) | Q5: Broj ostvarenih bodova za kvalitet prema članu 18. stav 1. tačka b) Kriterija (S) i članu 17. stav (2) Kriterija (PS i PSO) | R5: UKUPAN broj ostvarenih bodova za kvalitet sudskih odluka
I6: Odbijen pravni lijek
A7: I | B7: II | C7: III | D7: III | E7: IV | F7: V | G7: VI | H7: VII | I7: VIII | J7: IX | K7: X | L7: XI | M7: XII | N7: XIII | O7: XIV | P7: XV | Q7: XVI | R7: XVII
A9: 1 | B9: =IF('Tabela II'!B8="","",'Tabela II'!B8) -> Randžana Hadžibegović Haračić | D9: Predsjednik suda * | E9: Ocijenjen | F9: 263 | G9: =SUM(I9:M9) -> 21 | I9: 16 | J9: 1 | L9: 4 | N9: =IF(E9="","",IF(E9="Nije ocijenjen ili Ne treba raditi na predmetima","",IF(E9="Ocijenjen",IF(G9<10,"Član 18. stav 7. Kriterija",(L9+(M9/2))/(G9))))) -> 0.19047619 | O9: =IF(E9="","",IF(E9="Nije ocijenjen ili Ne treba raditi na predmetima","",IF(E9="Ocijenjen",IF(N9="Član 18. stav 7. Kriterija","",IF(N9>0.4,0,IF(N9>0.3,1,IF(N9>0.2,2,IF(N9>0.1,3,IF(N9>0.05,4,IF(N9<=0.05,5,)))))))))) -> 3 | P9: =IF(E9="","",IF(E9="Nije ocijenjen ili Ne treba raditi na predmetima","",IF(E9="Ocijenjen",IF(F9=0,"",((L9+K9+(M9/2))/(F9)))))) -> 0.015209125 | Q9: =IF(E9="","",IF(E9="Nije ocijenjen ili Ne treba raditi na predmetima","",IF(E9="Ocijenjen",IF(P9>0.2,0,IF(P9>0.15,1,IF(P9>0.1,2,IF(P9>0.06,3,IF(P9>0.03,4,IF(P9<=0.03,5,))))))))) -> 5 | R9: =IF(E9="","",IF(E9="Nije ocijenjen ili Ne treba raditi na predmetima","",IF(E9="Ocijenjen",IF(N9="Član 18. stav 7. Kriterija",Q9,O9+Q9)))) -> 8 | V9: Ocijenjen
A10: 2 | B10: =IF('Tabela II'!B10="","",'Tabela II'!B10) -> Amira Ždralović | C10: =IF('Tabela II'!D10="","",'Tabela II'!D10) -> Parnični | D10: =IF('Tabela II'!E10="","",'Tabela II'!E10) -> Predsjednik odjela | E10: Ocijenjen | F10: 403 | G10: =SUM(I10:M10) -> 38 | I10: 33 | J10: 1 | L10: 4 | N10: =IF(E10="","",IF(E10="Nije ocijenjen","",IF(E10="Ocijenjen",IF(G10<10,"Član 18. stav 7. Kriterija",(L10+(M10/2))/(G10))))) -> 0.10526316 | O10: =IF(E10="","",IF(E10="Nije ocijenjen","",IF(E10="Ocijenjen",IF(N10="Član 18. stav 7. Kriterija","",IF(N10>0.4,0,IF(N10>0.3,5,IF(N10>0.2,10,IF(N10>0.1,15,IF(N10>0.05,20,IF(N10<=0.05,25,)))))))))) -> 15 | P10: =IF(E10="","",IF(E10="Nije ocijenjen","",IF(E10="Ocijenjen",IF(F10=0,"",((L10+K10+(M10/2))/(F10)))))) -> 0.0099255583 | Q10: =IF(E10="","",IF(E10="Nije ocijenjen","",IF(E10="Ocijenjen",IF(P10>0.2,0,IF(P10>0.15,1,IF(P10>0.1,2,IF(P10>0.06,3,IF(P10>0.03,4,IF(P10<=0.03,5,))))))))) -> 5 | R10: =IF(E10="","",IF(E10="Nije ocijenjen","",IF(E10="Ocijenjen",IF(N10="Član 18. stav 7. Kriterija",Q10,O10+Q10)))) -> 20 | T10: Sudija | V10: Nije ocijenjen
A11: 3 | B11: =IF('Tabela II'!B11="","",'Tabela II'!B11) -> Darko Solomun | C11: =IF('Tabela II'!D11="","",'Tabela II'!D11) -> Krivično-prekršajni | D11: =IF('Tabela II'!E11="","",'Tabela II'!E11) -> Predsjednik odjela | E11: Ocijenjen | F11: 342 | G11: =SUM(I11:M11) -> 42.5 | I11: 27 | J11: 6.5 | L11: 8 | M11: 1 | N11: =IF(E11="","",IF(E11="Nije ocijenjen","",IF(E11="Ocijenjen",IF(G11<10,"Član 18. stav 7. Kriterija",(L11+(M11/2))/(G11))))) -> 0.2 | O11: =IF(E11="","",IF(E11="Nije ocijenjen","",IF(E11="Ocijenjen",IF(N11="Član 18. stav 7. Kriterija","",IF(N11>0.4,0,IF(N11>0.3,5,IF(N11>0.2,10,IF(N11>0.1,15,IF(N11>0.05,20,IF(N11<=0.05,25,)))))))))) -> 15 | P11: =IF(E11="","",IF(E11="Nije ocijenjen","",IF(E11="Ocijenjen",IF(F11=0,"",((L11+K11+(M11/2))/(F11)))))) -> 0.024853801 | Q11: =IF(E11="","",IF(E11="Nije ocijenjen","",IF(E11="Ocijenjen",IF(P11>0.2,0,IF(P11>0.15,1,IF(P11>0.1,2,IF(P11>0.06,3,IF(P11>0.03,4,IF(P11<=0.03,5,))))))))) -> 5 | R11: =IF(E11="","",IF(E11="Nije ocijenjen","",IF(E11="Ocijenjen",IF(N11="Član 18. stav 7. Kriterija",Q11,O11+Q11)))) -> 20 | T11: Stručni saradnik
A12: 4 | B12: =IF('Tabela II'!B12="","",'Tabela II'!B12) -> Nebojša Vrhovac | C12: =IF('Tabela II'!D12="","",'Tabela II'!D12) -> Izvršni | D12: =IF('Tabela II'!E12="","",'Tabela II'!E12) -> Predsjednik odjela | E12: Ocijenjen | F12: 582 | G12: =SUM(I12:M12) -> 13 | I12: 12 | J12: 0 | L12: 1 | N12: =IF(E12="","",IF(E12="Nije ocijenjen","",IF(E12="Ocijenjen",IF(G12<10,"Član 18. stav 7. Kriterija",(L12+(M12/2))/(G12))))) -> 0.076923077 | O12: =IF(E12="","",IF(E12="Nije ocijenjen","",IF(E12="Ocijenjen",IF(N12="Član 18. stav 7. Kriterija","",IF(N12>0.4,0,IF(N12>0.3,5,IF(N12>0.2,10,IF(N12>0.1,15,IF(N12>0.05,20,IF(N12<=0.05,25,)))))))))) -> 20 | P12: =IF(E12="","",IF(E12="Nije ocijenjen","",IF(E12="Ocijenjen",IF(F12=0,"",((L12+K12+(M12/2))/(F12)))))) -> 0.0017182131 | Q12: =IF(E12="","",IF(E12="Nije ocijenjen","",IF(E12="Ocijenjen",IF(P12>0.2,0,IF(P12>0.15,1,IF(P12>0.1,2,IF(P12>0.06,3,IF(P12>0.03,4,IF(P12<=0.03,5,))))))))) -> 5 | R12: =IF(E12="","",IF(E12="Nije ocijenjen","",IF(E12="Ocijenjen",IF(N12="Član 18. stav 7. Kriterija",Q12,O12+Q12)))) -> 25 | T12: Predsjednik odjela
A13: 5 | B13: =IF('Tabela II'!B13="","",'Tabela II'!B13) -> Safet Žuljko | C13: =IF('Tabela II'!D13="","",'Tabela II'!D13) -> Krivično-prekršajni | D13: =IF('Tabela II'!E13="","",'Tabela II'!E13) -> Sudija | E13: Ocijenjen | F13: 1033 | G13: =SUM(I13:M13) -> 31.5 | I13: 24 | J13: 1.5 | L13: 6 | N13: =IF(E13="","",IF(E13="Nije ocijenjen","",IF(E13="Ocijenjen",IF(G13<10,"Član 18. stav 7. Kriterija",(L13+(M13/2))/(G13))))) -> 0.19047619 | O13: =IF(E13="","",IF(E13="Nije ocijenjen","",IF(E13="Ocijenjen",IF(N13="Član 18. stav 7. Kriterija","",IF(N13>0.4,0,IF(N13>0.3,5,IF(N13>0.2,10,IF(N13>0.1,15,IF(N13>0.05,20,IF(N13<=0.05,25,)))))))))) -> 15 | P13: =IF(E13="","",IF(E13="Nije ocijenjen","",IF(E13="Ocijenjen",IF(F13=0,"",((L13+K13+(M13/2))/(F13)))))) -> 0.0058083253 | Q13: =IF(E13="","",IF(E13="Nije ocijenjen","",IF(E13="Ocijenjen",IF(P13>0.2,0,IF(P13>0.15,1,IF(P13>0.1,2,IF(P13>0.06,3,IF(P13>0.03,4,IF(P13<=0.03,5,))))))))) -> 5 | R13: =IF(E13="","",IF(E13="Nije ocijenjen","",IF(E13="Ocijenjen",IF(N13="Član 18. stav 7. Kriterija",Q13,O13+Q13)))) -> 20 | T13: Predsjednik sudskog vijeća vrhovnog suda entiteta
A14: 6 | B14: =IF('Tabela II'!B14="","",'Tabela II'!B14) -> Katica Soldo | C14: =IF('Tabela II'!D14="","",'Tabela II'!D14) -> Parnični | D14: =IF('Tabela II'!E14="","",'Tabela II'!E14) -> Sudija | E14: Ocijenjen | F14: 421 | G14: =SUM(I14:M14) -> 45 | I14: 29 | J14: 8 | L14: 8 | N14: =IF(E14="","",IF(E14="Nije ocijenjen","",IF(E14="Ocijenjen",IF(G14<10,"Član 18. stav 7. Kriterija",(L14+(M14/2))/(G14))))) -> 0.17777778 | O14: =IF(E14="","",IF(E14="Nije ocijenjen","",IF(E14="Ocijenjen",IF(N14="Član 18. stav 7. Kriterija","",IF(N14>0.4,0,IF(N14>0.3,5,IF(N14>0.2,10,IF(N14>0.1,15,IF(N14>0.05,20,IF(N14<=0.05,25,)))))))))) -> 15 | P14: =IF(E14="","",IF(E14="Nije ocijenjen","",IF(E14="Ocijenjen",IF(F14=0,"",((L14+K14+(M14/2))/(F14)))))) -> 0.019002375 | Q14: =IF(E14="","",IF(E14="Nije ocijenjen","",IF(E14="Ocijenjen",IF(P14>0.2,0,IF(P14>0.15,1,IF(P14>0.1,2,IF(P14>0.06,3,IF(P14>0.03,4,IF(P14<=0.03,5,))))))))) -> 5 | R14: =IF(E14="","",IF(E14="Nije ocijenjen","",IF(E14="Ocijenjen",IF(N14="Član 18. stav 7. Kriterija",Q14,O14+Q14)))) -> 20
