Workbook

Sheet Uputstvo
B2: OPĆINSKI/OSNOVNI SUDOVI
B4: Kompletni materijali u vezi procesa izvještavanja i ocjenjivanja rada u sudovima dostupni su na linkovima:
B5: http://www.pravosudje.ba/vstv/faces/kategorijevijesti.jsp?ins=141&modul=1198&kat=1201&kolona=12200
B6: https://vstv.pravosudje.ba/vstv/faces/vijesti.jsp?id=65385
B7: Tabele za popunjavanje podataka o radu sudova nije moguće mijenjati, niti dodavati nove redove ili kolone.
B8: Tabele se isključivo popunjavaju predviđenim redoslijedom, po redoslijedu postavljenih tabela.
B11: Podatke je potrebno upisivati samo u polja osjenčena žutom bojom.
B12: U ostala polja nije moguće upisivati vrijednosti, u ovim poljima vrijednosti će biti izračunate automatski.
B13: Molimo Vas da u Tabeli I i naslovu e-maila (subject) kojim ćete poslati popunjene obrasce navedete naziv Vašeg suda.
B16: Popunjene obrasce poslati na e-mail adresu: vstvstatistika@pravosudje.ba do 1.2.2020. godine.
B18: Za sva eventualna pitanja vezano za popunjavanje obrazaca molimo Vas da kontaktirate
B19: Odjel za pravosudnu upravu, na telefon: 033 704 616 ili 033 707 584.
... B37: TABELA I – PROTOK PREDMETA U SUDU KOJI NISU EVIDENTIRANI U CMS-U Napomena za prikazivanje podataka o tzv. komunalnim predmetima: Prema pojašnjenju ove kategorije predmeta, koja je Vijeće pružilo u dopisu broj VSTV-08-0027-10012007 od 10.01.2007.godine, pod komunalnim predmetima se smatraju svi predmeti u kojima su povjerilac preduzeća, a odnose se na neplaćene komunalne usluge. Prema tome, u ovu kategoriju predmeta spadaju predmeti koji se odnose na naplatu potraživanja nastalih na osnovu isporuke vode, toplotne energije, odvoza smeća, električne energije, telefonskih usluga, održavanje zajedničkih prostorija, RTV takse i slično. TABELA IV – OSTALI PODACI Molimo Vas da u tabeli IV date odgovor na pitanje o broju zaprimljenih predmeta koji nisu zavedeni kroz sudski upisnik (ukoliko imate takvih predmeta), navodeći podatke o godini prijema, vrsti i broju predmeta sa obrazloženjem razloga zbog kojih predmeti nisu uvedeni u sudski upisnik. TABELA V – PREGLED STAROSTI NERIJEŠENIH PREDMETA SA 31.12.2019. Molimo Vas da u u Tabeli V razvrstate neriješene predmete registracije poslovnih subjekata i ZK predmeta, zaključno sa 31.12.2019. godine, prema godini iniciranja pred općinskim, odnosno osnovnim sudom. Napominjemo da podaci iskazani u ovoj tabeli moraju biti konzistentni sa podacima iskazanim u tabeli I i tabeli Ia. TABELA VI – ODLUKE USTAVNOG SUDA BIH U tabeli VI potrebno je prikazati samo podatke o odlukama Ustavnog suda BiH u kojima je izrekom obuhvaćena odluka Vašeg suda, odnosno postupak koji je u toku pred Vašim sudom (kada je riječ o apelacijama sa navodima da postoji kršenje prava na suđenje u razumnom roku). Posebna napomena: Traženi podaci se odnose na odluke iz apelacione nadležnosti Ustavnog suda BiH. Tabela VIa – Odluke kojima se ne usvaja apelacija: potrebno je prikazati podatke o odlukama Ustavnog suda BiH kojima je utvrđeno da nije osnovana apelacija izjavljena u odnosu na odluke Vašeg suda. Molimo da unesete podatake u kolone I-III prema njihovim nazivima. Podaci se automatski preračunavaju u koloni IV. Tabela VIb – Odluke kojima se apelacija usvaja: “Pravni osnov” - Odluke kojima se usvaja apelacija potrebno je razvrstati prema izrekama odluka Ustavnog suda BiH kojima su utvrđene povrede Ustava BiH, Evropske konvencije o ljudskim pravima (u tabeli: EK) i njenih protokola (u tabeli:P). Svi pomenuti dokumenti i klasifikacija povreda su dostupni na zvaničnoj web stranici Ustavnog suda BiH (http://www.ccbh.ba/bos/p_stream.php?kat=83). Kolone I - IV “Broj odluka kojima se usvaja apelacija” – Potrebno je razvrstati broj odluka Ustavnog suda kojima se izjavljena apelacija usvaja u odnosu na odluku Vašeg suda, prema odgovarajućim kategorijama, u zavisnosti od izreke odluke Ustavnog suda BiH. Preostale odluke Ustavnog suda, koje ne spadaju u navedene tri kategorije, potrebno je upisati u rubriku “Broj ostalih odluka kojima se usvajaju apelacije” (npr. odluka kojom se usvaja apelacija i konstatuje povreda prava na pravično suđenje, zbog prekoračenja razumnog roka za donošenje odluke, nakon što je sudski postupak završen, a kojom se ne nalaže sudu da okonča predmet bez odlaganja, odnosno ne ukida ili ne preinačuje odluka suda). Ukoliko su izrekom odluke Ustavnog suda BiH ustanovljene dvije ili više povreda ustavom zagarantovanih prava i sloboda, molimo Vas da svaku od povreda evidentirate posebno u tabeli VIb. Molimo Vas da i djelimično usvojene apelacije prikažete u odgovarajućim kolonama tabele VIb. Tabela VIc – Predmeti u kojima se nalaže sudu da okonča predmet bez odlaganja zbog kršenja prava na donošenje odluke u razumnom roku U tabeli VIc potrebno je prikazati predmete u kojima je Ustavni sud BiH naložio sudu da okonča predmet bez odlaganja zbog kršenja prava na donošenje odluke u razumnom roku. Molimo Vas da u ovu tabelu unesete samo podatke o predmetima u kojima je Vašem sudu naloženo da okonča predmet bez odlaganja. U skladu sa obrazloženjem odluke Ustavnog suda BiH, potrebno je da naznačite u kojoj fazi postupka je Vaš sud rješavao predmet za koji je Ustavni sud utvrdio da je Vaš sud u najvećoj mjeri doprinio odugovlačenju postupka. Tabela VId - Predmeti u kojima je utvrđeno kršenje prava na donošenje odluke u razumnom roku Takođe, potrebno je da popunite i tabelu VId koja se odnosi na ukupan broj predmeta, u kojima je usvojena apelacija u odnosu na Vaš sud i određena naknada nematerijalne štete zbog kršenja prava na donošenje odluke u razumnom roku, kao i ukupan iznos naknade koji je utvrdio Ustavni sud BiH.

Sheet Tabela I
A1: Općinski/Osnovni sud: | C1: Bugojno | F1: 2019
A2: Izvještajni period: | C2: 1.1.2019.- 31.12.2019.
A3: Ostvarena kolektivna norma za sud u 2019. godini: | E3: =+'Tabela II'!P84 -> 1.1105651
A4: Kvalitet rada suda: | C4: ='Tabela III'!J47 -> 0.88129253
A5: Tabela I - Protok predmeta u sudu koji nisu evidentirani u sistemu CMS (pogledati NAPOMENU 1)
A6: Vrsta predmeta | B6: Broj neriješenih predmeta na početku izvještajnog perioda | C6: Broj primljenih predmeta | D6: Ukupan broj svih predmeta u radu | E6: Broj riješenih predmeta | F6: Broj neriješenih predmeta na kraju izvještajnog perioda
B7: I | C7: II | D7: III=I+II | E7: IV | F7: V=III-IV
A8: Predmeti za naplatu komunalnih usluga
A9: Mal | D9: =IF((B9+C9)=0," ",(B9+C9)) | F9: =IF((B9+C9-E9)=0," ",(B9+C9-E9))
A10: Mals | D10: =IF((B10+C10)=0," ",(B10+C10)) | F10: =IF((B10+C10-E10)=0," ",(B10+C10-E10))
A11: I | B11: 4215 | D11: =IF((B11+C11)=0," ",(B11+C11)) -> 4215 | F11: =IF((B11+C11-E11)=0," ",(B11+C11-E11)) -> 4215
A12: Ip | B12: 81 | D12: =IF((B12+C12)=0," ",(B12+C12)) -> 81 | F12: =IF((B12+C12-E12)=0," ",(B12+C12-E12)) -> 81
A13: Ukupno | B13: =SUM(B9:B12) -> 4296 | C13: =SUM(C9:C12) -> 0 | D13: =SUM(D9:D12) -> 4296 | E13: =SUM(E9:E12) -> 0 | F13: =SUM(F9:F12) -> 4296
A14: Predmeti registracije
A15: Reg | D15: =IF((B15+C15)=0," ",(B15+C15)) | F15: =IF((B15+C15-E15)=0," ",(B15+C15-E15))
A16: RegZ | D16: =IF((B16+C16)=0," ",(B16+C16)) | F16: =IF((B16+C16-E16)=0," ",(B16+C16-E16))
A17: F1 | D17: =IF((B17+C17)=0," ",(B17+C17)) | F17: =IF((B17+C17-E17)=0," ",(B17+C17-E17))
A18: F2 | D18: =IF((B18+C18)=0," ",(B18+C18)) | F18: =IF((B18+C18-E18)=0," ",(B18+C18-E18))
A19: F3 | D19: =IF((B19+C19)=0," ",(B19+C19)) | F19: =IF((B19+C19-E19)=0," ",(B19+C19-E19))
A20: Ostalo | D20: =IF((B20+C20)=0," ",(B20+C20)) | F20: =IF((B20+C20-E20)=0," ",(B20+C20-E20))
A21: Ukupno | B21: =SUM(B15:B20) -> 0 | C21: =SUM(C15:C20) -> 0 | D21: =SUM(D15:D20) -> 0 | E21: =SUM(E15:E20) -> 0 | F21: =SUM(F15:F20) -> 0
A22: ZK predmeti
A23: Dn | B23: 13 | C23: 2363 | D23: =IF((B23+C23)=0," ",(B23+C23)) -> 2376 | E23: 2308 | F23: =IF((B23+C23-E23)=0," ",(B23+C23-E23)) -> 68
A24: Nar | C24: 6594 | D24: =IF((B24+C24)=0," ",(B24+C24)) -> 6594 | E24: 6594 | F24: =IF((B24+C24-E24)=0," ",(B24+C24-E24))
A25: Rz | C25: 1141 | D25: =IF((B25+C25)=0," ",(B25+C25)) -> 1141 | E25: 1141 | F25: =IF((B25+C25-E25)=0," ",(B25+C25-E25))
A26: Kpu | C26: 60 | D26: =IF((B26+C26)=0," ",(B26+C26)) -> 60 | E26: 60 | F26: =IF((B26+C26-E26)=0," ",(B26+C26-E26))
A27: Ostalo | D27: =IF((B27+C27)=0," ",(B27+C27)) | F27: =IF((B27+C27-E27)=0," ",(B27+C27-E27))
A28: Ukupno | B28: =SUM(B23:B27) -> 13 | C28: =SUM(C23:C27) -> 10158 | D28: =SUM(D23:D27) -> 10171 | E28: =SUM(E23:E27) -> 10103 | F28: =SUM(F23:F27) -> 68
A30: Medijacija | D30: =B30+C30 -> 0 | F30: =B30+C30-E30 -> 0
A32: UKUPNO | B32: =B13+B21+B28+B30 -> 4309 | C32: =C13+C21+C28+C30 -> 10158 | D32: =D13+D21+D28+D30 -> 14467 | E32: =E13+E21+E28+E30 -> 10103 | F32: =F13+F21+F28+F30 -> 4364
A35: Napomena 1: Molimo Vas da obratite pažnju da podaci koji se iskazuju u Tabeli I - Protok predmeta u sudu koji nisu evidentirani u CMS Kolona I – Broj neriješenih predmeta na početku izvještajnog perioda trebaju biti jednaki podacima o broju neriješenih predmeta na kraju izvještajnog perioda koje ste iskazali u Tabeli za izvještavanje o radu suda za 2018.godinu ( Tabela I - Protok predmeta u sudu koji nisu evidentirani u CMS Kolona V – Broj neriješenih predmeta na kraju izvještajnog perioda).
A36: Pomoći radi, u prilogu Vam dostavljamo tabelu sa podacima o ukupnom broju neriješenih predmeta koji nisu evidentirani u CMS-u na kraju 2018.godine, koje ste VSTV-u BiH dostavili putem Tabele za izvještavanje o radu suda za 2018.godinu (Tabela I - Protok predmeta u sudu koji nisu evidentirani u CMS Kolona V – Broj neriješenih predmeta na kraju izvještajnog perioda).

Sheet Tabela Ia
A1: Općinski/Osnovni sud: | B1: ='Tabela I'!C1 -> Bugojno
A2: Izvještajni period: | B2: ='Tabela I'!C2 -> 1.1.2019.- 31.12.2019.
A3: Tabela Ia - Protok ZK predmeta
A4: Vrsta predmeta | B4: Broj neriješenih predmeta na početku izvještajnog perioda | C4: Broj primljenih predmeta | D4: Ukupan broj svih predmeta u radu | E4: Broj riješenih predmeta | F4: Broj neriješenih predmeta na kraju izvještajnog perioda
B5: I | C5: II | D5: III=I+II | E5: IV | F5: V=III-IV
A6: ZK predmeti
A7: Zahtjevi za upis | B7: 13 | C7: 2363 | D7: =IF(B7+C7=0," ",(B7+C7)) -> 2376 | E7: 2308 | F7: =IF((B7+C7-E7)=0," ",(B7+C7-E7)) -> 68
A8: Zahtjevi za ZK izvadke | C8: 6594 | D8: =IF(B8+C8=0," ",(B8+C8)) -> 6594 | E8: 6594 | F8: =IF((B8+C8-E8)=0," ",(B8+C8-E8))
A9: Zahtjevi za uspostavljanje ZK uložaka | C9: 1141 | D9: =IF(B9+C9=0," ",(B9+C9)) -> 1141 | E9: 1141 | F9: =IF((B9+C9-E9)=0," ",(B9+C9-E9))
A10: Ostalo (uvjerenja, potvrde i dr.) | C10: 60 | D10: =IF(B10+C10=0," ",(B10+C10)) -> 60 | E10: 60 | F10: =IF((B10+C10-E10)=0," ",(B10+C10-E10))
A11: Ukupno | B11: =(B7+B8+B9+B10) -> 13 | C11: =(C7+C8+C9+C10) -> 10158 | D11: =SUM(B7:C10) -> 10171 | E11: =(E7+E8+E9+E10) -> 10103 | F11: =(SUM(B7:C10)-SUM(E7:E10)) -> 68

Sheet Tabela II
A1: ='Tabela I'!A1 -> Općinski/Osnovni sud: | D1: ='Tabela I'!C1 -> Bugojno
A2: Izvještajni period: | C2: 1.1.2019.-31.12.2019.
A3: Tabela IIa – Ostvarena orijentaciona norma - Elektronski obrazac za obračun ostvarene orijentacione norme iz člana 11. Kriterija za ocjenjivanje rada sudija u BiH i člana 8. Kriterija za ocjenjivanje rada predsjednika sudova i predsjednika sudskih odjeljenja u BiH (pogledati NAPOMENU 4)
A5: Redni broj | B5: Ime i prezime - evidentirani podatak se automatski prenosi u Tabelu IIIa | C5: Ocjenjen u sudu | D5: Naziv odjela | E5: Pravosudna funkcija | G5: Procenat orijentacijske norme koju je nosilac pravosudne funkcije dužan ostvariti - Ukoliko procenat orijenatcijske norme nije predviđen u padajućem meniju pogledati NAPOMENU 3 | H5: Period obavljanja pravosudne funkcije u instituciji koja popunjava tabelu Ia | J5: Ukupan broj dana za obračun norme - pogledati NAPOMENU 2 | K5: Broj dana opravdanog odsustva iz člana 14.Kriterija za ocjenjivanje rada sudija u BiH (pogledati NAPOMENU 9) | L5: Ostvarena orijentaciona norma iz CMS-a | M5: Ostvarena orijentaciona norma na predmetima van CMS-a - pogledati NAPOMENU 6 | N5: Procenat ostvarene orijentacione norme prema članu 9. Pravilnika o orijentacijskim mjerilima - pogledati NAPOMENU 7 | O5: Procenat ostvarene propisane godišnje orijentacijske norme u 2019. godini | P5: Ukupno ostvarena orijentacijska norma u 2019. godini | Q5: Nedovoljan broj predmeta u radu - pogledati NAPOMENU 5 | V5: Broj ostvarenih bodova | W5: Sudija | X5: Stručni saradnik | Y5: Predsjednik odjela | Z5: Predsjednik sudskog vijeća vrhovnog suda entiteta
H6: Datum od | I6: Datum do | Q6: broj predmeta u radu | R6: broj riješenih predmeta | S6: broj neriješenih predmeta sa zakonskim i procesnim smetnjama | T6: broj neriješenih predmeta bez zakonskih i procesnih smetnji | U6: procenat riješenih predmeta
A7: I | B7: II | C7: III | D7: IV | E7: V | G7: VI | H7: VII | I7: VIII | J7: IX | K7: X | L7: XI | M7: XII | N7: XIII | O7: XIV | P7: XV | Q7: XVI | R7: XVII | S7: XVIII | T7: XIX | U7: XX | V7: XXI | W7: 1 | X7: 0.9 | Y7: 0.8 | Z7: 0.5 | AA7: 0.25 | AB7: Ne treba raditi na predm.
A8: 1 | B8: Randžana Hadžibegović Haračić | C8: Da | E8: Predsjednik suda | J8: 261 | O8: =IF(G8="","",IF(G8="Ne treba raditi na predm.",1+SUM(L8:N8),(SUM(L8:N8)/G8))) | P8: =IF(K8>0,O8*(J8/(J8-K8)),O8) | U8: =IF(Q8="","",R8/(Q8-S8)) | V8: =IF(P8="","",IF(C8="Ne","",IF(G8="Ne treba raditi na predm.","",IF(P8>1,10,IF(U8="",IF(P8>0.9,8,IF(P8>0.8,6,IF(P8>0.7,4,IF(P8>0.6,2,0)))),IF(U8=1,10,IF(U8>0.9,8,IF(U8>0.8,6,IF(U8>0.7,5,IF(U8>0.6,4,IF(U8>0.5,2,0))))))))))) | W8: 0.7 | X8: 0.5 | Y8: 0.4 | Z8: 0.3 | AA8: Ne treba raditi na predm.
E9: Predsjednik suda | G9: 0.4 | H9: 01.01.2019. | I9: 31.12.2019. | J9: 261 | L9: 0.4968 | O9: =IF(G9="","",IF(G9="Ne treba raditi na predm.",1+SUM(L9:N9),(SUM(L9:N9)/G9))) -> 1.242 | P9: =IF(K9>0,O9*(J9/(J9-K9)),O9) -> 1.242 | U9: =IF(Q9="","",R9/(Q9-S9)) | V9: =IF(P9="","",IF(C9="Ne","",IF(G9="Ne treba raditi na predm.","",IF(P9>1,10,IF(U9="",IF(P9>0.9,8,IF(P9>0.8,6,IF(P9>0.7,4,IF(P9>0.6,2,0)))),IF(U9=1,10,IF(U9>0.9,8,IF(U9>0.8,6,IF(U9>0.7,5,IF(U9>0.6,4,IF(U9>0.5,2,0))))))))))) -> 10
A10: 2 | B10: Amira Ždralović | C10: Da | D10: Parnični | E10: Predsjednik odjela | F10: =IF(E10="Sudija",1,IF(E10="Stručni saradnik",1,"")) | G10: 0.9 | H10: 01.01.2019. | I10: 31.12.2019. | J10: 261 | L10: 1.0024 | O10: =IF(G10="","",IF(G10="Ne treba raditi na predm.",1+SUM(L10:N10),(SUM(L10:N10)/G10))) -> 1.1137778 | P10: =IF(K10>0,O10*(J10/(J10-K10)),O10) -> 1.1137778 | U10: =IF(Q10="","",R10/(Q10-S10)) | V10: =IF(P10="","",IF(C10="Ne","",IF(G10="Ne treba raditi na predm.","", IF(P10>1,30,IF(U10="",IF(P10>0.9,25,IF(P10>0.8,20,IF(P10>0.7,16,IF(P10>0.6,10,IF(P10>0.5,4,0))))),IF(U10=1,30,IF(U10>0.9,25,IF(U10>0.8,20,IF(U10>0.7,15,IF(U10>0.6,10,IF(U10>0.5,5,0))))))))))) -> 30 | W10: Da | X10: Ne
A11: 3 | B11: Darko Solomun | C11: Da | D11: Krivično-prekršajni | E11: Predsjednik odjela | F11: =IF(E11="Sudija",1,IF(E11="Stručni saradnik",1,"")) | G11: 0.9 | H11: 01.01.2019. | I11: 31.12.2019. | J11: 261 | K11: 10 | L11: 0.8893 | O11: =IF(G11="","",IF(G11="Ne treba raditi na predm.",1+SUM(L11:N11),(SUM(L11:N11)/G11))) -> 0.98811111 | P11: =IF(K11>0,O11*(J11/(J11-K11)),O11) -> 1.0274781 | U11: =IF(Q11="","",R11/(Q11-S11)) | V11: =IF(P11="","",IF(C11="Ne","",IF(G11="Ne treba raditi na predm.","", IF(P11>1,30,IF(U11="",IF(P11>0.9,25,IF(P11>0.8,20,IF(P11>0.7,16,IF(P11>0.6,10,IF(P11>0.5,4,0))))),IF(U11=1,30,IF(U11>0.9,25,IF(U11>0.8,20,IF(U11>0.7,15,IF(U11>0.6,10,IF(U11>0.5,5,0))))))))))) -> 30
A12: 4 | B12: Nebojša Vrhovac | C12: Da | D12: Izvršni | E12: Predsjednik odjela | F12: =IF(E12="Sudija",1,IF(E12="Stručni saradnik",1,"")) | G12: 0.9 | H12: 01.01.2019. | I12: 31.12.2019. | J12: 261 | K12: 17 | L12: 0.925 | O12: =IF(G12="","",IF(G12="Ne treba raditi na predm.",1+SUM(L12:N12),(SUM(L12:N12)/G12))) -> 1.0277778 | P12: =IF(K12>0,O12*(J12/(J12-K12)),O12) -> 1.0993852 | U12: =IF(Q12="","",R12/(Q12-S12)) | V12: =IF(P12="","",IF(C12="Ne","",IF(G12="Ne treba raditi na predm.","", IF(P12>1,30,IF(U12="",IF(P12>0.9,25,IF(P12>0.8,20,IF(P12>0.7,16,IF(P12>0.6,10,IF(P12>0.5,4,0))))),IF(U12=1,30,IF(U12>0.9,25,IF(U12>0.8,20,IF(U12>0.7,15,IF(U12>0.6,10,IF(U12>0.5,5,0))))))))))) -> 30
A13: 5 | B13: Safet Žuljko | C13: Da | D13: Krivično-prekršajni | E13: Sudija | F13: =IF(E13="Sudija",1,IF(E13="Stručni saradnik",1,"")) -> 1 | G13: 1 | H13: 01.01.2019. | I13: 31.12.2019. | J13: 261 | K13: 24 | L13: 1.2214 | O13: =IF(G13="","",IF(G13="Ne treba raditi na predm.",1+SUM(L13:N13),(SUM(L13:N13)/G13))) -> 1.2214 | P13: =IF(K13>0,O13*(J13/(J13-K13)),O13) -> 1.3450861 | U13: =IF(Q13="","",R13/(Q13-S13)) | V13: =IF(P13="","",IF(C13="Ne","",IF(G13="Ne treba raditi na predm.","", IF(P13>1,30,IF(U13="",IF(P13>0.9,25,IF(P13>0.8,20,IF(P13>0.7,16,IF(P13>0.6,10,IF(P13>0.5,4,0))))),IF(U13=1,30,IF(U13>0.9,25,IF(U13>0.8,20,IF(U13>0.7,15,IF(U13>0.6,10,IF(U13>0.5,5,0))))))))))) -> 30
A14: 6 | B14: Katica Soldo | C14: Da | D14: Parnični | E14: Sudija | F14: =IF(E14="Sudija",1,IF(E14="Stručni saradnik",1,"")) -> 1 | G14: 1 | H14: 01.01.2019. | I14: 31.12.2019. | J14: 261 | K14: 10 | L14: 1.1746 | O14: =IF(G14="","",IF(G14="Ne treba raditi na predm.",1+SUM(L14:N14),(SUM(L14:N14)/G14))) -> 1.1746 | P14: =IF(K14>0,O14*(J14/(J14-K14)),O14) -> 1.2213968 | U14: =IF(Q14="","",R14/(Q14-S14)) | V14: =IF(P14="","",IF(C14="Ne","",IF(G14="Ne treba raditi na predm.","", IF(P14>1,30,IF(U14="",IF(P14>0.9,25,IF(P14>0.8,20,IF(P14>0.7,16,IF(P14>0.6,10,IF(P14>0.5,4,0))))),IF(U14=1,30,IF(U14>0.9,25,IF(U14>0.8,20,IF(U14>0.7,15,IF(U14>0.6,10,IF(U14>0.5,5,0))))))))))) -> 30
A15: 7 | B15: Lejla Nurikić | C15: Da | D15: Parnični | E15: Sudija | F15: =IF(E15="Sudija",1,IF(E15="Stručni saradnik",1,"")) -> 1 | G15: 1 | H15: 01.01.2019. | I15: 31.12.2019. | J15: 261 | K15: 6 | L15: 0.9805 | O15: =IF(G15="","",IF(G15="Ne treba raditi na predm.",1+SUM(L15:N15),(SUM(L15:N15)/G15))) -> 0.9805 | P15: =IF(K15>0,O15*(J15/(J15-K15)),O15) -> 1.0035706 | U15: =IF(Q15="","",R15/(Q15-S15)) | V15: =IF(P15="","",IF(C15="Ne","",IF(G15="Ne treba raditi na predm.","", IF(P15>1,30,IF(U15="",IF(P15>0.9,25,IF(P15>0.8,20,IF(P15>0.7,16,IF(P15>0.6,10,IF(P15>0.5,4,0))))),IF(U15=1,30,IF(U15>0.9,25,IF(U15>0.8,20,IF(U15>0.7,15,IF(U15>0.6,10,IF(U15>0.5,5,0))))))))))) -> 30
A16: 8 | B16: Janja Pilić | C16: Da | D16: Parnični | E16: Sudija | F16: =IF(E16="Sudija",1,IF(E16="Stručni saradnik",1,"")) -> 1 | G16: 1 | H16: 01.01.2019. | I16: 31.12.2019. | J16: 261 | K16: 3 | L16: 1.0871 | O16: =IF(G16="","",IF(G16="Ne treba raditi na predm.",1+SUM(L16:N16),(SUM(L16:N16)/G16))) -> 1.0871 | P16: =IF(K16>0,O16*(J16/(J16-K16)),O16) -> 1.0997407 | U16: =IF(Q16="","",R16/(Q16-S16)) | V16: =IF(P16="","",IF(C16="Ne","",IF(G16="Ne treba raditi na predm.","", IF(P16>1,30,IF(U16="",IF(P16>0.9,25,IF(P16>0.8,20,IF(P16>0.7,16,IF(P16>0.6,10,IF(P16>0.5,4,0))))),IF(U16=1,30,IF(U16>0.9,25,IF(U16>0.8,20,IF(U16>0.7,15,IF(U16>0.6,10,IF(U16>0.5,5,0))))))))))) -> 30
A17: 9 | B17: Samil Ramić | C17: Da | D17: Izvršni | E17: Sudija | F17: =IF(E17="Sudija",1,IF(E17="Stručni saradnik",1,"")) -> 1 | G17: 1 | H17: 01.01.2019. | I17: 31.12.2019. | J17: 261 | K17: 36 | L17: 0.9951 | O17: =IF(G17="","",IF(G17="Ne treba raditi na predm.",1+SUM(L17:N17),(SUM(L17:N17)/G17))) -> 0.9951 | P17: =IF(K17>0,O17*(J17/(J17-K17)),O17) -> 1.154316 | U17: =IF(Q17="","",R17/(Q17-S17)) | V17: =IF(P17="","",IF(C17="Ne","",IF(G17="Ne treba raditi na predm.","", IF(P17>1,30,IF(U17="",IF(P17>0.9,25,IF(P17>0.8,20,IF(P17>0.7,16,IF(P17>0.6,10,IF(P17>0.5,4,0))))),IF(U17=1,30,IF(U17>0.9,25,IF(U17>0.8,20,IF(U17>0.7,15,IF(U17>0.6,10,IF(U17>0.5,5,0))))))))))) -> 30
A18: 10 | B18: Ivan Gudelj | C18: Da | D18: Izvršni | E18: Sudija | F18: =IF(E18="Sudija",1,IF(E18="Stručni saradnik",1,"")) -> 1 | G18: 1 | H18: 01.01.2019. | I18: 31.12.2019. | J18: 261 | K18: 5 | L18: 1.0406 | O18: =IF(G18="","",IF(G18="Ne treba raditi na predm.",1+SUM(L18:N18),(SUM(L18:N18)/G18))) -> 1.0406 | P18: =IF(K18>0,O18*(J18/(J18-K18)),O18) -> 1.0609242 | U18: =IF(Q18="","",R18/(Q18-S18)) | V18: =IF(P18="","",IF(C18="Ne","",IF(G18="Ne treba raditi na predm.","", IF(P18>1,30,IF(U18="",IF(P18>0.9,25,IF(P18>0.8,20,IF(P18>0.7,16,IF(P18>0.6,10,IF(P18>0.5,4,0))))),IF(U18=1,30,IF(U18>0.9,25,IF(U18>0.8,20,IF(U18>0.7,15,IF(U18>0.6,10,IF(U18>0.5,5,0))))))))))) -> 30
A19: 11 | B19: Aldina Rebihić Topoljak | C19: Da | D19: Izvršni | E19: Sudija | F19: =IF(E19="Sudija",1,IF(E19="Stručni saradnik",1,"")) -> 1 | G19: 1 | H19: 01.01.2019. | I19: 31.12.2019. | J19: 261 | K19: 55 | L19: 0.8916 | O19: =IF(G19="","",IF(G19="Ne treba raditi na predm.",1+SUM(L19:N19),(SUM(L19:N19)/G19))) -> 0.8916 | P19: =IF(K19>0,O19*(J19/(J19-K19)),O19) -> 1.1296485 | U19: =IF(Q19="","",R19/(Q19-S19)) | V19: =IF(P19="","",IF(C19="Ne","",IF(G19="Ne treba raditi na predm.","", IF(P19>1,30,IF(U19="",IF(P19>0.9,25,IF(P19>0.8,20,IF(P19>0.7,16,IF(P19>0.6,10,IF(P19>0.5,4,0))))),IF(U19=1,30,IF(U19>0.9,25,IF(U19>0.8,20,IF(U19>0.7,15,IF(U19>0.6,10,IF(U19>0.5,5,0))))))))))) -> 30
A20: 12 | B20: Sonsirej Radivojević | C20: Da | D20: Krivično-prekršajni | E20: Sudija | F20: =IF(E20="Sudija",1,IF(E20="Stručni saradnik",1,"")) -> 1 | G20: 1 | H20: 01.01.2019. | I20: 31.12.2019. | J20: 261 | L20: 1.0093 | O20: =IF(G20="","",IF(G20="Ne treba raditi na predm.",1+SUM(L20:N20),(SUM(L20:N20)/G20))) -> 1.0093 | P20: =IF(K20>0,O20*(J20/(J20-K20)),O20) -> 1.0093 | U20: =IF(Q20="","",R20/(Q20-S20)) | V20: =IF(P20="","",IF(C20="Ne","",IF(G20="Ne treba raditi na predm.","", IF(P20>1,30,IF(U20="",IF(P20>0.9,25,IF(P20>0.8,20,IF(P20>0.7,16,IF(P20>0.6,10,IF(P20>0.5,4,0))))),IF(U20=1,30,IF(U20>0.9,25,IF(U20>0.8,20,IF(U20>0.7,15,IF(U20>0.6,10,IF(U20>0.5,5,0))))))))))) -> 30
A21: 13 | B21: Amela Agić | C21: Ne | D21: Izvršni | E21: Stručni saradnik | F21: =IF(E21="Sudija",1,IF(E21="Stručni saradnik",1,"")) -> 1 | G21: 1 | H21: 01.01.2019. | I21: 31.12.2019. | J21: 261 | K21: 22 | L21: 0.997 | O21: =IF(G21="","",IF(G21="Ne treba raditi na predm.",1+SUM(L21:N21),(SUM(L21:N21)/G21))) -> 0.997 | P21: =IF(K21>0,O21*(J21/(J21-K21)),O21) -> 1.0887741 | U21: =IF(Q21="","",R21/(Q21-S21)) | V21: =IF(P21="","",IF(C21="Ne","",IF(G21="Ne treba raditi na predm.","", IF(P21>1,30,IF(U21="",IF(P21>0.9,25,IF(P21>0.8,20,IF(P21>0.7,16,IF(P21>0.6,10,IF(P21>0.5,4,0))))),IF(U21=1,30,IF(U21>0.9,25,IF(U21>0.8,20,IF(U21>0.7,15,IF(U21>0.6,10,IF(U21>0.5,5,0)))))))))))
A22: 14 | B22: Marin Kajić | C22: Ne | D22: Izvršni | E22: Stručni saradnik | F22: =IF(E22="Sudija",1,IF(E22="Stručni saradnik",1,"")) -> 1 | G22: 1 | H22: 01.01.2019. | I22: 31.12.2019. | J22: 261 | L22: 1.021 | O22: =IF(G22="","",IF(G22="Ne treba raditi na predm.",1+SUM(L22:N22),(SUM(L22:N22)/G22))) -> 1.021 | P22: =IF(K22>0,O22*(J22/(J22-K22)),O22) -> 1.021 | U22: =IF(Q22="","",R22/(Q22-S22)) | V22: =IF(P22="","",IF(C22="Ne","",IF(G22="Ne treba raditi na predm.","", IF(P22>1,30,IF(U22="",IF(P22>0.9,25,IF(P22>0.8,20,IF(P22>0.7,16,IF(P22>0.6,10,IF(P22>0.5,4,0))))),IF(U22=1,30,IF(U22>0.9,25,IF(U22>0.8,20,IF(U22>0.7,15,IF(U22>0.6,10,IF(U22>0.5,5,0)))))))))))
A23: 15 | B23: Ivan Sokanović | C23: Ne | D23: Izvršni | E23: Stručni saradnik | F23: =IF(E23="Sudija",1,IF(E23="Stručni saradnik",1,"")) -> 1 | G23: 1 | H23: 01.01.2019. | I23: 31.12.2019. | J23: 261 | K23: 3 | L23: 1.0301 | O23: =IF(G23="","",IF(G23="Ne treba raditi na predm.",1+SUM(L23:N23),(SUM(L23:N23)/G23))) -> 1.0301 | P23: =IF(K23>0,O23*(J23/(J23-K23)),O23) -> 1.0420779 | U23: =IF(Q23="","",R23/(Q23-S23)) | V23: =IF(P23="","",IF(C23="Ne","",IF(G23="Ne treba raditi na predm.","", IF(P23>1,30,IF(U23="",IF(P23>0.9,25,IF(P23>0.8,20,IF(P23>0.7,16,IF(P23>0.6,10,IF(P23>0.5,4,0))))),IF(U23=1,30,IF(U23>0.9,25,IF(U23>0.8,20,IF(U23>0.7,15,IF(U23>0.6,10,IF(U23>0.5,5,0)))))))))))
A24: 16 | F24: =IF(E24="Sudija",1,IF(E24="Stručni saradnik",1,"")) | J24: 261 | O24: =IF(G24="","",IF(G24="Ne treba raditi na predm.",1+SUM(L24:N24),(SUM(L24:N24)/G24))) | P24: =IF(K24>0,O24*(J24/(J24-K24)),O24) | U24: =IF(Q24="","",R24/(Q24-S24)) | V24: =IF(P24="","",IF(C24="Ne","",IF(G24="Ne treba raditi na predm.","", IF(P24>1,30,IF(U24="",IF(P24>0.9,25,IF(P24>0.8,20,IF(P24>0.7,16,IF(P24>0.6,10,IF(P24>0.5,4,0))))),IF(U24=1,30,IF(U24>0.9,25,IF(U24>0.8,20,IF(U24>0.7,15,IF(U24>0.6,10,IF(U24>0.5,5,0)))))))))))
A25: 17 | F25: =IF(E25="Sudija",1,IF(E25="Stručni saradnik",1,"")) | J25: 261 | O25: =IF(G25="","",IF(G25="Ne treba raditi na predm.",1+SUM(L25:N25),(SUM(L25:N25)/G25))) | P25: =IF(K25>0,O25*(J25/(J25-K25)),O25) | U25: =IF(Q25="","",R25/(Q25-S25)) | V25: =IF(P25="","",IF(C25="Ne","",IF(G25="Ne treba raditi na predm.","", IF(P25>1,30,IF(U25="",IF(P25>0.9,25,IF(P25>0.8,20,IF(P25>0.7,16,IF(P25>0.6,10,IF(P25>0.5,4,0))))),IF(U25=1,30,IF(U25>0.9,25,IF(U25>0.8,20,IF(U25>0.7,15,IF(U25>0.6,10,IF(U25>0.5,5,0)))))))))))
A26: 18 | F26: =IF(E26="Sudija",1,IF(E26="Stručni saradnik",1,"")) | J26: 261 | O26: =IF(G26="","",IF(G26="Ne treba raditi na predm.",1+SUM(L26:N26),(SUM(L26:N26)/G26))) | P26: =IF(K26>0,O26*(J26/(J26-K26)),O26) | U26: =IF(Q26="","",R26/(Q26-S26)) | V26: =IF(P26="","",IF(C26="Ne","",IF(G26="Ne treba raditi na predm.","", IF(P26>1,30,IF(U26="",IF(P26>0.9,25,IF(P26>0.8,20,IF(P26>0.7,16,IF(P26>0.6,10,IF(P26>0.5,4,0))))),IF(U26=1,30,IF(U26>0.9,25,IF(U26>0.8,20,IF(U26>0.7,15,IF(U26>0.6,10,IF(U26>0.5,5,0)))))))))))
A27: 19 | F27: =IF(E27="Sudija",1,IF(E27="Stručni saradnik",1,"")) | J27: 261 | O27: =IF(G27="","",IF(G27="Ne treba raditi na predm.",1+SUM(L27:N27),(SUM(L27:N27)/G27))) | P27: =IF(K27>0,O27*(J27/(J27-K27)),O27) | U27: =IF(Q27="","",R27/(Q27-S27)) | V27: =IF(P27="","",IF(C27="Ne","",IF(G27="Ne treba raditi na predm.","", IF(P27>1,30,IF(U27="",IF(P27>0.9,25,IF(P27>0.8,20,IF(P27>0.7,16,IF(P27>0.6,10,IF(P27>0.5,4,0))))),IF(U27=1,30,IF(U27>0.9,25,IF(U27>0.8,20,IF(U27>0.7,15,IF(U27>0.6,10,IF(U27>0.5,5,0)))))))))))
A28: 20 | F28: =IF(E28="Sudija",1,IF(E28="Stručni saradnik",1,"")) | J28: 261 | O28: =IF(G28="","",IF(G28="Ne treba raditi na predm.",1+SUM(L28:N28),(SUM(L28:N28)/G28))) | P28: =IF(K28>0,O28*(J28/(J28-K28)),O28) | U28: =IF(Q28="","",R28/(Q28-S28)) | V28: =IF(P28="","",IF(C28="Ne","",IF(G28="Ne treba raditi na predm.","", IF(P28>1,30,IF(U28="",IF(P28>0.9,25,IF(P28>0.8,20,IF(P28>0.7,16,IF(P28>0.6,10,IF(P28>0.5,4,0))))),IF(U28=1,30,IF(U28>0.9,25,IF(U28>0.8,20,IF(U28>0.7,15,IF(U28>0.6,10,IF(U28>0.5,5,0)))))))))))
A29: 21 | F29: =IF(E29="Sudija",1,IF(E29="Stručni saradnik",1,"")) | J29: 261 | O29: =IF(G29="","",IF(G29="Ne treba raditi na predm.",1+SUM(L29:N29),(SUM(L29:N29)/G29))) | P29: =IF(K29>0,O29*(J29/(J29-K29)),O29) | U29: =IF(Q29="","",R29/(Q29-S29)) | V29: =IF(P29="","",IF(C29="Ne","",IF(G29="Ne treba raditi na predm.","", IF(P29>1,30,IF(U29="",IF(P29>0.9,25,IF(P29>0.8,20,IF(P29>0.7,16,IF(P29>0.6,10,IF(P29>0.5,4,0))))),IF(U29=1,30,IF(U29>0.9,25,IF(U29>0.8,20,IF(U29>0.7,15,IF(U29>0.6,10,IF(U29>0.5,5,0)))))))))))
A30: 22 | F30: =IF(E30="Sudija",1,IF(E30="Stručni saradnik",1,"")) | J30: 261 | O30: =IF(G30="","",IF(G30="Ne treba raditi na predm.",1+SUM(L30:N30),(SUM(L30:N30)/G30))) | P30: =IF(K30>0,O30*(J30/(J30-K30)),O30) | U30: =IF(Q30="","",R30/(Q30-S30)) | V30: =IF(P30="","",IF(C30="Ne","",IF(G30="Ne treba raditi na predm.","", IF(P30>1,30,IF(U30="",IF(P30>0.9,25,IF(P30>0.8,20,IF(P30>0.7,16,IF(P30>0.6,10,IF(P30>0.5,4,0))))),IF(U30=1,30,IF(U30>0.9,25,IF(U30>0.8,20,IF(U30>0.7,15,IF(U30>0.6,10,IF(U30>0.5,5,0)))))))))))
A31: 23 | F31: =IF(E31="Sudija",1,IF(E31="Stručni saradnik",1,"")) | J31: 261 | O31: =IF(G31="","",IF(G31="Ne treba raditi na predm.",1+SUM(L31:N31),(SUM(L31:N31)/G31))) | P31: =IF(K31>0,O31*(J31/(J31-K31)),O31) | U31: =IF(Q31="","",R31/(Q31-S31)) | V31: =IF(P31="","",IF(C31="Ne","",IF(G31="Ne treba raditi na predm.","", IF(P31>1,30,IF(U31="",IF(P31>0.9,25,IF(P31>0.8,20,IF(P31>0.7,16,IF(P31>0.6,10,IF(P31>0.5,4,0))))),IF(U31=1,30,IF(U31>0.9,25,IF(U31>0.8,20,IF(U31>0.7,15,IF(U31>0.6,10,IF(U31>0.5,5,0)))))))))))
A32: 24 | F32: =IF(E32="Sudija",1,IF(E32="Stručni saradnik",1,"")) | J32: 261 | O32: =IF(G32="","",IF(G32="Ne treba raditi na predm.",1+SUM(L32:N32),(SUM(L32:N32)/G32))) | P32: =IF(K32>0,O32*(J32/(J32-K32)),O32) | U32: =IF(Q32="","",R32/(Q32-S32)) | V32: =IF(P32="","",IF(C32="Ne","",IF(G32="Ne treba raditi na predm.","", IF(P32>1,30,IF(U32="",IF(P32>0.9,25,IF(P32>0.8,20,IF(P32>0.7,16,IF(P32>0.6,10,IF(P32>0.5,4,0))))),IF(U32=1,30,IF(U32>0.9,25,IF(U32>0.8,20,IF(U32>0.7,15,IF(U32>0.6,10,IF(U32>0.5,5,0)))))))))))
A33: 25 | F33: =IF(E33="Sudija",1,IF(E33="Stručni saradnik",1,"")) | J33: 261 | O33: =IF(G33="","",IF(G33="Ne treba raditi na predm.",1+SUM(L33:N33),(SUM(L33:N33)/G33))) | P33: =IF(K33>0,O33*(J33/(J33-K33)),O33) | U33: =IF(Q33="","",R33/(Q33-S33)) | V33: =IF(P33="","",IF(C33="Ne","",IF(G33="Ne treba raditi na predm.","", IF(P33>1,30,IF(U33="",IF(P33>0.9,25,IF(P33>0.8,20,IF(P33>0.7,16,IF(P33>0.6,10,IF(P33>0.5,4,0))))),IF(U33=1,30,IF(U33>0.9,25,IF(U33>0.8,20,IF(U33>0.7,15,IF(U33>0.6,10,IF(U33>0.5,5,0)))))))))))
A34: 26 | F34: =IF(E34="Sudija",1,IF(E34="Stručni saradnik",1,"")) | J34: 261 | O34: =IF(G34="","",IF(G34="Ne treba raditi na predm.",1+SUM(L34:N34),(SUM(L34:N34)/G34))) | P34: =IF(K34>0,O34*(J34/(J34-K34)),O34) | U34: =IF(Q34="","",R34/(Q34-S34)) | V34: =IF(P34="","",IF(C34="Ne","",IF(G34="Ne treba raditi na predm.","", IF(P34>1,30,IF(U34="",IF(P34>0.9,25,IF(P34>0.8,20,IF(P34>0.7,16,IF(P34>0.6,10,IF(P34>0.5,4,0))))),IF(U34=1,30,IF(U34>0.9,25,IF(U34>0.8,20,IF(U34>0.7,15,IF(U34>0.6,10,IF(U34>0.5,5,0)))))))))))
A35: 27 | F35: =IF(E35="Sudija",1,IF(E35="Stručni saradnik",1,"")) | J35: 261 | O35: =IF(G35="","",IF(G35="Ne treba raditi na predm.",1+SUM(L35:N35),(SUM(L35:N35)/G35))) | P35: =IF(K35>0,O35*(J35/(J35-K35)),O35) | U35: =IF(Q35="","",R35/(Q35-S35)) | V35: =IF(P35="","",IF(C35="Ne","",IF(G35="Ne treba raditi na predm.","", IF(P35>1,30,IF(U35="",IF(P35>0.9,25,IF(P35>0.8,20,IF(P35>0.7,16,IF(P35>0.6,10,IF(P35>0.5,4,0))))),IF(U35=1,30,IF(U35>0.9,25,IF(U35>0.8,20,IF(U35>0.7,15,IF(U35>0.6,10,IF(U35>0.5,5,0)))))))))))
... A73: 65 | F73: =IF(E73="Sudija",1,IF(E73="Stručni saradnik",1,"")) | J73: 261 | O73: =IF(G73="","",IF(G73="Ne treba raditi na predm.",1+SUM(L73:N73),(SUM(L73:N73)/G73))) | P73: =IF(K73>0,O73*(J73/(J73-K73)),O73) | U73: =IF(Q73="","",R73/(Q73-S73)) | V73: =IF(P73="","",IF(C73="Ne","",IF(G73="Ne treba raditi na predm.","", IF(P73>1,30,IF(U73="",IF(P73>0.9,25,IF(P73>0.8,20,IF(P73>0.7,16,IF(P73>0.6,10,IF(P73>0.5,4,0))))),IF(U73=1,30,IF(U73>0.9,25,IF(U73>0.8,20,IF(U73>0.7,15,IF(U73>0.6,10,IF(U73>0.5,5,0)))))))))))
F74: =IF(E74="Sudija",1,IF(E74="Stručni saradnik",1,"")) | J74: 261 | O74: =IF(G74="","",IF(G74="Ne treba raditi na predm.",1+SUM(L74:N74),(SUM(L74:N74)/G74))) | P74: =IF(K74>0,O74*(J74/(J74-K74)),O74) | U74: =IF(Q74="","",R74/(Q74-S74)) | V74: =IF(P74="","",IF(C74="Ne","",IF(G74="Ne treba raditi na predm.","", IF(P74>1,30,IF(U74="",IF(P74>0.9,25,IF(P74>0.8,20,IF(P74>0.7,16,IF(P74>0.6,10,IF(P74>0.5,4,0))))),IF(U74=1,30,IF(U74>0.9,25,IF(U74>0.8,20,IF(U74>0.7,15,IF(U74>0.6,10,IF(U74>0.5,5,0)))))))))))
F75: =IF(E75="Sudija",1,IF(E75="Stručni saradnik",1,"")) | J75: 261 | O75: =IF(G75="","",IF(G75="Ne treba raditi na predm.",1+SUM(L75:N75),(SUM(L75:N75)/G75))) | P75: =IF(K75>0,O75*(J75/(J75-K75)),O75) | U75: =IF(Q75="","",R75/(Q75-S75)) | V75: =IF(P75="","",IF(C75="Ne","",IF(G75="Ne treba raditi na predm.","", IF(P75>1,30,IF(U75="",IF(P75>0.9,25,IF(P75>0.8,20,IF(P75>0.7,16,IF(P75>0.6,10,IF(P75>0.5,4,0))))),IF(U75=1,30,IF(U75>0.9,25,IF(U75>0.8,20,IF(U75>0.7,15,IF(U75>0.6,10,IF(U75>0.5,5,0)))))))))))
F76: =IF(E76="Sudija",1,IF(E76="Stručni saradnik",1,"")) | J76: 261 | O76: =IF(G76="","",IF(G76="Ne treba raditi na predm.",1+SUM(L76:N76),(SUM(L76:N76)/G76))) | P76: =IF(K76>0,O76*(J76/(J76-K76)),O76) | U76: =IF(Q76="","",R76/(Q76-S76)) | V76: =IF(P76="","",IF(C76="Ne","",IF(G76="Ne treba raditi na predm.","", IF(P76>1,30,IF(U76="",IF(P76>0.9,25,IF(P76>0.8,20,IF(P76>0.7,16,IF(P76>0.6,10,IF(P76>0.5,4,0))))),IF(U76=1,30,IF(U76>0.9,25,IF(U76>0.8,20,IF(U76>0.7,15,IF(U76>0.6,10,IF(U76>0.5,5,0)))))))))))
F77: =IF(E77="Sudija",1,IF(E77="Stručni saradnik",1,"")) | J77: 261 | O77: =IF(G77="","",IF(G77="Ne treba raditi na predm.",1+SUM(L77:N77),(SUM(L77:N77)/G77))) | P77: =IF(K77>0,O77*(J77/(J77-K77)),O77) | U77: =IF(Q77="","",R77/(Q77-S77)) | V77: =IF(P77="","",IF(C77="Ne","",IF(G77="Ne treba raditi na predm.","", IF(P77>1,30,IF(U77="",IF(P77>0.9,25,IF(P77>0.8,20,IF(P77>0.7,16,IF(P77>0.6,10,IF(P77>0.5,4,0))))),IF(U77=1,30,IF(U77>0.9,25,IF(U77>0.8,20,IF(U77>0.7,15,IF(U77>0.6,10,IF(U77>0.5,5,0)))))))))))
F78: =IF(E78="Sudija",1,IF(E78="Stručni saradnik",1,"")) | J78: 261 | O78: =IF(G78="","",IF(G78="Ne treba raditi na predm.",1+SUM(L78:N78),(SUM(L78:N78)/G78))) | P78: =IF(K78>0,O78*(J78/(J78-K78)),O78) | U78: =IF(Q78="","",R78/(Q78-S78)) | V78: =IF(P78="","",IF(C78="Ne","",IF(G78="Ne treba raditi na predm.","", IF(P78>1,30,IF(U78="",IF(P78>0.9,25,IF(P78>0.8,20,IF(P78>0.7,16,IF(P78>0.6,10,IF(P78>0.5,4,0))))),IF(U78=1,30,IF(U78>0.9,25,IF(U78>0.8,20,IF(U78>0.7,15,IF(U78>0.6,10,IF(U78>0.5,5,0)))))))))))
F79: =IF(E79="Sudija",1,IF(E79="Stručni saradnik",1,"")) | J79: 261 | O79: =IF(G79="","",IF(G79="Ne treba raditi na predm.",1+SUM(L79:N79),(SUM(L79:N79)/G79))) | P79: =IF(K79>0,O79*(J79/(J79-K79)),O79) | U79: =IF(Q79="","",R79/(Q79-S79)) | V79: =IF(P79="","",IF(C79="Ne","",IF(G79="Ne treba raditi na predm.","", IF(P79>1,30,IF(U79="",IF(P79>0.9,25,IF(P79>0.8,20,IF(P79>0.7,16,IF(P79>0.6,10,IF(P79>0.5,4,0))))),IF(U79=1,30,IF(U79>0.9,25,IF(U79>0.8,20,IF(U79>0.7,15,IF(U79>0.6,10,IF(U79>0.5,5,0)))))))))))
F80: =IF(E80="Sudija",1,IF(E80="Stručni saradnik",1,"")) | J80: 261 | O80: =IF(G80="","",IF(G80="Ne treba raditi na predm.",1+SUM(L80:N80),(SUM(L80:N80)/G80))) | P80: =IF(K80>0,O80*(J80/(J80-K80)),O80) | U80: =IF(Q80="","",R80/(Q80-S80)) | V80: =IF(P80="","",IF(C80="Ne","",IF(G80="Ne treba raditi na predm.","", IF(P80>1,30,IF(U80="",IF(P80>0.9,25,IF(P80>0.8,20,IF(P80>0.7,16,IF(P80>0.6,10,IF(P80>0.5,4,0))))),IF(U80=1,30,IF(U80>0.9,25,IF(U80>0.8,20,IF(U80>0.7,15,IF(U80>0.6,10,IF(U80>0.5,5,0)))))))))))
J81: 261 | O81: =IF(G81="","",IF(G81="Ne treba raditi na predm.",1+SUM(L81:N81),(SUM(L81:N81)/G81))) | P81: =IF(K81>0,O81*(J81/(J81-K81)),O81) | U81: =IF(Q81="","",R81/(Q81-S81)) | V81: =IF(P81="","",IF(C81="Ne","",IF(G81="Ne treba raditi na predm.","", IF(P81>1,30,IF(U81="",IF(P81>0.9,25,IF(P81>0.8,20,IF(P81>0.7,16,IF(P81>0.6,10,IF(P81>0.5,4,0))))),IF(U81=1,30,IF(U81>0.9,25,IF(U81>0.8,20,IF(U81>0.7,15,IF(U81>0.6,10,IF(U81>0.5,5,0)))))))))))
F82: =IF(E82="Sudija",1,IF(E82="Stručni saradnik",1,"")) | J82: 261 | O82: =IF(G82="","",IF(G82="Ne treba raditi na predm.",1+SUM(L82:N82),(SUM(L82:N82)/G82))) | P82: =IF(K82>0,O82*(J82/(J82-K82)),O82) | U82: =IF(Q82="","",R82/(Q82-S82)) | V82: =IF(P82="","",IF(C82="Ne","",IF(G82="Ne treba raditi na predm.","", IF(P82>1,30,IF(U82="",IF(P82>0.9,25,IF(P82>0.8,20,IF(P82>0.7,16,IF(P82>0.6,10,IF(P82>0.5,4,0))))),IF(U82=1,30,IF(U82>0.9,25,IF(U82>0.8,20,IF(U82>0.7,15,IF(U82>0.6,10,IF(U82>0.5,5,0)))))))))))
F83: =IF(E83="Sudija",1,IF(E83="Stručni saradnik",1,"")) | J83: 261 | O83: =IF(G83="","",IF(G83="Ne treba raditi na predm.",1+SUM(L83:N83),(SUM(L83:N83)/G83))) | P83: =IF(K83>0,O83*(J83/(J83-K83)),O83) | U83: =IF(Q83="","",R83/(Q83-S83)) | V83: =IF(P83="","",IF(C83="Ne","",IF(G83="Ne treba raditi na predm.","", IF(P83>1,30,IF(U83="",IF(P83>0.9,25,IF(P83>0.8,20,IF(P83>0.7,16,IF(P83>0.6,10,IF(P83>0.5,4,0))))),IF(U83=1,30,IF(U83>0.9,25,IF(U83>0.8,20,IF(U83>0.7,15,IF(U83>0.6,10,IF(U83>0.5,5,0)))))))))))
O84: KOLEKTIVNA NORMA SUDA | P84: =IF(P8="",IF(P9="","",AVERAGE(P8:P83)),AVERAGE(P8:P83)) -> 1.1105651 | Q84: =SUM(Q8:Q83) -> 0 | R84: =SUM(R8:R83) -> 0 | S84: =SUM(S8:S83) -> 0 | T84: =SUM(T8:T83) -> 0 | U84: =IF(Q84=0,"",R84/(Q84-S84))
O85: BODOVANJE ZA OSTVARENU KOLEKTIVNU NORMU SUDA U SKLADU SA ČLANOM 11. STAV (2) KRITERIJA ZA OCJENJIVANJE RADA PREDSJEDNIKA SUDOVA I PREDSJEDNIKA SUDSKIH ODJELJENJA U BiH | P85: =IF(P84="","",IF(P84>1,30,IF(P84>0.95,28,IF(P84>0.9,24,IF(P84>0.85,20,IF(P84>0.8,16,IF(P84>0.75,12,IF(P84>0.7,8,IF(P84>0.5,4,0))))))))) -> 30
O86: BODOVANJE ZA OSTVARENU KOLEKTIVNU NORMU SUDA U SKLADU SA ČLANOM 11. STAV (3) KRITERIJA ZA OCJENJIVANJE RADA PREDSJEDNIKA SUDOVA I PREDSJEDNIKA SUDSKIH ODJELJENJA U BiH | P86: =IF(P84="","",IF(P84>1,60,IF(P84>0.95,56,IF(P84>0.9,48,IF(P84>0.85,40,IF(P84>0.8,32,IF(P84>0.75,24,IF(P84>0.7,16,IF(P84>0.5,8,0))))))))) -> 60
B88: Obrazloženje norme NPF-a unesene u plava polja
B89: Primjer - Sudija 1 | C89: 8 mjeseci sudija, 4 mjeseca šef odjela (90% norme sudije) | G89: 0.97
Q101: Nedovoljan broj predmeta u radu
A102: NAPOMENA 1: Ostvarena kolektivna norma suda automatski se obračunava i predsjedniku suda će se dodjeliti odgovarajući broj bodova u skladu sa članom 11. Kriterija za ocjenjivanje rada predsjednika sudova i predsjednika sudskih odjeljenja u BiH. Ukoliko sud nije imao dovoljan broj predmeta u radu za ostvarenje orijentacijske norme, potrebno je manuelno unijeti ukupan broj predmeta koji su bili u radu u sudu kao i ukupan broj riješenih predmeta u sudu u periodu ocjenjivanja, kao i podatke o broju neriješenih predmeta sa zakonskim i procesnim smetnjama i broju neriješenih predmeta bez zakonskih i procesnih smetnji. Procenat riješenih predmeta automatski će se obračunati te predsjedniku suda dodijeliti odgovarajući broj bodova u skladu sa članom 12. Kriterija za ocjenjivanje rada predsjednika sudova i predsjednika sudskih odjeljenja u BiH. | Q102: broj predmeta u radu | R102: broj riješenih predmeta | S102: broj neriješenih predmeta sa zakonskim i procesnim smetnjama | T102: broj neriješenih predmeta bez zakonskih i procesnih smetnji | U102: procenat riješenih predmeta
U103: =IF(Q103="","",R103/(Q103-S103))
T104: BODOVANJE ZA BROJ RIJEŠENIH PREDMETA U SUDU U SKLADU SA ČLANOM 12. STAV (1) KRITERIJA ZA OCJENJIVANJE RADA PREDSJEDNIKA SUDOVA I PREDSJEDNIKA SUDSKIH ODJELJENJA U BiH | U104: =IF(U103="","",IF(U103=1,30,IF(U103>0.95,28,IF(U103>0.9,24,IF(U103>0.85,20,IF(U103>0.8,16,IF(U103>0.75,12,IF(U103>0.7,8,IF(U103>0.5,4,0)))))))))
T105: BODOVANJE ZA BROJ RIJEŠENIH PREDMETA U SUDU U SKLADU SA ČLANOM 12. STAV (2) KRITERIJA ZA OCJENJIVANJE RADA PREDSJEDNIKA SUDOVA I PREDSJEDNIKA SUDSKIH ODJELJENJA U BiH | U105: =IF(U103="","",IF(U103=1,60,IF(U103>0.95,56,IF(U103>0.9,48,IF(U103>0.85,40,IF(U103>0.8,32,IF(U103>0.75,24,IF(U103>0.7,16,IF(U103>0.5,8,0)))))))))
A108: Tabela IIb -Obračun norme za proces ocjenjivaja za nosioce pravosudne funkcije koji su u toku godine prešli iz jednog suda u drugi sud, ako su funkciju obavljali u sudovima istog nivoa - Obračun prema Instrukciji dio: II POSEBNI SLUČAJEVI OCJENJIVANJA 3) a) (pogledati NAPOMENU 4)
A109: Ime i prezime predsjednika suda | O109: Ukupna ostvarena orijentacijska norma koja se unosi u Obrazac za ocjenjivanje = | P109: =P110+P111 -> 0
A110: Sud 1 | E110: Predsjednik suda | O110: =IF(G110="",0,IF(G110="Ne treba raditi na predm.",1+SUM(L110:N110),(SUM(L110:N110)/G110))) -> 0 | P110: =IF(K110>0,O110*(J110/(J110-K110)),O110) -> 0 | U110: =IF(Q110="","",R110/(Q110-S110)) | V110: =IF(P110="","",IF(C110="Ne","",IF(G110="Ne treba raditi na predm.","",IF((P110+P111)>1,10,IF(U110="",IF((P110+P111)>0.9,8,IF((P110+P111)>0.8,6,IF((P110+P111)>0.7,4,IF((P110+P111)>0.6,2,0)))),IF((U110+U111)=1,10,IF((U110+U111)>0.9,8,IF((U110+U111)>0.8,6,IF((U110+U111)>0.7,5,IF((U110+U111)>0.6,4,IF((U110+U111)>0.5,2,0))))))))))) -> 0
A111: Sud 2 | F111: =IF(E111="Sudija",1,IF(E111="Stručni saradnik",1,"")) | O111: =IF(G111="",0,IF(G111="Ne treba raditi na predm.",1+SUM(L111:N111),(SUM(L111:N111)/G111))) -> 0 | P111: =IF(K111>0,O111*(J111/(J111-K111)),O111) -> 0 | U111: =IF(Q111="","",R111/(Q111-S111)) | V111: =IF(P110="","",IF(C111="Ne","",IF(G111="Ne treba raditi na predm.","", IF((P110+P111)>1,30,IF(U110="",IF((P110+P111)>0.9,25,IF((P110+P111)>0.8,20,IF((P110+P111)>0.7,16,IF((P110+P111)>0.6,10,IF((P110+P111)>0.5,4,0))))),IF((U110+U111)=1,30,IF((U110+U111)>0.9,25,IF((U110+U111)>0.8,20,IF((U110+U111)>0.7,15,IF((U110+U111)>0.6,10,IF((U110+U111)>0.5,5,0))))))))))) -> 0
A112: Ime i prezime nosioca pravosudne funkcije | O112: Ukupna ostvarena orijentacijska norma koja se unosi u Obrazac za ocjenjivanje = | P112: =P113+P114 -> 0
A113: Sud 1 | F113: =IF(E113="Sudija",1,IF(E113="Stručni saradnik",1,"")) | O113: =IF(G113="",0,IF(G113="Ne treba raditi na predm.",1+SUM(L113:N113),(SUM(L113:N113)/G113))) -> 0 | P113: =IF(K113>0,O113*(J113/(J113-K113)),O113) -> 0 | U113: =IF(Q113="","",R113/(Q113-S113)) | V113: =IF(P113="","",IF(C113="Ne","",IF(G113="Ne treba raditi na predm.","", IF((P113+P114)>1,30,IF(U113="",IF((P113+P114)>0.9,25,IF((P113+P114)>0.8,20,IF((P113+P114)>0.7,16,IF((P113+P114)>0.6,10,IF((P113+P114)>0.5,4,0))))),IF((U113+U114)=1,30,IF((U113+U114)>0.9,25,IF((U113+U114)>0.8,20,IF((U113+U114)>0.7,15,IF((U113+U114)>0.6,10,IF((U113+U114)>0.5,5,0))))))))))) -> 0
A114: Sud 2 | F114: =IF(E114="Sudija",1,IF(E114="Stručni saradnik",1,"")) | O114: =IF(G114="",0,IF(G114="Ne treba raditi na predm.",1+SUM(L114:N114),(SUM(L114:N114)/G114))) -> 0 | P114: =IF(K114>0,O114*(J114/(J114-K114)),O114) -> 0 | U114: =IF(Q114="","",R114/(Q114-S114)) | V114: =IF(P113="","",IF(C114="Ne","",IF(G114="Ne treba raditi na predm.","", IF((P113+P114)>1,30,IF(U113="",IF((P113+P114)>0.9,25,IF((P113+P114)>0.8,20,IF((P113+P114)>0.7,16,IF((P113+P114)>0.6,10,IF((P113+P114)>0.5,4,0))))),IF((U113+U114)=1,30,IF((U113+U114)>0.9,25,IF((U113+U114)>0.8,20,IF((U113+U114)>0.7,15,IF((U113+U114)>0.6,10,IF((U113+U114)>0.5,5,0))))))))))) -> 0
A115: Ime i prezime nosioca pravosudne funkcije | O115: Ukupna ostvarena orijentacijska norma koja se unosi u Obrazac za ocjenjivanje = | P115: =P116+P117 -> 0
A116: Sud 1 | F116: =IF(E116="Sudija",1,IF(E116="Stručni saradnik",1,"")) | O116: =IF(G116="",0,IF(G116="Ne treba raditi na predm.",1+SUM(L116:N116),(SUM(L116:N116)/G116))) -> 0 | P116: =IF(K116>0,O116*(J116/(J116-K116)),O116) -> 0 | U116: =IF(Q116="","",R116/(Q116-S116)) | V116: =IF(P116="","",IF(C116="Ne","",IF(G116="Ne treba raditi na predm.","", IF((P116+P117)>1,30,IF(U116="",IF((P116+P117)>0.9,25,IF((P116+P117)>0.8,20,IF((P116+P117)>0.7,16,IF((P116+P117)>0.6,10,IF((P116+P117)>0.5,4,0))))),IF((U116+U117)=1,30,IF((U116+U117)>0.9,25,IF((U116+U117)>0.8,20,IF((U116+U117)>0.7,15,IF((U116+U117)>0.6,10,IF((U116+U117)>0.5,5,0))))))))))) -> 0
A117: Sud 2 | F117: =IF(E117="Sudija",1,IF(E117="Stručni saradnik",1,"")) | O117: =IF(G117="",0,IF(G117="Ne treba raditi na predm.",1+SUM(L117:N117),(SUM(L117:N117)/G117))) -> 0 | P117: =IF(K117>0,O117*(J117/(J117-K117)),O117) -> 0 | U117: =IF(Q117="","",R117/(Q117-S117)) | V117: =IF(P116="","",IF(C117="Ne","",IF(G117="Ne treba raditi na predm.","", IF((P116+P117)>1,30,IF(U116="",IF((P116+P117)>0.9,25,IF((P116+P117)>0.8,20,IF((P116+P117)>0.7,16,IF((P116+P117)>0.6,10,IF((P116+P117)>0.5,4,0))))),IF((U116+U117)=1,30,IF((U116+U117)>0.9,25,IF((U116+U117)>0.8,20,IF((U116+U117)>0.7,15,IF((U116+U117)>0.6,10,IF((U116+U117)>0.5,5,0))))))))))) -> 0
A118: Ime i prezime nosioca pravosudne funkcije | O118: Ukupna ostvarena orijentacijska norma koja se unosi u Obrazac za ocjenjivanje = | P118: =P119+P120 -> 0
A119: Sud 1 | F119: =IF(E119="Sudija",1,IF(E119="Stručni saradnik",1,"")) | O119: =IF(G119="",0,IF(G119="Ne treba raditi na predm.",1+SUM(L119:N119),(SUM(L119:N119)/G119))) -> 0 | P119: =IF(K119>0,O119*(J119/(J119-K119)),O119) -> 0 | U119: =IF(Q119="","",R119/(Q119-S119)) | V119: =IF(P119="","",IF(C119="Ne","",IF(G119="Ne treba raditi na predm.","", IF((P119+P120)>1,30,IF(U119="",IF((P119+P120)>0.9,25,IF((P119+P120)>0.8,20,IF((P119+P120)>0.7,16,IF((P119+P120)>0.6,10,IF((P119+P120)>0.5,4,0))))),IF((U119+U120)=1,30,IF((U119+U120)>0.9,25,IF((U119+U120)>0.8,20,IF((U119+U120)>0.7,15,IF((U119+U120)>0.6,10,IF((U119+U120)>0.5,5,0))))))))))) -> 0
A120: Sud 2 | F120: =IF(E120="Sudija",1,IF(E120="Stručni saradnik",1,"")) | O120: =IF(G120="",0,IF(G120="Ne treba raditi na predm.",1+SUM(L120:N120),(SUM(L120:N120)/G120))) -> 0 | P120: =IF(K120>0,O120*(J120/(J120-K120)),O120) -> 0 | U120: =IF(Q120="","",R120/(Q120-S120)) | V120: =IF(P119="","",IF(C120="Ne","",IF(G120="Ne treba raditi na predm.","", IF((P119+P120)>1,30,IF(U119="",IF((P119+P120)>0.9,25,IF((P119+P120)>0.8,20,IF((P119+P120)>0.7,16,IF((P119+P120)>0.6,10,IF((P119+P120)>0.5,4,0))))),IF((U119+U120)=1,30,IF((U119+U120)>0.9,25,IF((U119+U120)>0.8,20,IF((U119+U120)>0.7,15,IF((U119+U120)>0.6,10,IF((U119+U120)>0.5,5,0))))))))))) -> 0
A121: Ime i prezime nosioca pravosudne funkcije | O121: Ukupna ostvarena orijentacijska norma koja se unosi u Obrazac za ocjenjivanje = | P121: =P122+P123 -> 0
A122: Sud 1 | F122: =IF(E122="Sudija",1,IF(E122="Stručni saradnik",1,"")) | O122: =IF(G122="",0,IF(G122="Ne treba raditi na predm.",1+SUM(L122:N122),(SUM(L122:N122)/G122))) -> 0 | P122: =IF(K122>0,O122*(J122/(J122-K122)),O122) -> 0 | U122: =IF(Q122="","",R122/(Q122-S122)) | V122: =IF(P122="","",IF(C122="Ne","",IF(G122="Ne treba raditi na predm.","", IF((P122+P123)>1,30,IF(U122="",IF((P122+P123)>0.9,25,IF((P122+P123)>0.8,20,IF((P122+P123)>0.7,16,IF((P122+P123)>0.6,10,IF((P122+P123)>0.5,4,0))))),IF((U122+U123)=1,30,IF((U122+U123)>0.9,25,IF((U122+U123)>0.8,20,IF((U122+U123)>0.7,15,IF((U122+U123)>0.6,10,IF((U122+U123)>0.5,5,0))))))))))) -> 0
A123: Sud 2 | F123: =IF(E123="Sudija",1,IF(E123="Stručni saradnik",1,"")) | O123: =IF(G123="",0,IF(G123="Ne treba raditi na predm.",1+SUM(L123:N123),(SUM(L123:N123)/G123))) -> 0 | P123: =IF(K123>0,O123*(J123/(J123-K123)),O123) -> 0 | U123: =IF(Q123="","",R123/(Q123-S123)) | V123: =IF(P122="","",IF(C123="Ne","",IF(G123="Ne treba raditi na predm.","", IF((P122+P123)>1,30,IF(U122="",IF((P122+P123)>0.9,25,IF((P122+P123)>0.8,20,IF((P122+P123)>0.7,16,IF((P122+P123)>0.6,10,IF((P122+P123)>0.5,4,0))))),IF((U122+U123)=1,30,IF((U122+U123)>0.9,25,IF((U122+U123)>0.8,20,IF((U122+U123)>0.7,15,IF((U122+U123)>0.6,10,IF((U122+U123)>0.5,5,0))))))))))) -> 0
A124: Ime i prezime nosioca pravosudne funkcije | O124: Ukupna ostvarena orijentacijska norma koja se unosi u Obrazac za ocjenjivanje = | P124: =P125+P126 -> 0
A125: Sud 1 | F125: =IF(E125="Sudija",1,IF(E125="Stručni saradnik",1,"")) | O125: =IF(G125="",0,IF(G125="Ne treba raditi na predm.",1+SUM(L125:N125),(SUM(L125:N125)/G125))) -> 0 | P125: =IF(K125>0,O125*(J125/(J125-K125)),O125) -> 0 | U125: =IF(Q125="","",R125/(Q125-S125)) | V125: =IF(P125="","",IF(C125="Ne","",IF(G125="Ne treba raditi na predm.","", IF((P125+P126)>1,30,IF(U125="",IF((P125+P126)>0.9,25,IF((P125+P126)>0.8,20,IF((P125+P126)>0.7,16,IF((P125+P126)>0.6,10,IF((P125+P126)>0.5,4,0))))),IF((U125+U126)=1,30,IF((U125+U126)>0.9,25,IF((U125+U126)>0.8,20,IF((U125+U126)>0.7,15,IF((U125+U126)>0.6,10,IF((U125+U126)>0.5,5,0))))))))))) -> 0
A126: Sud 2 | F126: =IF(E126="Sudija",1,IF(E126="Stručni saradnik",1,"")) | O126: =IF(G126="",0,IF(G126="Ne treba raditi na predm.",1+SUM(L126:N126),(SUM(L126:N126)/G126))) -> 0 | P126: =IF(K126>0,O126*(J126/(J126-K126)),O126) -> 0 | U126: =IF(Q126="","",R126/(Q126-S126)) | V126: =IF(P125="","",IF(C126="Ne","",IF(G126="Ne treba raditi na predm.","", IF((P125+P126)>1,30,IF(U125="",IF((P125+P126)>0.9,25,IF((P125+P126)>0.8,20,IF((P125+P126)>0.7,16,IF((P125+P126)>0.6,10,IF((P125+P126)>0.5,4,0))))),IF((U125+U126)=1,30,IF((U125+U126)>0.9,25,IF((U125+U126)>0.8,20,IF((U125+U126)>0.7,15,IF((U125+U126)>0.6,10,IF((U125+U126)>0.5,5,0))))))))))) -> 0
A127: Ime i prezime nosioca pravosudne funkcije | O127: Ukupna ostvarena orijentacijska norma koja se unosi u Obrazac za ocjenjivanje = | P127: =P128+P129 -> 0
A128: Sud 1 | F128: =IF(E128="Sudija",1,IF(E128="Stručni saradnik",1,"")) | O128: =IF(G128="",0,IF(G128="Ne treba raditi na predm.",1+SUM(L128:N128),(SUM(L128:N128)/G128))) -> 0 | P128: =IF(K128>0,O128*(J128/(J128-K128)),O128) -> 0 | U128: =IF(Q128="","",R128/(Q128-S128)) | V128: =IF(P128="","",IF(C128="Ne","",IF(G128="Ne treba raditi na predm.","", IF((P128+P129)>1,30,IF(U128="",IF((P128+P129)>0.9,25,IF((P128+P129)>0.8,20,IF((P128+P129)>0.7,16,IF((P128+P129)>0.6,10,IF((P128+P129)>0.5,4,0))))),IF((U128+U129)=1,30,IF((U128+U129)>0.9,25,IF((U128+U129)>0.8,20,IF((U128+U129)>0.7,15,IF((U128+U129)>0.6,10,IF((U128+U129)>0.5,5,0))))))))))) -> 0
A129: Sud 2 | F129: =IF(E129="Sudija",1,IF(E129="Stručni saradnik",1,"")) | O129: =IF(G129="",0,IF(G129="Ne treba raditi na predm.",1+SUM(L129:N129),(SUM(L129:N129)/G129))) -> 0 | P129: =IF(K129>0,O129*(J129/(J129-K129)),O129) -> 0 | U129: =IF(Q129="","",R129/(Q129-S129)) | V129: =IF(P128="","",IF(C129="Ne","",IF(G129="Ne treba raditi na predm.","", IF((P128+P129)>1,30,IF(U128="",IF((P128+P129)>0.9,25,IF((P128+P129)>0.8,20,IF((P128+P129)>0.7,16,IF((P128+P129)>0.6,10,IF((P128+P129)>0.5,4,0))))),IF((U128+U129)=1,30,IF((U128+U129)>0.9,25,IF((U128+U129)>0.8,20,IF((U128+U129)>0.7,15,IF((U128+U129)>0.6,10,IF((U128+U129)>0.5,5,0))))))))))) -> 0
A130: Ime i prezime nosioca pravosudne funkcije | O130: Ukupna ostvarena orijentacijska norma koja se unosi u Obrazac za ocjenjivanje = | P130: =P131+P132 -> 0
A131: Sud 1 | F131: =IF(E131="Sudija",1,IF(E131="Stručni saradnik",1,"")) | O131: =IF(G131="",0,IF(G131="Ne treba raditi na predm.",1+SUM(L131:N131),(SUM(L131:N131)/G131))) -> 0 | P131: =IF(K131>0,O131*(J131/(J131-K131)),O131) -> 0 | U131: =IF(Q131="","",R131/(Q131-S131)) | V131: =IF(P131="","",IF(C131="Ne","",IF(G131="Ne treba raditi na predm.","", IF((P131+P132)>1,30,IF(U131="",IF((P131+P132)>0.9,25,IF((P131+P132)>0.8,20,IF((P131+P132)>0.7,16,IF((P131+P132)>0.6,10,IF((P131+P132)>0.5,4,0))))),IF((U131+U132)=1,30,IF((U131+U132)>0.9,25,IF((U131+U132)>0.8,20,IF((U131+U132)>0.7,15,IF((U131+U132)>0.6,10,IF((U131+U132)>0.5,5,0))))))))))) -> 0
A132: Sud 2 | F132: =IF(E132="Sudija",1,IF(E132="Stručni saradnik",1,"")) | O132: =IF(G132="",0,IF(G132="Ne treba raditi na predm.",1+SUM(L132:N132),(SUM(L132:N132)/G132))) -> 0 | P132: =IF(K132>0,O132*(J132/(J132-K132)),O132) -> 0 | U132: =IF(Q132="","",R132/(Q132-S132)) | V132: =IF(P131="","",IF(C132="Ne","",IF(G132="Ne treba raditi na predm.","", IF((P131+P132)>1,30,IF(U131="",IF((P131+P132)>0.9,25,IF((P131+P132)>0.8,20,IF((P131+P132)>0.7,16,IF((P131+P132)>0.6,10,IF((P131+P132)>0.5,4,0))))),IF((U131+U132)=1,30,IF((U131+U132)>0.9,25,IF((U131+U132)>0.8,20,IF((U131+U132)>0.7,15,IF((U131+U132)>0.6,10,IF((U131+U132)>0.5,5,0))))))))))) -> 0
A133: Ime i prezime nosioca pravosudne funkcije | O133: Ukupna ostvarena orijentacijska norma koja se unosi u Obrazac za ocjenjivanje = | P133: =P134+P135 -> 0
A134: Sud 1 | F134: =IF(E134="Sudija",1,IF(E134="Stručni saradnik",1,"")) | O134: =IF(G134="",0,IF(G134="Ne treba raditi na predm.",1+SUM(L134:N134),(SUM(L134:N134)/G134))) -> 0 | P134: =IF(K134>0,O134*(J134/(J134-K134)),O134) -> 0 | U134: =IF(Q134="","",R134/(Q134-S134)) | V134: =IF(P134="","",IF(C134="Ne","",IF(G134="Ne treba raditi na predm.","", IF((P134+P135)>1,30,IF(U134="",IF((P134+P135)>0.9,25,IF((P134+P135)>0.8,20,IF((P134+P135)>0.7,16,IF((P134+P135)>0.6,10,IF((P134+P135)>0.5,4,0))))),IF((U134+U135)=1,30,IF((U134+U135)>0.9,25,IF((U134+U135)>0.8,20,IF((U134+U135)>0.7,15,IF((U134+U135)>0.6,10,IF((U134+U135)>0.5,5,0))))))))))) -> 0
A135: Sud 2 | F135: =IF(E135="Sudija",1,IF(E135="Stručni saradnik",1,"")) | O135: =IF(G135="",0,IF(G135="Ne treba raditi na predm.",1+SUM(L135:N135),(SUM(L135:N135)/G135))) -> 0 | P135: =IF(K135>0,O135*(J135/(J135-K135)),O135) -> 0 | U135: =IF(Q135="","",R135/(Q135-S135)) | V135: =IF(P134="","",IF(C135="Ne","",IF(G135="Ne treba raditi na predm.","", IF((P134+P135)>1,30,IF(U134="",IF((P134+P135)>0.9,25,IF((P134+P135)>0.8,20,IF((P134+P135)>0.7,16,IF((P134+P135)>0.6,10,IF((P134+P135)>0.5,4,0))))),IF((U134+U135)=1,30,IF((U134+U135)>0.9,25,IF((U134+U135)>0.8,20,IF((U134+U135)>0.7,15,IF((U134+U135)>0.6,10,IF((U134+U135)>0.5,5,0))))))))))) -> 0
A136: Ime i prezime nosioca pravosudne funkcije | O136: Ukupna ostvarena orijentacijska norma koja se unosi u Obrazac za ocjenjivanje = | P136: =P137+P138 -> 0
A137: Sud 1 | F137: =IF(E137="Sudija",1,IF(E137="Stručni saradnik",1,"")) | O137: =IF(G137="",0,IF(G137="Ne treba raditi na predm.",1+SUM(L137:N137),(SUM(L137:N137)/G137))) -> 0 | P137: =IF(K137>0,O137*(J137/(J137-K137)),O137) -> 0 | U137: =IF(Q137="","",R137/(Q137-S137)) | V137: =IF(P137="","",IF(C137="Ne","",IF(G137="Ne treba raditi na predm.","", IF((P137+P138)>1,30,IF(U137="",IF((P137+P138)>0.9,25,IF((P137+P138)>0.8,20,IF((P137+P138)>0.7,16,IF((P137+P138)>0.6,10,IF((P137+P138)>0.5,4,0))))),IF((U137+U138)=1,30,IF((U137+U138)>0.9,25,IF((U137+U138)>0.8,20,IF((U137+U138)>0.7,15,IF((U137+U138)>0.6,10,IF((U137+U138)>0.5,5,0))))))))))) -> 0
A138: Sud 2 | F138: =IF(E138="Sudija",1,IF(E138="Stručni saradnik",1,"")) | O138: =IF(G138="",0,IF(G138="Ne treba raditi na predm.",1+SUM(L138:N138),(SUM(L138:N138)/G138))) -> 0 | P138: =IF(K138>0,O138*(J138/(J138-K138)),O138) -> 0 | U138: =IF(Q138="","",R138/(Q138-S138)) | V138: =IF(P137="","",IF(C138="Ne","",IF(G138="Ne treba raditi na predm.","", IF((P137+P138)>1,30,IF(U137="",IF((P137+P138)>0.9,25,IF((P137+P138)>0.8,20,IF((P137+P138)>0.7,16,IF((P137+P138)>0.6,10,IF((P137+P138)>0.5,4,0))))),IF((U137+U138)=1,30,IF((U137+U138)>0.9,25,IF((U137+U138)>0.8,20,IF((U137+U138)>0.7,15,IF((U137+U138)>0.6,10,IF((U137+U138)>0.5,5,0))))))))))) -> 0
B141: NAPOMENA 2: Kolona IX (Ukupan broj dana za obračun norme) je popunjena (261) i odnosi se na NPF-e koji su radili cijelu godinu u jednoj instituciji. Ukoliko NPF nije obavljao funkciju u pravosudnoj instituciji tokom cijele godine (Novoimenovani NPF ili NPF koji je u toku godine prestao obavljati pravosudnu funkciju) vrši se preračun broja radnih dana. Npr. Sudija počeo sa radom 1.4.2019. Ukupan broj dana za obračun norme = (365 – 31 – 28 – 31) / 7 * 5 = 196
B143: NAPOMENA 3: Ukoliko je nosilac pravosudne funkcije dužan ostvariti procenat orijentacijske norme koji nije ponuđen u padajućem meniju u poljima iz kolone VI, podaci o ostvarenoj orijentacijskoj normi takvog nosioca pravosudne funkcije se unose u dio obrasca u kojem su polja kolone VI označena plavom bojom. Ostvaren orijentaciona norma se obračunava u skladu sa tačkom II 1). Instrukcije za obračun individualne i kolektivne orijentacione norme u sudovima, primjena člana 15. stav 4. Pravilnika o orijentacionim mjerilima za rad sudija i stručnih saradnika u sudovima u BiH.
B145: NAPOMENA 4: U Tabelu IIa se unose podaci za sve nosioce pravosudne funkcije koji su u toku godine obavljali funkciju u sudu. Općinski sudovi u Tabelu IIa unose podatke i za stručne saradnike, s tim da se u kolonu III "Ocjenjen u sudu" iz padajućeg menija unosi opcija "Ne". U tabelu IIa, kolona II - XIII i XVI - XIX, se unose podaci za nosioca pravosudne funkcije koji nije uključen u plan rješavanja predmeta, s tim da se u kolonu III "Ocjenjen u sudu" iz padajućeg menija unosi opcija "Ne". Ukoliko nosilac pravosudne funkcije nije uključen u plan rješavanja predmeta podaci o ukupno ostvarenoj orijentacijskoj normi iz kolone XV i procentu riješenih predmeta iz kolone XX se obavezno prenose u POMOĆNU TABELU ZA OBRAČUN BODOVA ZA NPF KOJI NISU UKLJUČENI U PLAN RJEŠAVANJA PREDMETA. Ukoliko je nosilac pravosudne funkcije u toku godine prvi put imenovan u sud, ili je obavljao funkciju u dva suda, ili je napustio pravosuđe u Tabelu IIa se unose podaci koje je nosilac pravosudne funkcije ostvario u sudu koji popunjava Tabelu IIa, a podaci o ostvarenoj normi se obračunavaju u skladu Instrukcijom za obračun individualne i kolektivne orijentacione norme u sudovima (II dio - tačka 3a - za obračun kolektivne norme). Tabelu IIb popunjava sud koje provodi postupak ocjenjivanja rezultata rada nosioca pravosudne funkcije koji je tokom godine obavljao funkciju u dva suda, ako je funkciju obavljao u sudovima istog nivoa. Podaci o ostvarenoj normi se obračunavaju u skladu sa Instrukcijom za obračun individualne i kolektivne orijentacione norme u sudovima (II dio – tačka 2 i tačka 3a - za proces ocjenjivanja). U obrazac za ocjenjivanje rada unosi se podatak o broju ostvarenih bodova iz Tabele IIb. U slučaju ako je ocjenjivani nosilac pravosudne funkcije obavljao funkciju u dva suda različitog nivoa, sud u Tabelu IIa unosi podake o ostvarenoj orijentacionoj normi imajući u vidu samo rezultate koje je ocjenjivani nosilac pravosudne fukcije ostvario u tom sudu. Sud u kojem je nosilac pravosudne funkcije obavljao funkciju kraći dio perioda ocjenjivanja unosi podatke o ostvarenoj orijentacionoj normi radi obračuna kolektivne orijentacione norme. Sud u kojem je nosilac pravosudne funkcije obavljao funkciju duži dio perioda ocjenjivanja unosi podatke o ostvarenoj orijentacionoj normi radi obračuna individualne orijentacione norme nosioca pravosudne funkcije i obračuna kolektivne orijentacione norme.
B148: NAPOMENA 5: Posebno obratiti pažnju na dio Uputstva uz ovu tabelu koji propisuje način prikazivanja podataka o ostvarenoj orijentacionoj normi i broju riješenih predmeta u okolnostima kada nosilac pravosudne funkcije nije imao dovoljan broj predmeta u radu za ostvarenje propisane godišnje norme.
B150: NAPOMENA 6: Podatak o ostvarenoj orijentacionoj normi na predmetima van CMS-a se preuzima iz POMOĆNE TABELE ZA OBRAČUN NORME OSTVARENE NA PREDMETIMA VAN CMS-a
B152: NAPOMENA 7: Podatak o Procentu ostvarene orijentacijske norme prema čl 9. Pravilnika o orijentacijskim mjerilima se preuzima iz POMOĆNE TABELE ZA VEĆE VREDNOVANJE PREDMETA
B154: NAPOMENA 8: Pomoćne tabele navedene u NAPOMENAMA 4, 6 i 7 kao i ostale materijale u vezi postupka izvještavanja i ocjenjivanja rada NPF za 2018.godinu možete preuzeti putem linkova:
B155: http://www.pravosudje.ba/vstv/faces/kategorijevijesti.jsp?ins=141&modul=1198&kat=1201&kolona=12200
B156: https://vstv.pravosudje.ba/vstv/faces/vijesti.jsp?id=65385
B158: NAPOMENA 9: Podatak o broju dana opravdanog odsustva iz člana 14. Kriterija za ocjenjivanje rada sudija u BiH, obavezno preuzeti iz pomoćne tabele.

Sheet Tabela III
A1: Općinski/Osnovni sud: | B1: ='Tabela I'!C1 -> Bugojno
A2: Izvještajni period: | B2: ='Tabela I'!C2 -> 1.1.2019.- 31.12.2019.
A3: Tabela IIIa - Kvalitet sudskih odluka po vrstama predmeta
A4: Vrsta predmeta | B4: Broj donesenih odluka na koje se može izjaviti pravni lijek - pogledati NAPOMENU 2 | C4: Ukupan broj ožalbenih odluka | D4: Broj odbačenih pravnih lijekova | E4: Broj potvrđenih odluka | F4: Broj preinačenih odluka | G4: Broj preinačenih odluka donijetih na raspravi ili na pretresu pred višim sudom | H4: Broj ukinutih odluka - pogledati NAPOMENU 2 | I4: Broj djelimično ukinutih odluka | J4: Kvalitet sudskih odluka | K4: Broj presuda koje su ukinute i predmet vraćen na ponovno suđenje
E5: Odbijen pravni lijek
B6: I | C6: II=IV+V+VI+ VII+VIII) | D6: III | E6: IV | F6: V | G6: VI | H6: VII | I6: VIII | J6: IX1 | K6: X
A7: Parnični referat
A8: P | B8: 475 | C8: =E8+F8+G8+H8+I8 -> 80 | E8: 57 | F8: 10 | H8: 12 | I8: 1 | J8: =IF(C8=0,"",IF(B8=0,1,0.83*((C8-H8-I8/2)/C8)+0.17*((B8-G8-H8-I8/2)/B8))) -> 0.86583882
A9: Mal | B9: 831 | C9: =E9+F9+G9+H9+I9 -> 32 | E9: 30 | F9: 2 | J9: =IF(C9=0,"",IF(B9=0,1,0.83*((C9-H9-I9/2)/C9)+0.17*((B9-G9-H9-I9/2)/B9))) -> 1
A10: Radni sporovi | B10: 67 | C10: =E10+F10+G10+H10+I10 -> 20 | E10: 13 | F10: 2 | H10: 5 | J10: =IF(C10=0,"",IF(B10=0,1,0.83*((C10-H10-I10/2)/C10)+0.17*((B10-G10-H10-I10/2)/B10))) -> 0.77981343
A11: Pom | C11: =E11+F11+G11+H11+I11 -> 0 | J11: =IF(C11=0,"",IF(B11=0,1,0.83*((C11-H11-I11/2)/C11)+0.17*((B11-G11-H11-I11/2)/B11)))
A12: Ostalo | B12: 14 | C12: =E12+F12+G12+H12+I12 -> 12 | E12: 11 | F12: 1 | J12: =IF(C12=0,"",IF(B12=0,1,0.83*((C12-H12-I12/2)/C12)+0.17*((B12-G12-H12-I12/2)/B12))) -> 1
A13: Privredni referat
A14: Ps | C14: =E14+F14+G14+H14+I14 -> 0 | J14: =IF(C14=0,"",IF(B14=0,1,0.83*((C14-H14-I14/2)/C14)+0.17*((B14-G14-H14-I14/2)/B14)))
A15: Mals | C15: =E15+F15+G15+H15+I15 -> 0 | J15: =IF(C15=0,"",IF(B15=0,1,0.83*((C15-H15-I15/2)/C15)+0.17*((B15-G15-H15-I15/2)/B15)))
A16: L | C16: =E16+F16+G16+H16+I16 -> 0 | J16: =IF(C16=0,"",IF(B16=0,1,0.83*((C16-H16-I16/2)/C16)+0.17*((B16-G16-H16-I16/2)/B16)))
A17: Ls | C17: =E17+F17+G17+H17+I17 -> 0 | J17: =IF(C17=0,"",IF(B17=0,1,0.83*((C17-H17-I17/2)/C17)+0.17*((B17-G17-H17-I17/2)/B17)))
A18: St | C18: =E18+F18+G18+H18+I18 -> 0 | J18: =IF(C18=0,"",IF(B18=0,1,0.83*((C18-H18-I18/2)/C18)+0.17*((B18-G18-H18-I18/2)/B18)))
A19: Ostalo | C19: =E19+F19+G19+H19+I19 -> 0 | J19: =IF(C19=0,"",IF(B19=0,1,0.83*((C19-H19-I19/2)/C19)+0.17*((B19-G19-H19-I19/2)/B19)))
A20: Krivični referat
A21: K | B21: 235 | C21: =E21+F21+G21+H21+I21 -> 76 | E21: 47 | F21: 12 | H21: 16 | I21: 1 | J21: =IF(C21=0,"",IF(B21=0,1,0.83*((C21-H21-I21/2)/C21)+0.17*((B21-G21-H21-I21/2)/B21))) -> 0.80786646
A22: Kpp | B22: 125 | C22: =E22+F22+G22+H22+I22 -> 1 | E22: 1 | J22: =IF(C22=0,"",IF(B22=0,1,0.83*((C22-H22-I22/2)/C22)+0.17*((B22-G22-H22-I22/2)/B22))) -> 1
A23: Kps | B23: 123 | C23: =E23+F23+G23+H23+I23 -> 2 | E23: 2 | J23: =IF(C23=0,"",IF(B23=0,1,0.83*((C23-H23-I23/2)/C23)+0.17*((B23-G23-H23-I23/2)/B23))) -> 1
A24: Kzs | B24: 0 | C24: =E24+F24+G24+H24+I24 -> 0 | J24: =IF(C24=0,"",IF(B24=0,1,0.83*((C24-H24-I24/2)/C24)+0.17*((B24-G24-H24-I24/2)/B24)))
A25: Kbs | B25: 10 | C25: =E25+F25+G25+H25+I25 -> 1 | E25: 0 | H25: 1 | J25: =IF(C25=0,"",IF(B25=0,1,0.83*((C25-H25-I25/2)/C25)+0.17*((B25-G25-H25-I25/2)/B25))) -> 0.153
A26: Km | B26: 7 | C26: =E26+F26+G26+H26+I26 -> 0 | E26: 0 | J26: =IF(C26=0,"",IF(B26=0,1,0.83*((C26-H26-I26/2)/C26)+0.17*((B26-G26-H26-I26/2)/B26)))
A27: Kv | B27: 71 | C27: =E27+F27+G27+H27+I27 -> 7 | E27: 6 | H27: 1 | J27: =IF(C27=0,"",IF(B27=0,1,0.83*((C27-H27-I27/2)/C27)+0.17*((B27-G27-H27-I27/2)/B27))) -> 0.87903421
A28: Kvl | B28: 0 | C28: =E28+F28+G28+H28+I28 -> 0 | J28: =IF(C28=0,"",IF(B28=0,1,0.83*((C28-H28-I28/2)/C28)+0.17*((B28-G28-H28-I28/2)/B28)))
A29: Kp | B29: 2 | C29: =E29+F29+G29+H29+I29 -> 0 | E29: 0 | J29: =IF(C29=0,"",IF(B29=0,1,0.83*((C29-H29-I29/2)/C29)+0.17*((B29-G29-H29-I29/2)/B29)))
A30: Iks | B30: 140 | C30: =E30+F30+G30+H30+I30 -> 3 | E30: 3 | J30: =IF(C30=0,"",IF(B30=0,1,0.83*((C30-H30-I30/2)/C30)+0.17*((B30-G30-H30-I30/2)/B30))) -> 1
A31: Pom | B31: 0 | C31: =E31+F31+G31+H31+I31 -> 0 | J31: =IF(C31=0,"",IF(B31=0,1,0.83*((C31-H31-I31/2)/C31)+0.17*((B31-G31-H31-I31/2)/B31)))
A32: Ostalo | B32: 6 | C32: =E32+F32+G32+H32+I32 -> 2 | E32: 1 | H32: 1 | J32: =IF(C32=0,"",IF(B32=0,1,0.83*((C32-H32-I32/2)/C32)+0.17*((B32-G32-H32-I32/2)/B32))) -> 0.55666667
A33: Izvršni referat
A34: I | B34: 1830 | C34: =E34+F34+G34+H34+I34 -> 111 | E34: 95 | F34: 2 | H34: 14 | J34: =IF(C34=0,"",IF(B34=0,1,0.83*((C34-H34-I34/2)/C34)+0.17*((B34-G34-H34-I34/2)/B34))) -> 0.89401477
A35: Ip | B35: 133 | C35: =E35+F35+G35+H35+I35 -> 6 | E35: 5 | F35: 1 | J35: =IF(C35=0,"",IF(B35=0,1,0.83*((C35-H35-I35/2)/C35)+0.17*((B35-G35-H35-I35/2)/B35))) -> 1
A36: Ostalo | B36: 1780 | C36: =E36+F36+G36+H36+I36 -> 0 | J36: =IF(C36=0,"",IF(B36=0,1,0.83*((C36-H36-I36/2)/C36)+0.17*((B36-G36-H36-I36/2)/B36)))
A37: Vanparnični referat
A38: V | B38: 225 | C38: =E38+F38+G38+H38+I38 -> 11 | E38: 7 | H38: 3 | I38: 1 | J38: =IF(C38=0,"",IF(B38=0,1,0.83*((C38-H38-I38/2)/C38)+0.17*((B38-G38-H38-I38/2)/B38))) -> 0.73326465
A39: O | B39: 980 | C39: =E39+F39+G39+H39+I39 -> 1 | E39: 1 | J39: =IF(C39=0,"",IF(B39=0,1,0.83*((C39-H39-I39/2)/C39)+0.17*((B39-G39-H39-I39/2)/B39))) -> 1
A40: Ostalo | B40: 23 | C40: =E40+F40+G40+H40+I40 -> 0 | J40: =IF(C40=0,"",IF(B40=0,1,0.83*((C40-H40-I40/2)/C40)+0.17*((B40-G40-H40-I40/2)/B40)))
A41: Prekršajni referat
A42: Pr | B42: 1460 | C42: =E42+F42+G42+H42+I42 -> 54 | E42: 42 | F42: 8 | H42: 4 | J42: =IF(C42=0,"",IF(B42=0,1,0.83*((C42-H42-I42/2)/C42)+0.17*((B42-G42-H42-I42/2)/B42))) -> 0.93805277
A43: Ostalo | B43: 461 | C43: =E43+F43+G43+H43+I43 -> 1 | H43: 1 | J43: =IF(C43=0,"",IF(B43=0,1,0.83*((C43-H43-I43/2)/C43)+0.17*((B43-G43-H43-I43/2)/B43))) -> 0.16963124
A45: Registracija poslovnih subjekata | B45: 0 | C45: =E45+F45+G45+H45+I45 -> 0 | J45: =IF(C45=0,"",IF(B45=0,1,0.83*((C45-H45-I45/2)/C45)+0.17*((B45-G45-H45-I45/2)/B45)))
A47: Ukupno | B47: =SUM(B8:B12)+SUM(B14:B19)+SUM(B21:B32)+SUM(B34:B36)+SUM(B38:B40)+SUM(B42:B43)+B45 -> 8998 | C47: =SUM(C8:C12)+SUM(C14:C19)+SUM(C21:C32)+SUM(C34:C36)+SUM(C38:C40)+SUM(C42:C43)+C45 -> 420 | D47: =SUM(D8:D12)+SUM(D14:D19)+SUM(D21:D32)+SUM(D34:D36)+SUM(D38:D40)+SUM(D42:D43)+D45 -> 0 | E47: =SUM(E8:E12)+SUM(E14:E19)+SUM(E21:E32)+SUM(E34:E36)+SUM(E38:E40)+SUM(E42:E43)+E45 -> 321 | F47: =SUM(F8:F12)+SUM(F14:F19)+SUM(F21:F32)+SUM(F34:F36)+SUM(F38:F40)+SUM(F42:F43)+F45 -> 38 | G47: =SUM(G8:G12)+SUM(G14:G19)+SUM(G21:G32)+SUM(G34:G36)+SUM(G38:G40)+SUM(G42:G43)+G45 -> 0 | H47: =SUM(H8:H12)+SUM(H14:H19)+SUM(H21:H32)+SUM(H34:H36)+SUM(H38:H40)+SUM(H42:H43)+H45 -> 58 | I47: =SUM(I8:I12)+SUM(I14:I19)+SUM(I21:I32)+SUM(I34:I36)+SUM(I38:I40)+SUM(I42:I43)+I45 -> 3 | J47: =IF(C47=0,"",IF(B47=0,1,0.83*((C47-H47-I47/2)/C47)+0.17*((B47-G47-H47-I47/2)/B47))) -> 0.88129253 | K47: =SUM(K8:K12)+SUM(K14:K19)+SUM(K21:K32)+SUM(K34:K36)+SUM(K38:K40)+SUM(K42:K43)+K45 -> 0
A49: Ukupno 2018* | B49: 7475 | C49: Obrazloženje:
A50: * Unesite podatak o Ukupnom broju donesenih odluka na koje se može izjaviti pravni lijek iz izvještaja koji ste dostavili za 2018. godinu. Ukoliko je razlika u Ukupnom broju donesenih odluka na koje se može izjaviti pravni lijek u periodu 2018/2019 veća od 20% aktiviraće se kontrolnik i potrebno je da obrazložite uzroke za nastanak te razlike.
O55: Ocijenjen
O56: Nije ocijenjen
A57: 1 Kvalitet rada sudskih odluka se automatski obračunava u skladu sa članom 18. Kriterija za ocjenjivanje rada sudija u BiH i članom 17. Kriterija za ocjenjivanje rada predsjednika sudova i predsjednika sudskih odjeljenja u BiH. Slijedi tekst za pojašnjenje formule za obračun kvaliteta sudskih odluka: (83% * (Ukupan broj ožalbenih odluka - Broj ukinutih odluka - Broj djelimično ukinutih odluka/2) / Ukupan broj ožalbenih odluka) + (17% * (Broj donesenih odluka na koje se može izjaviti pravni lijek - Broj preinačenih odluka donijetih nakon održane glavne raspave ili pretresa pred drugostepenim sudom - Broj ukinutih odluka - Broj djelimično ukinutih odluka/2) / Broj donesenih odluka na koje se može izjaviti pravni lijek).
A59: NAPOMENA 1: U Tabelu III se unose podaci o kvalitetu odluka za sve nosilace pravosudne funkcije koji su u toku godine obavljali funkciju u sudu, bez obzira na period obavljanja funkcije u sudu. U Tabelu se unose podaci za sve nosioce pravosudne funkcije: koji su obavljali funkciju u sudu cijelu godinu, koji su imenovani u sud u toku godine, koji su prešli u drugi sud u toku godine, kao i podaci za nosioce pravosudne funkcije koji su prestali obavljati funkciju u sudu zbog odlaska u penziju u 2019. godini ili iz drugih razloga (ostavke, razrješenja), a u 2019. godini su donosili odluke na koje se može izjaviti pravni lijek, i/ili sud je nakon prestanka obavljanja funkcije zaprimio žalbene odluke od strane višeg suda po izjavljenom pravnom lijeku na odluke bivšeg nosioca pravosudne funckije. Na taj način se pravilno obračunava kolektivni kvalitet odluka u sudu.
A66: NAPOMENA 2: U broj donesenih odluka na koje se može izjaviti pravni lijek (Kolona I) i broj ukinutih odluka (Kolona VII) prilikom računanja procenta ukinutih odluka iz člana 18. stav (1) tačka a) i b) Kriterija za ocjenjivanje rada sudija u BiH neće se uzimati u obračun odluke koje su ukinute u sadržajno nebitnom dijelu odnosno ako je odluka ukinuta ili se smatra ukinutom zbog toga što je instancioni sud nakon donošenja ispitivane odluke izmijenio sudsku praksu.
A68: Tabela IIIb - Kvalitet sudskih odluka po odjeljenjima - (Ukoliko sud nema formirana odjeljenja nije potrebno popunjavati Tabelu IIIb - zanemariti kontrolnike)*
A69: Kontrolnik | C69: =SUM(C73:C87) -> 8998 | D69: =SUM(D73:D87) -> 420 | E69: =SUM(E73:E87) -> 0 | F69: =SUM(F73:F87) -> 321 | G69: =SUM(G73:G87) -> 38 | H69: =SUM(H73:H87) -> 0 | I69: =SUM(I73:I87) -> 58 | J69: =SUM(J73:J87) -> 3 | K69: =IF(D69=0,"",IF(C69=0,1,0.83*((D69-I69-J69/2)/D69)+0.17*((C69-H69-I69-J69/2)/C69))) -> 0.88129253 | L69: =SUM(L73:L87) -> 0
A71: Naziv odjeljenja ** | B71: Predsjednik odjeljenja je Ocijenjen / Nije ocijenjen*** | C71: Broj donesenih odluka na koje se može izjaviti pravni lijek | D71: Ukupan broj ožalbenih odluka | E71: Broj odbačenih pravnih lijekova | F71: Broj potvrđenih odluka | G71: Broj preinačenih odluka | H71: Broj preinačenih odluka donijetih na raspravi ili na pretresu pred višim sudom | I71: Broj ukinutih odluka | J71: Broj djelimično ukinutih odluka | K71: Kvalitet sudskih odluka | L71: Broj presuda koje su ukinute i predmet je vraćen na ponovno suđenje | M71: Broj bodova koji se dodjeljuje predsjedniku sudskog odjeljenja
C72: I | D72: II=IV+V+VI+ VII+VIII) | E72: III | F72: IV | G72: V | H72: VI | I72: VII | J72: VIII | K72: IX1 | L72: X | M72: XI
A73: Parnično odjeljenje | B73: Ocijenjen | C73: 2615 | D73: =F73+G73+H73+I73+J73 -> 156 | F73: 119 | G73: 15 | I73: 20 | J73: 2 | K73: =IF(D73=0,"",IF(C73=0,1,0.83*((D73-I73-J73/2)/D73)+0.17*((C73-H73-I73-J73/2)/C73))) -> 0.88690403 | M73: =IF(A73="","",IF(B73="Ocijenjen",IF(K73>0.95,5,IF(K73>0.9,4,IF(K73>0.8,3,IF(K73>0.7,2,IF(K73>0.6,1,0))))),"")) -> 3
A74: Izvršno odjeljenje | B74: Ocijenjen | C74: 3743 | D74: =F74+G74+H74+I74+J74 -> 117 | F74: 100 | G74: 3 | I74: 14 | K74: =IF(D74=0,"",IF(C74=0,1,0.83*((D74-I74-J74/2)/D74)+0.17*((C74-H74-I74-J74/2)/C74))) -> 0.90004791 | M74: =IF(A74="","",IF(B74="Ocijenjen",IF(K74>0.95,5,IF(K74>0.9,4,IF(K74>0.8,3,IF(K74>0.7,2,IF(K74>0.6,1,0))))),"")) -> 4
A75: Krivično-prekršajno odjeljenje | B75: Ocijenjen | C75: 2640 | D75: =F75+G75+H75+I75+J75 -> 147 | F75: 102 | G75: 20 | I75: 24 | J75: 1 | K75: =IF(D75=0,"",IF(C75=0,1,0.83*((D75-I75-J75/2)/D75)+0.17*((C75-H75-I75-J75/2)/C75))) -> 0.86008902 | M75: =IF(A75="","",IF(B75="Ocijenjen",IF(K75>0.95,5,IF(K75>0.9,4,IF(K75>0.8,3,IF(K75>0.7,2,IF(K75>0.6,1,0))))),"")) -> 3
D76: =F76+G76+H76+I76+J76 -> 0 | K76: =IF(D76=0,"",IF(C76=0,1,0.83*((D76-I76-J76/2)/D76)+0.17*((C76-H76-I76-J76/2)/C76))) | M76: =IF(A76="","",IF(B76="Ocijenjen",IF(K76>0.95,5,IF(K76>0.9,4,IF(K76>0.8,3,IF(K76>0.7,2,IF(K76>0.6,1,0))))),""))
D77: =F77+G77+H77+I77+J77 -> 0 | K77: =IF(D77=0,"",IF(C77=0,1,0.83*((D77-I77-J77/2)/D77)+0.17*((C77-H77-I77-J77/2)/C77))) | M77: =IF(A77="","",IF(B77="Ocijenjen",IF(K77>0.95,5,IF(K77>0.9,4,IF(K77>0.8,3,IF(K77>0.7,2,IF(K77>0.6,1,0))))),""))
D78: =F78+G78+H78+I78+J78 -> 0 | K78: =IF(D78=0,"",IF(C78=0,1,0.83*((D78-I78-J78/2)/D78)+0.17*((C78-H78-I78-J78/2)/C78))) | M78: =IF(A78="","",IF(B78="Ocijenjen",IF(K78>0.95,5,IF(K78>0.9,4,IF(K78>0.8,3,IF(K78>0.7,2,IF(K78>0.6,1,0))))),""))
D79: =F79+G79+H79+I79+J79 -> 0 | K79: =IF(D79=0,"",IF(C79=0,1,0.83*((D79-I79-J79/2)/D79)+0.17*((C79-H79-I79-J79/2)/C79))) | M79: =IF(A79="","",IF(B79="Ocijenjen",IF(K79>0.95,5,IF(K79>0.9,4,IF(K79>0.8,3,IF(K79>0.7,2,IF(K79>0.6,1,0))))),""))
D80: =F80+G80+H80+I80+J80 -> 0 | K80: =IF(D80=0,"",IF(C80=0,1,0.83*((D80-I80-J80/2)/D80)+0.17*((C80-H80-I80-J80/2)/C80))) | M80: =IF(A80="","",IF(B80="Ocijenjen",IF(K80>0.95,5,IF(K80>0.9,4,IF(K80>0.8,3,IF(K80>0.7,2,IF(K80>0.6,1,0))))),""))
D81: =F81+G81+H81+I81+J81 -> 0 | K81: =IF(D81=0,"",IF(C81=0,1,0.83*((D81-I81-J81/2)/D81)+0.17*((C81-H81-I81-J81/2)/C81))) | M81: =IF(A81="","",IF(B81="Ocijenjen",IF(K81>0.95,5,IF(K81>0.9,4,IF(K81>0.8,3,IF(K81>0.7,2,IF(K81>0.6,1,0))))),""))
D82: =F82+G82+H82+I82+J82 -> 0 | K82: =IF(D82=0,"",IF(C82=0,1,0.83*((D82-I82-J82/2)/D82)+0.17*((C82-H82-I82-J82/2)/C82))) | M82: =IF(A82="","",IF(B82="Ocijenjen",IF(K82>0.95,5,IF(K82>0.9,4,IF(K82>0.8,3,IF(K82>0.7,2,IF(K82>0.6,1,0))))),""))
D83: =F83+G83+H83+I83+J83 -> 0 | K83: =IF(D83=0,"",IF(C83=0,1,0.83*((D83-I83-J83/2)/D83)+0.17*((C83-H83-I83-J83/2)/C83))) | M83: =IF(A83="","",IF(B83="Ocijenjen",IF(K83>0.95,5,IF(K83>0.9,4,IF(K83>0.8,3,IF(K83>0.7,2,IF(K83>0.6,1,0))))),""))
D84: =F84+G84+H84+I84+J84 -> 0 | K84: =IF(D84=0,"",IF(C84=0,1,0.83*((D84-I84-J84/2)/D84)+0.17*((C84-H84-I84-J84/2)/C84))) | M84: =IF(A84="","",IF(B84="Ocijenjen",IF(K84>0.95,5,IF(K84>0.9,4,IF(K84>0.8,3,IF(K84>0.7,2,IF(K84>0.6,1,0))))),""))
D85: =F85+G85+H85+I85+J85 -> 0 | K85: =IF(D85=0,"",IF(C85=0,1,0.83*((D85-I85-J85/2)/D85)+0.17*((C85-H85-I85-J85/2)/C85))) | M85: =IF(A85="","",IF(B85="Ocijenjen",IF(K85>0.95,5,IF(K85>0.9,4,IF(K85>0.8,3,IF(K85>0.7,2,IF(K85>0.6,1,0))))),""))
D86: =F86+G86+H86+I86+J86 -> 0 | K86: =IF(D86=0,"",IF(C86=0,1,0.83*((D86-I86-J86/2)/D86)+0.17*((C86-H86-I86-J86/2)/C86))) | M86: =IF(A86="","",IF(B86="Ocijenjen",IF(K86>0.95,5,IF(K86>0.9,4,IF(K86>0.8,3,IF(K86>0.7,2,IF(K86>0.6,1,0))))),""))
D87: =F87+G87+H87+I87+J87 -> 0 | K87: =IF(D87=0,"",IF(C87=0,1,0.83*((D87-I87-J87/2)/D87)+0.17*((C87-H87-I87-J87/2)/C87))) | M87: =IF(A87="","",IF(B87="Ocijenjen",IF(K87>0.95,5,IF(K87>0.9,4,IF(K87>0.8,3,IF(K87>0.7,2,IF(K87>0.6,1,0))))),""))
A89: * Sud u kojem su formirana odjeljenja obavezan je da popuni Tabelu IIIb.
A90: ** Sud u Kolonu “Naziv odjeljenja” obavezan je da manuelno unese nazive svih formiranih odjeljenja u sudu.
A91: *** Sud u Koloni „Predsjednik odjeljenja je Ocjenjen / Nije ocjenjen“ obavezan je iz padajućeg menija odabrati „Ocjenjen“ ili „Nije ocjenjen“ tako da sud osigura da se za predsjednika odjeljenja unese isti podatak i u Tabelu IIIc (Ocjenjen u sudu – „Da“ ili „Ne“).
A92: NAPOMENA 3: U Tabelu IIIb se manuelno unose podaci o broju odluka iz Tabele IIIa. Podaci iz Tabele IIIa unose se u Tabelu IIIb na način da se podaci iz Tabele IIIa raspoređuju i zbirno iskazuju u Tabeli IIIb po pravnim oblastima za koja su formirana sudska odjeljenja. Npr. potvrđena odluka iz građanske oblasti iskazuje se u podacima o kolektivnom kvalitetu Građanskog odjeljenja bez obzira što je ožalbenu odluku donio sudija koji je odlukom o rasporedu poslova raspoređen u drugo odjeljenje. Sud je obavezan da u Tabelu IIIb unese podatke u Kolone I, III-VIII i X i u slučaju kada je u Koloni „Predsjednik odjeljenja je Ocjenjen / Nije ocjenjen“ iz padajućeg menija odabrano „Nije ocjenjen“. Ukupan broj odluka u sudu iz Tabele IIIa i IIIc mora biti jednak ukupnom broju odluka u Tabeli IIIb, u suprotnom aktiviraće se kontrolnici što ukazuje na potrebu provjere ispravnosti unosa podataka.
A93: NAPOMENA 4: Kolektivni kvalitet odluka odjeljenja (Kolona IX) i Broj bodova koji se dodjeljuje predsjedniku sudskog odjeljenja (Kolona XI) automatski se obračunavaju u skladu sa odredbom člana 21. Kriterija za ocjenjivanje rada predsjednika sudova i predsjednika sudskih odjeljenja u BiH.

Sheet tbl2_kvalitet_rada
A1: for_key | B1: godina | C1: lista_referata | D1: DonesOdluke | E1: OdbPrLijek | F1: PotvOdluke | G1: PreinOdluke | H1: PreinOdlukeNakonRasp | I1: UkinOdluke | J1: DjelimUkin | K1: UkinVracPonSud
A2: ='Tabela I'!$F$2 -> 0 | B2: ='Tabela I'!$F$1 -> 2019 | C2: 1 | D2: ='Tabela III'!B8 -> 475 | E2: ='Tabela III'!D8 -> 0 | F2: ='Tabela III'!E8 -> 57 | G2: ='Tabela III'!F8 -> 10 | H2: ='Tabela III'!G8 -> 0 | I2: ='Tabela III'!H8 -> 12 | J2: ='Tabela III'!I8 -> 1 | K2: ='Tabela III'!K8 -> 0
A3: ='Tabela I'!$F$2 -> 0 | B3: ='Tabela I'!$F$1 -> 2019 | C3: 3 | D3: ='Tabela III'!B9 -> 831 | E3: ='Tabela III'!D9 -> 0 | F3: ='Tabela III'!E9 -> 30 | G3: ='Tabela III'!F9 -> 2 | H3: ='Tabela III'!G9 -> 0 | I3: ='Tabela III'!H9 -> 0 | J3: ='Tabela III'!I9 -> 0 | K3: ='Tabela III'!K9 -> 0
A4: ='Tabela I'!$F$2 -> 0 | B4: ='Tabela I'!$F$1 -> 2019 | C4: 2 | D4: ='Tabela III'!B10 -> 67 | E4: ='Tabela III'!D10 -> 0 | F4: ='Tabela III'!E10 -> 13 | G4: ='Tabela III'!F10 -> 2 | H4: ='Tabela III'!G10 -> 0 | I4: ='Tabela III'!H10 -> 5 | J4: ='Tabela III'!I10 -> 0 | K4: ='Tabela III'!K10 -> 0
A5: ='Tabela I'!$F$2 -> 0 | B5: ='Tabela I'!$F$1 -> 2019 | C5: 96 | D5: ='Tabela III'!B11 -> 0 | E5: ='Tabela III'!D11 -> 0 | F5: ='Tabela III'!E11 -> 0 | G5: ='Tabela III'!F11 -> 0 | H5: ='Tabela III'!G11 -> 0 | I5: ='Tabela III'!H11 -> 0 | J5: ='Tabela III'!I11 -> 0 | K5: ='Tabela III'!K11 -> 0
A6: ='Tabela I'!$F$2 -> 0 | B6: ='Tabela I'!$F$1 -> 2019 | C6: 4 | D6: ='Tabela III'!B12 -> 14 | E6: ='Tabela III'!D12 -> 0 | F6: ='Tabela III'!E12 -> 11 | G6: ='Tabela III'!F12 -> 1 | H6: ='Tabela III'!G12 -> 0 | I6: ='Tabela III'!H12 -> 0 | J6: ='Tabela III'!I12 -> 0 | K6: ='Tabela III'!K12 -> 0
A7: ='Tabela I'!$F$2 -> 0 | B7: ='Tabela I'!$F$1 -> 2019 | C7: 5 | D7: ='Tabela III'!B14 -> 0 | E7: ='Tabela III'!D14 -> 0 | F7: ='Tabela III'!E14 -> 0 | G7: ='Tabela III'!F14 -> 0 | H7: ='Tabela III'!G14 -> 0 | I7: ='Tabela III'!H14 -> 0 | J7: ='Tabela III'!I14 -> 0 | K7: ='Tabela III'!K14 -> 0
A8: ='Tabela I'!$F$2 -> 0 | B8: ='Tabela I'!$F$1 -> 2019 | C8: 6 | D8: ='Tabela III'!B15 -> 0 | E8: ='Tabela III'!D15 -> 0 | F8: ='Tabela III'!E15 -> 0 | G8: ='Tabela III'!F15 -> 0 | H8: ='Tabela III'!G15 -> 0 | I8: ='Tabela III'!H15 -> 0 | J8: ='Tabela III'!I15 -> 0 | K8: ='Tabela III'!K15 -> 0
A9: ='Tabela I'!$F$2 -> 0 | B9: ='Tabela I'!$F$1 -> 2019 | C9: 7 | D9: ='Tabela III'!B16 -> 0 | E9: ='Tabela III'!D16 -> 0 | F9: ='Tabela III'!E16 -> 0 | G9: ='Tabela III'!F16 -> 0 | H9: ='Tabela III'!G16 -> 0 | I9: ='Tabela III'!H16 -> 0 | J9: ='Tabela III'!I16 -> 0 | K9: ='Tabela III'!K16 -> 0
A10: ='Tabela I'!$F$2 -> 0 | B10: ='Tabela I'!$F$1 -> 2019 | C10: 97 | D10: ='Tabela III'!B17 -> 0 | E10: ='Tabela III'!D17 -> 0 | F10: ='Tabela III'!E17 -> 0 | G10: ='Tabela III'!F17 -> 0 | H10: ='Tabela III'!G17 -> 0 | I10: ='Tabela III'!H17 -> 0 | J10: ='Tabela III'!I17 -> 0 | K10: ='Tabela III'!K17 -> 0
A11: ='Tabela I'!$F$2 -> 0 | B11: ='Tabela I'!$F$1 -> 2019 | C11: 8 | D11: ='Tabela III'!B18 -> 0 | E11: ='Tabela III'!D18 -> 0 | F11: ='Tabela III'!E18 -> 0 | G11: ='Tabela III'!F18 -> 0 | H11: ='Tabela III'!G18 -> 0 | I11: ='Tabela III'!H18 -> 0 | J11: ='Tabela III'!I18 -> 0 | K11: ='Tabela III'!K18 -> 0
A12: ='Tabela I'!$F$2 -> 0 | B12: ='Tabela I'!$F$1 -> 2019 | C12: 10 | D12: ='Tabela III'!B19 -> 0 | E12: ='Tabela III'!D19 -> 0 | F12: ='Tabela III'!E19 -> 0 | G12: ='Tabela III'!F19 -> 0 | H12: ='Tabela III'!G19 -> 0 | I12: ='Tabela III'!H19 -> 0 | J12: ='Tabela III'!I19 -> 0 | K12: ='Tabela III'!K19 -> 0
A13: ='Tabela I'!$F$2 -> 0 | B13: ='Tabela I'!$F$1 -> 2019 | C13: 11 | D13: ='Tabela III'!B21 -> 235 | E13: ='Tabela III'!D21 -> 0 | F13: ='Tabela III'!E21 -> 47 | G13: ='Tabela III'!F21 -> 12 | H13: ='Tabela III'!G21 -> 0 | I13: ='Tabela III'!H21 -> 16 | J13: ='Tabela III'!I21 -> 1 | K13: ='Tabela III'!K21 -> 0
A14: ='Tabela I'!$F$2 -> 0 | B14: ='Tabela I'!$F$1 -> 2019 | C14: 13 | D14: ='Tabela III'!B22 -> 125 | E14: ='Tabela III'!D22 -> 0 | F14: ='Tabela III'!E22 -> 1 | G14: ='Tabela III'!F22 -> 0 | H14: ='Tabela III'!G22 -> 0 | I14: ='Tabela III'!H22 -> 0 | J14: ='Tabela III'!I22 -> 0 | K14: ='Tabela III'!K22 -> 0
A15: ='Tabela I'!$F$2 -> 0 | B15: ='Tabela I'!$F$1 -> 2019 | C15: 12 | D15: ='Tabela III'!B23 -> 123 | E15: ='Tabela III'!D23 -> 0 | F15: ='Tabela III'!E23 -> 2 | G15: ='Tabela III'!F23 -> 0 | H15: ='Tabela III'!G23 -> 0 | I15: ='Tabela III'!H23 -> 0 | J15: ='Tabela III'!I23 -> 0 | K15: ='Tabela III'!K23 -> 0
A16: ='Tabela I'!$F$2 -> 0 | B16: ='Tabela I'!$F$1 -> 2019 | C16: 92 | D16: ='Tabela III'!B24 -> 0 | E16: ='Tabela III'!D24 -> 0 | F16: ='Tabela III'!E24 -> 0 | G16: ='Tabela III'!F24 -> 0 | H16: ='Tabela III'!G24 -> 0 | I16: ='Tabela III'!H24 -> 0 | J16: ='Tabela III'!I24 -> 0 | K16: ='Tabela III'!K24 -> 0
A17: ='Tabela I'!$F$2 -> 0 | B17: ='Tabela I'!$F$1 -> 2019 | C17: 93 | D17: ='Tabela III'!B25 -> 10 | E17: ='Tabela III'!D25 -> 0 | F17: ='Tabela III'!E25 -> 0 | G17: ='Tabela III'!F25 -> 0 | H17: ='Tabela III'!G25 -> 0 | I17: ='Tabela III'!H25 -> 1 | J17: ='Tabela III'!I25 -> 0 | K17: ='Tabela III'!K25 -> 0
A18: ='Tabela I'!$F$2 -> 0 | B18: ='Tabela I'!$F$1 -> 2019 | C18: 15 | D18: ='Tabela III'!B26 -> 7 | E18: ='Tabela III'!D26 -> 0 | F18: ='Tabela III'!E26 -> 0 | G18: ='Tabela III'!F26 -> 0 | H18: ='Tabela III'!G26 -> 0 | I18: ='Tabela III'!H26 -> 0 | J18: ='Tabela III'!I26 -> 0 | K18: ='Tabela III'!K26 -> 0
A19: ='Tabela I'!$F$2 -> 0 | B19: ='Tabela I'!$F$1 -> 2019 | C19: 16 | D19: ='Tabela III'!B27 -> 71 | E19: ='Tabela III'!D27 -> 0 | F19: ='Tabela III'!E27 -> 6 | G19: ='Tabela III'!F27 -> 0 | H19: ='Tabela III'!G27 -> 0 | I19: ='Tabela III'!H27 -> 1 | J19: ='Tabela III'!I27 -> 0 | K19: ='Tabela III'!K27 -> 0
A20: ='Tabela I'!$F$2 -> 0 | B20: ='Tabela I'!$F$1 -> 2019 | C20: 69 | D20: ='Tabela III'!B28 -> 0 | E20: ='Tabela III'!D28 -> 0 | F20: ='Tabela III'!E28 -> 0 | G20: ='Tabela III'!F28 -> 0 | H20: ='Tabela III'!G28 -> 0 | I20: ='Tabela III'!H28 -> 0 | J20: ='Tabela III'!I28 -> 0 | K20: ='Tabela III'!K28 -> 0
A21: ='Tabela I'!$F$2 -> 0 | B21: ='Tabela I'!$F$1 -> 2019 | C21: 17 | D21: ='Tabela III'!B29 -> 2 | E21: ='Tabela III'!D29 -> 0 | F21: ='Tabela III'!E29 -> 0 | G21: ='Tabela III'!F29 -> 0 | H21: ='Tabela III'!G29 -> 0 | I21: ='Tabela III'!H29 -> 0 | J21: ='Tabela III'!I29 -> 0 | K21: ='Tabela III'!K29 -> 0
A22: ='Tabela I'!$F$2 -> 0 | B22: ='Tabela I'!$F$1 -> 2019 | C22: 18 | D22: ='Tabela III'!B30 -> 140 | E22: ='Tabela III'!D30 -> 0 | F22: ='Tabela III'!E30 -> 3 | G22: ='Tabela III'!F30 -> 0 | H22: ='Tabela III'!G30 -> 0 | I22: ='Tabela III'!H30 -> 0 | J22: ='Tabela III'!I30 -> 0 | K22: ='Tabela III'!K30 -> 0
A23: ='Tabela I'!$F$2 -> 0 | B23: ='Tabela I'!$F$1 -> 2019 | C23: 98 | D23: ='Tabela III'!B31 -> 0 | E23: ='Tabela III'!D31 -> 0 | F23: ='Tabela III'!E31 -> 0 | G23: ='Tabela III'!F31 -> 0 | H23: ='Tabela III'!G31 -> 0 | I23: ='Tabela III'!H31 -> 0 | J23: ='Tabela III'!I31 -> 0 | K23: ='Tabela III'!K31 -> 0
A24: ='Tabela I'!$F$2 -> 0 | B24: ='Tabela I'!$F$1 -> 2019 | C24: 19 | D24: ='Tabela III'!B32 -> 6 | E24: ='Tabela III'!D32 -> 0 | F24: ='Tabela III'!E32 -> 1 | G24: ='Tabela III'!F32 -> 0 | H24: ='Tabela III'!G32 -> 0 | I24: ='Tabela III'!H32 -> 1 | J24: ='Tabela III'!I32 -> 0 | K24: ='Tabela III'!K32 -> 0
A25: ='Tabela I'!$F$2 -> 0 | B25: ='Tabela I'!$F$1 -> 2019 | C25: 20 | D25: ='Tabela III'!B34 -> 1830 | E25: ='Tabela III'!D34 -> 0 | F25: ='Tabela III'!E34 -> 95 | G25: ='Tabela III'!F34 -> 2 | H25: ='Tabela III'!G34 -> 0 | I25: ='Tabela III'!H34 -> 14 | J25: ='Tabela III'!I34 -> 0 | K25: ='Tabela III'!K34 -> 0
A26: ='Tabela I'!$F$2 -> 0 | B26: ='Tabela I'!$F$1 -> 2019 | C26: 21 | D26: ='Tabela III'!B35 -> 133 | E26: ='Tabela III'!D35 -> 0 | F26: ='Tabela III'!E35 -> 5 | G26: ='Tabela III'!F35 -> 1 | H26: ='Tabela III'!G35 -> 0 | I26: ='Tabela III'!H35 -> 0 | J26: ='Tabela III'!I35 -> 0 | K26: ='Tabela III'!K35 -> 0
A27: ='Tabela I'!$F$2 -> 0 | B27: ='Tabela I'!$F$1 -> 2019 | C27: 22 | D27: ='Tabela III'!B36 -> 1780 | E27: ='Tabela III'!D36 -> 0 | F27: ='Tabela III'!E36 -> 0 | G27: ='Tabela III'!F36 -> 0 | H27: ='Tabela III'!G36 -> 0 | I27: ='Tabela III'!H36 -> 0 | J27: ='Tabela III'!I36 -> 0 | K27: ='Tabela III'!K36 -> 0
A28: ='Tabela I'!$F$2 -> 0 | B28: ='Tabela I'!$F$1 -> 2019 | C28: 23 | D28: ='Tabela III'!B38 -> 225 | E28: ='Tabela III'!D38 -> 0 | F28: ='Tabela III'!E38 -> 7 | G28: ='Tabela III'!F38 -> 0 | H28: ='Tabela III'!G38 -> 0 | I28: ='Tabela III'!H38 -> 3 | J28: ='Tabela III'!I38 -> 1 | K28: ='Tabela III'!K38 -> 0
A29: ='Tabela I'!$F$2 -> 0 | B29: ='Tabela I'!$F$1 -> 2019 | C29: 24 | D29: ='Tabela III'!B39 -> 980 | E29: ='Tabela III'!D39 -> 0 | F29: ='Tabela III'!E39 -> 1 | G29: ='Tabela III'!F39 -> 0 | H29: ='Tabela III'!G39 -> 0 | I29: ='Tabela III'!H39 -> 0 | J29: ='Tabela III'!I39 -> 0 | K29: ='Tabela III'!K39 -> 0
A30: ='Tabela I'!$F$2 -> 0 | B30: ='Tabela I'!$F$1 -> 2019 | C30: 25 | D30: ='Tabela III'!B40 -> 23 | E30: ='Tabela III'!D40 -> 0 | F30: ='Tabela III'!E40 -> 0 | G30: ='Tabela III'!F40 -> 0 | H30: ='Tabela III'!G40 -> 0 | I30: ='Tabela III'!H40 -> 0 | J30: ='Tabela III'!I40 -> 0 | K30: ='Tabela III'!K40 -> 0
A31: ='Tabela I'!$F$2 -> 0 | B31: ='Tabela I'!$F$1 -> 2019 | C31: 28 | D31: ='Tabela III'!B42 -> 1460 | E31: ='Tabela III'!D42 -> 0 | F31: ='Tabela III'!E42 -> 42 | G31: ='Tabela III'!F42 -> 8 | H31: ='Tabela III'!G42 -> 0 | I31: ='Tabela III'!H42 -> 4 | J31: ='Tabela III'!I42 -> 0 | K31: ='Tabela III'!K42 -> 0
A32: ='Tabela I'!$F$2 -> 0 | B32: ='Tabela I'!$F$1 -> 2019 | C32: 122 | D32: ='Tabela III'!B43 -> 461 | E32: ='Tabela III'!D43 -> 0 | F32: ='Tabela III'!E43 -> 0 | G32: ='Tabela III'!F43 -> 0 | H32: ='Tabela III'!G43 -> 0 | I32: ='Tabela III'!H43 -> 1 | J32: ='Tabela III'!I43 -> 0 | K32: ='Tabela III'!K43 -> 0
A33: ='Tabela I'!$F$2 -> 0 | B33: ='Tabela I'!$F$1 -> 2019 | C33: 26 | D33: ='Tabela III'!B45 -> 0 | E33: ='Tabela III'!D45 -> 0 | F33: ='Tabela III'!E45 -> 0 | G33: ='Tabela III'!F45 -> 0 | H33: ='Tabela III'!G45 -> 0 | I33: ='Tabela III'!H45 -> 0 | J33: ='Tabela III'!I45 -> 0 | K33: ='Tabela III'!K45 -> 0
D34: =SUM(D2:D33) -> 8998 | E34: =SUM(E2:E33) -> 0 | F34: =SUM(F2:F33) -> 321 | G34: =SUM(G2:G33) -> 38 | H34: =SUM(H2:H33) -> 0 | I34: =SUM(I2:I33) -> 58 | J34: =SUM(J2:J33) -> 3 | K34: =SUM(K2:K33) -> 0
A38: for_key | B38: godina | C38: Odjel | D38: DonesOdluke | E38: OdbPrLijek | F38: PotvOdluke | G38: PreinOdluke | H38: PreinOdlukeNakonRasp | I38: UkinOdluke | J38: DjelimUkin | K38: UkinVracPonSud
A39: ='Tabela I'!$F$2 -> 0 | B39: ='Tabela I'!$F$1 -> 2019 | C39: =+'Tabela III'!#REF! -> #REF! | D39: =+'Tabela III'!#REF! -> #REF! | E39: =+'Tabela III'!#REF! -> #REF! | F39: =+'Tabela III'!#REF! -> #REF! | G39: =+'Tabela III'!#REF! -> #REF! | H39: =+'Tabela III'!#REF! -> #REF! | I39: =+'Tabela III'!#REF! -> #REF! | J39: =+'Tabela III'!#REF! -> #REF! | K39: =+'Tabela III'!#REF! -> #REF!
A40: ='Tabela I'!$F$2 -> 0 | B40: ='Tabela I'!$F$1 -> 2019 | C40: =+'Tabela III'!#REF! -> #REF! | D40: =+'Tabela III'!#REF! -> #REF! | E40: =+'Tabela III'!#REF! -> #REF! | F40: =+'Tabela III'!#REF! -> #REF! | G40: =+'Tabela III'!#REF! -> #REF! | H40: =+'Tabela III'!#REF! -> #REF! | I40: =+'Tabela III'!#REF! -> #REF! | J40: =+'Tabela III'!#REF! -> #REF! | K40: =+'Tabela III'!#REF! -> #REF!
A41: ='Tabela I'!$F$2 -> 0 | B41: ='Tabela I'!$F$1 -> 2019 | C41: =+'Tabela III'!#REF! -> #REF! | D41: =+'Tabela III'!#REF! -> #REF! | E41: =+'Tabela III'!#REF! -> #REF! | F41: =+'Tabela III'!#REF! -> #REF! | G41: =+'Tabela III'!#REF! -> #REF! | H41: =+'Tabela III'!#REF! -> #REF! | I41: =+'Tabela III'!#REF! -> #REF! | J41: =+'Tabela III'!#REF! -> #REF! | K41: =+'Tabela III'!#REF! -> #REF!
A42: ='Tabela I'!$F$2 -> 0 | B42: ='Tabela I'!$F$1 -> 2019 | C42: =+'Tabela III'!#REF! -> #REF! | D42: =+'Tabela III'!#REF! -> #REF! | E42: =+'Tabela III'!#REF! -> #REF! | F42: =+'Tabela III'!#REF! -> #REF! | G42: =+'Tabela III'!#REF! -> #REF! | H42: =+'Tabela III'!#REF! -> #REF! | I42: =+'Tabela III'!#REF! -> #REF! | J42: =+'Tabela III'!#REF! -> #REF! | K42: =+'Tabela III'!#REF! -> #REF!
A43: ='Tabela I'!$F$2 -> 0 | B43: ='Tabela I'!$F$1 -> 2019 | C43: =+'Tabela III'!#REF! -> #REF! | D43: =+'Tabela III'!#REF! -> #REF! | E43: =+'Tabela III'!#REF! -> #REF! | F43: =+'Tabela III'!#REF! -> #REF! | G43: =+'Tabela III'!#REF! -> #REF! | H43: =+'Tabela III'!#REF! -> #REF! | I43: =+'Tabela III'!#REF! -> #REF! | J43: =+'Tabela III'!#REF! -> #REF! | K43: =+'Tabela III'!#REF! -> #REF!
A44: ='Tabela I'!$F$2 -> 0 | B44: ='Tabela I'!$F$1 -> 2019 | C44: =+'Tabela III'!#REF! -> #REF! | D44: =+'Tabela III'!#REF! -> #REF! | E44: =+'Tabela III'!#REF! -> #REF! | F44: =+'Tabela III'!#REF! -> #REF! | G44: =+'Tabela III'!#REF! -> #REF! | H44: =+'Tabela III'!#REF! -> #REF! | I44: =+'Tabela III'!#REF! -> #REF! | J44: =+'Tabela III'!#REF! -> #REF! | K44: =+'Tabela III'!#REF! -> #REF!
A45: ='Tabela I'!$F$2 -> 0 | B45: ='Tabela I'!$F$1 -> 2019 | C45: =+'Tabela III'!#REF! -> #REF! | D45: =+'Tabela III'!#REF! -> #REF! | E45: =+'Tabela III'!#REF! -> #REF! | F45: =+'Tabela III'!#REF! -> #REF! | G45: =+'Tabela III'!#REF! -> #REF! | H45: =+'Tabela III'!#REF! -> #REF! | I45: =+'Tabela III'!#REF! -> #REF! | J45: =+'Tabela III'!#REF! -> #REF! | K45: =+'Tabela III'!#REF! -> #REF!
A46: ='Tabela I'!$F$2 -> 0 | B46: ='Tabela I'!$F$1 -> 2019 | C46: =+'Tabela III'!#REF! -> #REF! | D46: =+'Tabela III'!#REF! -> #REF! | E46: =+'Tabela III'!#REF! -> #REF! | F46: =+'Tabela III'!#REF! -> #REF! | G46: =+'Tabela III'!#REF! -> #REF! | H46: =+'Tabela III'!#REF! -> #REF! | I46: =+'Tabela III'!#REF! -> #REF! | J46: =+'Tabela III'!#REF! -> #REF! | K46: =+'Tabela III'!#REF! -> #REF!
A47: ='Tabela I'!$F$2 -> 0 | B47: ='Tabela I'!$F$1 -> 2019 | C47: =+'Tabela III'!#REF! -> #REF! | D47: =+'Tabela III'!#REF! -> #REF! | E47: =+'Tabela III'!#REF! -> #REF! | F47: =+'Tabela III'!#REF! -> #REF! | G47: =+'Tabela III'!#REF! -> #REF! | H47: =+'Tabela III'!#REF! -> #REF! | I47: =+'Tabela III'!#REF! -> #REF! | J47: =+'Tabela III'!#REF! -> #REF! | K47: =+'Tabela III'!#REF! -> #REF!
A48: ='Tabela I'!$F$2 -> 0 | B48: ='Tabela I'!$F$1 -> 2019 | C48: =+'Tabela III'!#REF! -> #REF! | D48: =+'Tabela III'!#REF! -> #REF! | E48: =+'Tabela III'!#REF! -> #REF! | F48: =+'Tabela III'!#REF! -> #REF! | G48: =+'Tabela III'!#REF! -> #REF! | H48: =+'Tabela III'!#REF! -> #REF! | I48: =+'Tabela III'!#REF! -> #REF! | J48: =+'Tabela III'!#REF! -> #REF! | K48: =+'Tabela III'!#REF! -> #REF!
A49: ='Tabela I'!$F$2 -> 0 | B49: ='Tabela I'!$F$1 -> 2019 | C49: =+'Tabela III'!#REF! -> #REF! | D49: =+'Tabela III'!#REF! -> #REF! | E49: =+'Tabela III'!#REF! -> #REF! | F49: =+'Tabela III'!#REF! -> #REF! | G49: =+'Tabela III'!#REF! -> #REF! | H49: =+'Tabela III'!#REF! -> #REF! | I49: =+'Tabela III'!#REF! -> #REF! | J49: =+'Tabela III'!#REF! -> #REF! | K49: =+'Tabela III'!#REF! -> #REF!
A50: ='Tabela I'!$F$2 -> 0 | B50: ='Tabela I'!$F$1 -> 2019 | C50: =+'Tabela III'!#REF! -> #REF! | D50: =+'Tabela III'!#REF! -> #REF! | E50: =+'Tabela III'!#REF! -> #REF! | F50: =+'Tabela III'!#REF! -> #REF! | G50: =+'Tabela III'!#REF! -> #REF! | H50: =+'Tabela III'!#REF! -> #REF! | I50: =+'Tabela III'!#REF! -> #REF! | J50: =+'Tabela III'!#REF! -> #REF! | K50: =+'Tabela III'!#REF! -> #REF!
... A53: ='Tabela I'!$F$2 -> 0 | B53: ='Tabela I'!$F$1 -> 2019 | C53: =+'Tabela III'!#REF! -> #REF! | D53: =+'Tabela III'!#REF! -> #REF! | E53: =+'Tabela III'!#REF! -> #REF! | F53: =+'Tabela III'!#REF! -> #REF! | G53: =+'Tabela III'!#REF! -> #REF! | H53: =+'Tabela III'!#REF! -> #REF! | I53: =+'Tabela III'!#REF! -> #REF! | J53: =+'Tabela III'!#REF! -> #REF! | K53: =+'Tabela III'!#REF! -> #REF!
D54: =SUM(D39:D53) -> #REF! | E54: =SUM(E39:E53) -> #REF! | F54: =SUM(F39:F53) -> #REF! | G54: =SUM(G39:G53) -> #REF! | H54: =SUM(H39:H53) -> #REF! | I54: =SUM(I39:I53) -> #REF! | J54: =SUM(J39:J53) -> #REF! | K54: =SUM(K39:K53) -> #REF!

Sheet Tabela IIIc
A1: =+'Tabela I'!A1 -> Općinski/Osnovni sud: | E1: =+'Tabela I'!C1 -> Bugojno
A2: Izvještajni period: | E2: =+'Tabela I'!C2 -> 1.1.2019.- 31.12.2019.
A3: Tabela IIIc - Kvalitet sudskih sudskih odluka po nosiocima pravosudnih funkcija - Elektronski obrazac za obračun kvaliteta odluka iz člana 13. Kriterija za ocjenjivanje rada sudija u BiH i člana 8. Kriterija za ocjenjivanje rada predsjednika sudova i predsjednika sudskih odjeljenja u BiH (pogledati NAPOMENU 2 i 3)
A5: Redni broj | B5: Ime i prezime - podatak je automatski prenesen iz Tabele IIa - OBAVEZNO ZADRŽATI REDOSLIJED NPF-a iz Tabele IIa | C5: Naziv odjela - podatak je automatski prenesen iz Tabele IIa - OBAVEZNO ZADRŽATI REDOSLIJED NPF-a iz Tabele IIa | D5: Pravosudna funkcija - podatak je automatski prenesen iz Tabele IIa - OBAVEZNO ZADRŽATI REDOSLIJED NPF-a iz Tabele IIa | E5: Ocijenjen / Nije ocijenjen u sudu | F5: Ukupan broj donesenih odluka na koje se može izjaviti pravni lijek | G5: Ukupan broj ožalbenih odluka | H5: Broj odbačenih pravnih lijekova*** | I5: Broj potvrđenih odluka | J5: Broj preinačenih odluka | K5: Broj preinačenih odluka donijetih na raspravi ili na pretresu pred višim sudom**** | L5: Broj ukinutih odluka | M5: Broj djelimično ukinutih odluka | N5: Kvalitet sudskih odluka prema članu 18. stav (1) tačka a) Kriterija (S) i članu 17. stav (1) Kriterija (PS i PSO) | O5: Broj ostvarenih bodova za kvalitet prema članu 18. stav (1) tačka a) Kriterija (S) i članu 17. stav (1) Kriterija (PS i PSO) | P5: Kvalitet sudskih odluka prema članu 18. stav (1) tačka b) Kriterija (S) i članu 17. stav (2) Kriterija (PS i PSO) | Q5: Broj ostvarenih bodova za kvalitet prema članu 18. stav 1. tačka b) Kriterija (S) i članu 17. stav (2) Kriterija (PS i PSO) | R5: UKUPAN broj ostvarenih bodova za kvalitet sudskih odluka
I6: Odbijen pravni lijek
A7: I | B7: II | C7: III | D7: III | E7: IV | F7: V | G7: VI | H7: VII | I7: VIII | J7: IX | K7: X | L7: XI | M7: XII | N7: XIII | O7: XIV | P7: XV | Q7: XVI | R7: XVII
A9: 1 | B9: =IF('Tabela II'!B8="","",'Tabela II'!B8) -> Randžana Hadžibegović Haračić | D9: Predsjednik suda * | E9: Ocijenjen | F9: 263 | G9: =SUM(I9:M9) -> 21 | I9: 16 | J9: 1 | L9: 4 | N9: =IF(E9="","",IF(E9="Nije ocijenjen ili Ne treba raditi na predmetima","",IF(E9="Ocijenjen",IF(G9<10,"Član 18. stav 7. Kriterija",(L9+(M9/2))/(G9))))) -> 0.19047619 | O9: =IF(E9="","",IF(E9="Nije ocijenjen ili Ne treba raditi na predmetima","",IF(E9="Ocijenjen",IF(N9="Član 18. stav 7. Kriterija","",IF(N9>0.4,0,IF(N9>0.3,1,IF(N9>0.2,2,IF(N9>0.1,3,IF(N9>0.05,4,IF(N9<=0.05,5,)))))))))) -> 3 | P9: =IF(E9="","",IF(E9="Nije ocijenjen ili Ne treba raditi na predmetima","",IF(E9="Ocijenjen",IF(F9=0,"",((L9+K9+(M9/2))/(F9)))))) -> 0.015209125 | Q9: =IF(E9="","",IF(E9="Nije ocijenjen ili Ne treba raditi na predmetima","",IF(E9="Ocijenjen",IF(P9>0.2,0,IF(P9>0.15,1,IF(P9>0.1,2,IF(P9>0.06,3,IF(P9>0.03,4,IF(P9<=0.03,5,))))))))) -> 5 | R9: =IF(E9="","",IF(E9="Nije ocijenjen ili Ne treba raditi na predmetima","",IF(E9="Ocijenjen",IF(N9="Član 18. stav 7. Kriterija",Q9,O9+Q9)))) -> 8 | V9: Ocijenjen
A10: 2 | B10: =IF('Tabela II'!B10="","",'Tabela II'!B10) -> Amira Ždralović | C10: =IF('Tabela II'!D10="","",'Tabela II'!D10) -> Parnični | D10: =IF('Tabela II'!E10="","",'Tabela II'!E10) -> Predsjednik odjela | E10: Ocijenjen | F10: 403 | G10: =SUM(I10:M10) -> 38 | I10: 33 | J10: 1 | L10: 4 | N10: =IF(E10="","",IF(E10="Nije ocijenjen","",IF(E10="Ocijenjen",IF(G10<10,"Član 18. stav 7. Kriterija",(L10+(M10/2))/(G10))))) -> 0.10526316 | O10: =IF(E10="","",IF(E10="Nije ocijenjen","",IF(E10="Ocijenjen",IF(N10="Član 18. stav 7. Kriterija","",IF(N10>0.4,0,IF(N10>0.3,5,IF(N10>0.2,10,IF(N10>0.1,15,IF(N10>0.05,20,IF(N10<=0.05,25,)))))))))) -> 15 | P10: =IF(E10="","",IF(E10="Nije ocijenjen","",IF(E10="Ocijenjen",IF(F10=0,"",((L10+K10+(M10/2))/(F10)))))) -> 0.0099255583 | Q10: =IF(E10="","",IF(E10="Nije ocijenjen","",IF(E10="Ocijenjen",IF(P10>0.2,0,IF(P10>0.15,1,IF(P10>0.1,2,IF(P10>0.06,3,IF(P10>0.03,4,IF(P10<=0.03,5,))))))))) -> 5 | R10: =IF(E10="","",IF(E10="Nije ocijenjen","",IF(E10="Ocijenjen",IF(N10="Član 18. stav 7. Kriterija",Q10,O10+Q10)))) -> 20 | T10: Sudija | V10: Nije ocijenjen
A11: 3 | B11: =IF('Tabela II'!B11="","",'Tabela II'!B11) -> Darko Solomun | C11: =IF('Tabela II'!D11="","",'Tabela II'!D11) -> Krivično-prekršajni | D11: =IF('Tabela II'!E11="","",'Tabela II'!E11) -> Predsjednik odjela | E11: Ocijenjen | F11: 342 | G11: =SUM(I11:M11) -> 42.5 | I11: 27 | J11: 6.5 | L11: 8 | M11: 1 | N11: =IF(E11="","",IF(E11="Nije ocijenjen","",IF(E11="Ocijenjen",IF(G11<10,"Član 18. stav 7. Kriterija",(L11+(M11/2))/(G11))))) -> 0.2 | O11: =IF(E11="","",IF(E11="Nije ocijenjen","",IF(E11="Ocijenjen",IF(N11="Član 18. stav 7. Kriterija","",IF(N11>0.4,0,IF(N11>0.3,5,IF(N11>0.2,10,IF(N11>0.1,15,IF(N11>0.05,20,IF(N11<=0.05,25,)))))))))) -> 15 | P11: =IF(E11="","",IF(E11="Nije ocijenjen","",IF(E11="Ocijenjen",IF(F11=0,"",((L11+K11+(M11/2))/(F11)))))) -> 0.024853801 | Q11: =IF(E11="","",IF(E11="Nije ocijenjen","",IF(E11="Ocijenjen",IF(P11>0.2,0,IF(P11>0.15,1,IF(P11>0.1,2,IF(P11>0.06,3,IF(P11>0.03,4,IF(P11<=0.03,5,))))))))) -> 5 | R11: =IF(E11="","",IF(E11="Nije ocijenjen","",IF(E11="Ocijenjen",IF(N11="Član 18. stav 7. Kriterija",Q11,O11+Q11)))) -> 20 | T11: Stručni saradnik
A12: 4 | B12: =IF('Tabela II'!B12="","",'Tabela II'!B12) -> Nebojša Vrhovac | C12: =IF('Tabela II'!D12="","",'Tabela II'!D12) -> Izvršni | D12: =IF('Tabela II'!E12="","",'Tabela II'!E12) -> Predsjednik odjela | E12: Ocijenjen | F12: 582 | G12: =SUM(I12:M12) -> 13 | I12: 12 | J12: 0 | L12: 1 | N12: =IF(E12="","",IF(E12="Nije ocijenjen","",IF(E12="Ocijenjen",IF(G12<10,"Član 18. stav 7. Kriterija",(L12+(M12/2))/(G12))))) -> 0.076923077 | O12: =IF(E12="","",IF(E12="Nije ocijenjen","",IF(E12="Ocijenjen",IF(N12="Član 18. stav 7. Kriterija","",IF(N12>0.4,0,IF(N12>0.3,5,IF(N12>0.2,10,IF(N12>0.1,15,IF(N12>0.05,20,IF(N12<=0.05,25,)))))))))) -> 20 | P12: =IF(E12="","",IF(E12="Nije ocijenjen","",IF(E12="Ocijenjen",IF(F12=0,"",((L12+K12+(M12/2))/(F12)))))) -> 0.0017182131 | Q12: =IF(E12="","",IF(E12="Nije ocijenjen","",IF(E12="Ocijenjen",IF(P12>0.2,0,IF(P12>0.15,1,IF(P12>0.1,2,IF(P12>0.06,3,IF(P12>0.03,4,IF(P12<=0.03,5,))))))))) -> 5 | R12: =IF(E12="","",IF(E12="Nije ocijenjen","",IF(E12="Ocijenjen",IF(N12="Član 18. stav 7. Kriterija",Q12,O12+Q12)))) -> 25 | T12: Predsjednik odjela
A13: 5 | B13: =IF('Tabela II'!B13="","",'Tabela II'!B13) -> Safet Žuljko | C13: =IF('Tabela II'!D13="","",'Tabela II'!D13) -> Krivično-prekršajni | D13: =IF('Tabela II'!E13="","",'Tabela II'!E13) -> Sudija | E13: Ocijenjen | F13: 1033 | G13: =SUM(I13:M13) -> 31.5 | I13: 24 | J13: 1.5 | L13: 6 | N13: =IF(E13="","",IF(E13="Nije ocijenjen","",IF(E13="Ocijenjen",IF(G13<10,"Član 18. stav 7. Kriterija",(L13+(M13/2))/(G13))))) -> 0.19047619 | O13: =IF(E13="","",IF(E13="Nije ocijenjen","",IF(E13="Ocijenjen",IF(N13="Član 18. stav 7. Kriterija","",IF(N13>0.4,0,IF(N13>0.3,5,IF(N13>0.2,10,IF(N13>0.1,15,IF(N13>0.05,20,IF(N13<=0.05,25,)))))))))) -> 15 | P13: =IF(E13="","",IF(E13="Nije ocijenjen","",IF(E13="Ocijenjen",IF(F13=0,"",((L13+K13+(M13/2))/(F13)))))) -> 0.0058083253 | Q13: =IF(E13="","",IF(E13="Nije ocijenjen","",IF(E13="Ocijenjen",IF(P13>0.2,0,IF(P13>0.15,1,IF(P13>0.1,2,IF(P13>0.06,3,IF(P13>0.03,4,IF(P13<=0.03,5,))))))))) -> 5 | R13: =IF(E13="","",IF(E13="Nije ocijenjen","",IF(E13="Ocijenjen",IF(N13="Član 18. stav 7. Kriterija",Q13,O13+Q13)))) -> 20 | T13: Predsjednik sudskog vijeća vrhovnog suda entiteta
A14: 6 | B14: =IF('Tabela II'!B14="","",'Tabela II'!B14) -> Katica Soldo | C14: =IF('Tabela II'!D14="","",'Tabela II'!D14) -> Parnični | D14: =IF('Tabela II'!E14="","",'Tabela II'!E14) -> Sudija | E14: Ocijenjen | F14: 421 | G14: =SUM(I14:M14) -> 45 | I14: 29 | J14: 8 | L14: 8 | N14: =IF(E14="","",IF(E14="Nije ocijenjen","",IF(E14="Ocijenjen",IF(G14<10,"Član 18. stav 7. Kriterija",(L14+(M14/2))/(G14))))) -> 0.17777778 | O14: =IF(E14="","",IF(E14="Nije ocijenjen","",IF(E14="Ocijenjen",IF(N14="Član 18. stav 7. Kriterija","",IF(N14>0.4,0,IF(N14>0.3,5,IF(N14>0.2,10,IF(N14>0.1,15,IF(N14>0.05,20,IF(N14<=0.05,25,)))))))))) -> 15 | P14: =IF(E14="","",IF(E14="Nije ocijenjen","",IF(E14="Ocijenjen",IF(F14=0,"",((L14+K14+(M14/2))/(F14)))))) -> 0.019002375 | Q14: =IF(E14="","",IF(E14="Nije ocijenjen","",IF(E14="Ocijenjen",IF(P14>0.2,0,IF(P14>0.15,1,IF(P14>0.1,2,IF(P14>0.06,3,IF(P14>0.03,4,IF(P14<=0.03,5,))))))))) -> 5 | R14: =IF(E14="","",IF(E14="Nije ocijenjen","",IF(E14="Ocijenjen",IF(N14="Član 18. stav 7. Kriterija",Q14,O14+Q14)))) -> 20
A15: 7 | B15: =IF('Tabela II'!B15="","",'Tabela II'!B15) -> Lejla Nurikić | C15: =IF('Tabela II'!D15="","",'Tabela II'!D15) -> Parnični | D15: =IF('Tabela II'!E15="","",'Tabela II'!E15) -> Sudija | E15: Ocijenjen | F15: 488 | G15: =SUM(I15:M15) -> 37 | I15: 29 | J15: 4 | L15: 4 | N15: =IF(E15="","",IF(E15="Nije ocijenjen","",IF(E15="Ocijenjen",IF(G15<10,"Član 18. stav 7. Kriterija",(L15+(M15/2))/(G15))))) -> 0.10810811 | O15: =IF(E15="","",IF(E15="Nije ocijenjen","",IF(E15="Ocijenjen",IF(N15="Član 18. stav 7. Kriterija","",IF(N15>0.4,0,IF(N15>0.3,5,IF(N15>0.2,10,IF(N15>0.1,15,IF(N15>0.05,20,IF(N15<=0.05,25,)))))))))) -> 15 | P15: =IF(E15="","",IF(E15="Nije ocijenjen","",IF(E15="Ocijenjen",IF(F15=0,"",((L15+K15+(M15/2))/(F15)))))) -> 0.0081967213 | Q15: =IF(E15="","",IF(E15="Nije ocijenjen","",IF(E15="Ocijenjen",IF(P15>0.2,0,IF(P15>0.15,1,IF(P15>0.1,2,IF(P15>0.06,3,IF(P15>0.03,4,IF(P15<=0.03,5,))))))))) -> 5 | R15: =IF(E15="","",IF(E15="Nije ocijenjen","",IF(E15="Ocijenjen",IF(N15="Član 18. stav 7. Kriterija",Q15,O15+Q15)))) -> 20
A16: 8 | B16: =IF('Tabela II'!B16="","",'Tabela II'!B16) -> Janja Pilić | C16: =IF('Tabela II'!D16="","",'Tabela II'!D16) -> Parnični | D16: =IF('Tabela II'!E16="","",'Tabela II'!E16) -> Sudija | E16: Ocijenjen | F16: 548 | G16: =SUM(I16:M16) -> 37 | I16: 31 | J16: 3 | L16: 3 | N16: =IF(E16="","",IF(E16="Nije ocijenjen","",IF(E16="Ocijenjen",IF(G16<10,"Član 18. stav 7. Kriterija",(L16+(M16/2))/(G16))))) -> 0.081081081 | O16: =IF(E16="","",IF(E16="Nije ocijenjen","",IF(E16="Ocijenjen",IF(N16="Član 18. stav 7. Kriterija","",IF(N16>0.4,0,IF(N16>0.3,5,IF(N16>0.2,10,IF(N16>0.1,15,IF(N16>0.05,20,IF(N16<=0.05,25,)))))))))) -> 20 | P16: =IF(E16="","",IF(E16="Nije ocijenjen","",IF(E16="Ocijenjen",IF(F16=0,"",((L16+K16+(M16/2))/(F16)))))) -> 0.0054744526 | Q16: =IF(E16="","",IF(E16="Nije ocijenjen","",IF(E16="Ocijenjen",IF(P16>0.2,0,IF(P16>0.15,1,IF(P16>0.1,2,IF(P16>0.06,3,IF(P16>0.03,4,IF(P16<=0.03,5,))))))))) -> 5 | R16: =IF(E16="","",IF(E16="Nije ocijenjen","",IF(E16="Ocijenjen",IF(N16="Član 18. stav 7. Kriterija",Q16,O16+Q16)))) -> 25 | V16: Ocijenjen
A17: 9 | B17: =IF('Tabela II'!B17="","",'Tabela II'!B17) -> Samil Ramić | C17: =IF('Tabela II'!D17="","",'Tabela II'!D17) -> Izvršni | D17: =IF('Tabela II'!E17="","",'Tabela II'!E17) -> Sudija | E17: Ocijenjen | F17: 569 | G17: =SUM(I17:M17) -> 40.5 | I17: 31 | J17: 4.5 | L17: 5 | N17: =IF(E17="","",IF(E17="Nije ocijenjen","",IF(E17="Ocijenjen",IF(G17<10,"Član 18. stav 7. Kriterija",(L17+(M17/2))/(G17))))) -> 0.12345679 | O17: =IF(E17="","",IF(E17="Nije ocijenjen","",IF(E17="Ocijenjen",IF(N17="Član 18. stav 7. Kriterija","",IF(N17>0.4,0,IF(N17>0.3,5,IF(N17>0.2,10,IF(N17>0.1,15,IF(N17>0.05,20,IF(N17<=0.05,25,)))))))))) -> 15 | P17: =IF(E17="","",IF(E17="Nije ocijenjen","",IF(E17="Ocijenjen",IF(F17=0,"",((L17+K17+(M17/2))/(F17)))))) -> 0.0087873462 | Q17: =IF(E17="","",IF(E17="Nije ocijenjen","",IF(E17="Ocijenjen",IF(P17>0.2,0,IF(P17>0.15,1,IF(P17>0.1,2,IF(P17>0.06,3,IF(P17>0.03,4,IF(P17<=0.03,5,))))))))) -> 5 | R17: =IF(E17="","",IF(E17="Nije ocijenjen","",IF(E17="Ocijenjen",IF(N17="Član 18. stav 7. Kriterija",Q17,O17+Q17)))) -> 20 | V17: Nije ocijenjen ili Ne treba raditi na predmetima
A18: 10 | B18: =IF('Tabela II'!B18="","",'Tabela II'!B18) -> Ivan Gudelj | C18: =IF('Tabela II'!D18="","",'Tabela II'!D18) -> Izvršni | D18: =IF('Tabela II'!E18="","",'Tabela II'!E18) -> Sudija | E18: Ocijenjen | F18: 608 | G18: =SUM(I18:M18) -> 17.5 | I18: 13 | J18: 0.5 | L18: 4 | N18: =IF(E18="","",IF(E18="Nije ocijenjen","",IF(E18="Ocijenjen",IF(G18<10,"Član 18. stav 7. Kriterija",(L18+(M18/2))/(G18))))) -> 0.22857143 | O18: =IF(E18="","",IF(E18="Nije ocijenjen","",IF(E18="Ocijenjen",IF(N18="Član 18. stav 7. Kriterija","",IF(N18>0.4,0,IF(N18>0.3,5,IF(N18>0.2,10,IF(N18>0.1,15,IF(N18>0.05,20,IF(N18<=0.05,25,)))))))))) -> 10 | P18: =IF(E18="","",IF(E18="Nije ocijenjen","",IF(E18="Ocijenjen",IF(F18=0,"",((L18+K18+(M18/2))/(F18)))))) -> 0.0065789474 | Q18: =IF(E18="","",IF(E18="Nije ocijenjen","",IF(E18="Ocijenjen",IF(P18>0.2,0,IF(P18>0.15,1,IF(P18>0.1,2,IF(P18>0.06,3,IF(P18>0.03,4,IF(P18<=0.03,5,))))))))) -> 5 | R18: =IF(E18="","",IF(E18="Nije ocijenjen","",IF(E18="Ocijenjen",IF(N18="Član 18. stav 7. Kriterija",Q18,O18+Q18)))) -> 15
A19: 11 | B19: =IF('Tabela II'!B19="","",'Tabela II'!B19) -> Aldina Rebihić Topoljak | C19: =IF('Tabela II'!D19="","",'Tabela II'!D19) -> Izvršni | D19: =IF('Tabela II'!E19="","",'Tabela II'!E19) -> Sudija | E19: Ocijenjen | F19: 1012 | G19: =SUM(I19:M19) -> 4 | I19: 3 | J19: 0 | L19: 1 | N19: =IF(E19="","",IF(E19="Nije ocijenjen","",IF(E19="Ocijenjen",IF(G19<10,"Član 18. stav 7. Kriterija",(L19+(M19/2))/(G19))))) -> Član 18. stav 7. Kriterija | O19: =IF(E19="","",IF(E19="Nije ocijenjen","",IF(E19="Ocijenjen",IF(N19="Član 18. stav 7. Kriterija","",IF(N19>0.4,0,IF(N19>0.3,5,IF(N19>0.2,10,IF(N19>0.1,15,IF(N19>0.05,20,IF(N19<=0.05,25,)))))))))) | P19: =IF(E19="","",IF(E19="Nije ocijenjen","",IF(E19="Ocijenjen",IF(F19=0,"",((L19+K19+(M19/2))/(F19)))))) -> 0.00098814229 | Q19: =IF(E19="","",IF(E19="Nije ocijenjen","",IF(E19="Ocijenjen",IF(P19>0.2,0,IF(P19>0.15,1,IF(P19>0.1,2,IF(P19>0.06,3,IF(P19>0.03,4,IF(P19<=0.03,5,))))))))) -> 5 | R19: =IF(E19="","",IF(E19="Nije ocijenjen","",IF(E19="Ocijenjen",IF(N19="Član 18. stav 7. Kriterija",Q19,O19+Q19)))) -> 5
A20: 12 | B20: =IF('Tabela II'!B20="","",'Tabela II'!B20) -> Sonsirej Radivojević | C20: =IF('Tabela II'!D20="","",'Tabela II'!D20) -> Krivično-prekršajni | D20: =IF('Tabela II'!E20="","",'Tabela II'!E20) -> Sudija | E20: Ocijenjen | F20: 604 | G20: =SUM(I20:M20) -> 47 | I20: 29 | J20: 8 | L20: 9 | M20: 1 | N20: =IF(E20="","",IF(E20="Nije ocijenjen","",IF(E20="Ocijenjen",IF(G20<10,"Član 18. stav 7. Kriterija",(L20+(M20/2))/(G20))))) -> 0.20212766 | O20: =IF(E20="","",IF(E20="Nije ocijenjen","",IF(E20="Ocijenjen",IF(N20="Član 18. stav 7. Kriterija","",IF(N20>0.4,0,IF(N20>0.3,5,IF(N20>0.2,10,IF(N20>0.1,15,IF(N20>0.05,20,IF(N20<=0.05,25,)))))))))) -> 10 | P20: =IF(E20="","",IF(E20="Nije ocijenjen","",IF(E20="Ocijenjen",IF(F20=0,"",((L20+K20+(M20/2))/(F20)))))) -> 0.015728477 | Q20: =IF(E20="","",IF(E20="Nije ocijenjen","",IF(E20="Ocijenjen",IF(P20>0.2,0,IF(P20>0.15,1,IF(P20>0.1,2,IF(P20>0.06,3,IF(P20>0.03,4,IF(P20<=0.03,5,))))))))) -> 5 | R20: =IF(E20="","",IF(E20="Nije ocijenjen","",IF(E20="Ocijenjen",IF(N20="Član 18. stav 7. Kriterija",Q20,O20+Q20)))) -> 15
A21: 13 | B21: =IF('Tabela II'!B21="","",'Tabela II'!B21) -> Amela Agić | C21: =IF('Tabela II'!D21="","",'Tabela II'!D21) -> Izvršni | D21: =IF('Tabela II'!E21="","",'Tabela II'!E21) -> Stručni saradnik | E21: Ocijenjen | F21: 704 | G21: =SUM(I21:M21) -> 9 | I21: 9 | J21: 0 | N21: =IF(E21="","",IF(E21="Nije ocijenjen","",IF(E21="Ocijenjen",IF(G21<10,"Član 18. stav 7. Kriterija",(L21+(M21/2))/(G21))))) -> Član 18. stav 7. Kriterija | O21: =IF(E21="","",IF(E21="Nije ocijenjen","",IF(E21="Ocijenjen",IF(N21="Član 18. stav 7. Kriterija","",IF(N21>0.4,0,IF(N21>0.3,5,IF(N21>0.2,10,IF(N21>0.1,15,IF(N21>0.05,20,IF(N21<=0.05,25,)))))))))) | P21: =IF(E21="","",IF(E21="Nije ocijenjen","",IF(E21="Ocijenjen",IF(F21=0,"",((L21+K21+(M21/2))/(F21)))))) -> 0 | Q21: =IF(E21="","",IF(E21="Nije ocijenjen","",IF(E21="Ocijenjen",IF(P21>0.2,0,IF(P21>0.15,1,IF(P21>0.1,2,IF(P21>0.06,3,IF(P21>0.03,4,IF(P21<=0.03,5,))))))))) -> 5 | R21: =IF(E21="","",IF(E21="Nije ocijenjen","",IF(E21="Ocijenjen",IF(N21="Član 18. stav 7. Kriterija",Q21,O21+Q21)))) -> 5
A22: 14 | B22: =IF('Tabela II'!B22="","",'Tabela II'!B22) -> Marin Kajić | C22: =IF('Tabela II'!D22="","",'Tabela II'!D22) -> Izvršni | D22: =IF('Tabela II'!E22="","",'Tabela II'!E22) -> Stručni saradnik | E22: Ocijenjen | F22: 706 | G22: =SUM(I22:M22) -> 14 | I22: 13 | J22: 0 | M22: 1 | N22: =IF(E22="","",IF(E22="Nije ocijenjen","",IF(E22="Ocijenjen",IF(G22<10,"Član 18. stav 7. Kriterija",(L22+(M22/2))/(G22))))) -> 0.035714286 | O22: =IF(E22="","",IF(E22="Nije ocijenjen","",IF(E22="Ocijenjen",IF(N22="Član 18. stav 7. Kriterija","",IF(N22>0.4,0,IF(N22>0.3,5,IF(N22>0.2,10,IF(N22>0.1,15,IF(N22>0.05,20,IF(N22<=0.05,25,)))))))))) -> 25 | P22: =IF(E22="","",IF(E22="Nije ocijenjen","",IF(E22="Ocijenjen",IF(F22=0,"",((L22+K22+(M22/2))/(F22)))))) -> 0.0007082153 | Q22: =IF(E22="","",IF(E22="Nije ocijenjen","",IF(E22="Ocijenjen",IF(P22>0.2,0,IF(P22>0.15,1,IF(P22>0.1,2,IF(P22>0.06,3,IF(P22>0.03,4,IF(P22<=0.03,5,))))))))) -> 5 | R22: =IF(E22="","",IF(E22="Nije ocijenjen","",IF(E22="Ocijenjen",IF(N22="Član 18. stav 7. Kriterija",Q22,O22+Q22)))) -> 30
A23: 15 | B23: =IF('Tabela II'!B23="","",'Tabela II'!B23) -> Ivan Sokanović | C23: =IF('Tabela II'!D23="","",'Tabela II'!D23) -> Izvršni | D23: =IF('Tabela II'!E23="","",'Tabela II'!E23) -> Stručni saradnik | E23: Ocijenjen | F23: 715 | G23: =SUM(I23:M23) -> 18 | I23: 17 | J23: 0 | L23: 1 | N23: =IF(E23="","",IF(E23="Nije ocijenjen","",IF(E23="Ocijenjen",IF(G23<10,"Član 18. stav 7. Kriterija",(L23+(M23/2))/(G23))))) -> 0.055555556 | O23: =IF(E23="","",IF(E23="Nije ocijenjen","",IF(E23="Ocijenjen",IF(N23="Član 18. stav 7. Kriterija","",IF(N23>0.4,0,IF(N23>0.3,5,IF(N23>0.2,10,IF(N23>0.1,15,IF(N23>0.05,20,IF(N23<=0.05,25,)))))))))) -> 20 | P23: =IF(E23="","",IF(E23="Nije ocijenjen","",IF(E23="Ocijenjen",IF(F23=0,"",((L23+K23+(M23/2))/(F23)))))) -> 0.0013986014 | Q23: =IF(E23="","",IF(E23="Nije ocijenjen","",IF(E23="Ocijenjen",IF(P23>0.2,0,IF(P23>0.15,1,IF(P23>0.1,2,IF(P23>0.06,3,IF(P23>0.03,4,IF(P23<=0.03,5,))))))))) -> 5 | R23: =IF(E23="","",IF(E23="Nije ocijenjen","",IF(E23="Ocijenjen",IF(N23="Član 18. stav 7. Kriterija",Q23,O23+Q23)))) -> 25
A24: 16 | B24: z.k.ured | C24: =IF('Tabela II'!D24="","",'Tabela II'!D24) | D24: =IF('Tabela II'!E24="","",'Tabela II'!E24) | G24: =SUM(I24:M24) -> 5 | I24: 5 | J24: 0 | N24: =IF(E24="","",IF(E24="Nije ocijenjen","",IF(E24="Ocijenjen",IF(G24<10,"Član 18. stav 7. Kriterija",(L24+(M24/2))/(G24))))) | O24: =IF(E24="","",IF(E24="Nije ocijenjen","",IF(E24="Ocijenjen",IF(N24="Član 18. stav 7. Kriterija","",IF(N24>0.4,0,IF(N24>0.3,5,IF(N24>0.2,10,IF(N24>0.1,15,IF(N24>0.05,20,IF(N24<=0.05,25,)))))))))) | P24: =IF(E24="","",IF(E24="Nije ocijenjen","",IF(E24="Ocijenjen",IF(F24=0,"",((L24+K24+(M24/2))/(F24)))))) | Q24: =IF(E24="","",IF(E24="Nije ocijenjen","",IF(E24="Ocijenjen",IF(P24>0.2,0,IF(P24>0.15,1,IF(P24>0.1,2,IF(P24>0.06,3,IF(P24>0.03,4,IF(P24<=0.03,5,))))))))) | R24: =IF(E24="","",IF(E24="Nije ocijenjen","",IF(E24="Ocijenjen",IF(N24="Član 18. stav 7. Kriterija",Q24,O24+Q24))))
A25: 17 | B25: =IF('Tabela II'!B25="","",'Tabela II'!B25) | C25: =IF('Tabela II'!D25="","",'Tabela II'!D25) | D25: =IF('Tabela II'!E25="","",'Tabela II'!E25) | G25: =SUM(I25:M25) -> 0 | N25: =IF(E25="","",IF(E25="Nije ocijenjen","",IF(E25="Ocijenjen",IF(G25<10,"Član 18. stav 7. Kriterija",(L25+(M25/2))/(G25))))) | O25: =IF(E25="","",IF(E25="Nije ocijenjen","",IF(E25="Ocijenjen",IF(N25="Član 18. stav 7. Kriterija","",IF(N25>0.4,0,IF(N25>0.3,5,IF(N25>0.2,10,IF(N25>0.1,15,IF(N25>0.05,20,IF(N25<=0.05,25,)))))))))) | P25: =IF(E25="","",IF(E25="Nije ocijenjen","",IF(E25="Ocijenjen",IF(F25=0,"",((L25+K25+(M25/2))/(F25)))))) | Q25: =IF(E25="","",IF(E25="Nije ocijenjen","",IF(E25="Ocijenjen",IF(P25>0.2,0,IF(P25>0.15,1,IF(P25>0.1,2,IF(P25>0.06,3,IF(P25>0.03,4,IF(P25<=0.03,5,))))))))) | R25: =IF(E25="","",IF(E25="Nije ocijenjen","",IF(E25="Ocijenjen",IF(N25="Član 18. stav 7. Kriterija",Q25,O25+Q25))))
A26: 18 | B26: =IF('Tabela II'!B26="","",'Tabela II'!B26) | C26: =IF('Tabela II'!D26="","",'Tabela II'!D26) | D26: =IF('Tabela II'!E26="","",'Tabela II'!E26) | G26: =SUM(I26:M26) -> 0 | N26: =IF(E26="","",IF(E26="Nije ocijenjen","",IF(E26="Ocijenjen",IF(G26<10,"Član 18. stav 7. Kriterija",(L26+(M26/2))/(G26))))) | O26: =IF(E26="","",IF(E26="Nije ocijenjen","",IF(E26="Ocijenjen",IF(N26="Član 18. stav 7. Kriterija","",IF(N26>0.4,0,IF(N26>0.3,5,IF(N26>0.2,10,IF(N26>0.1,15,IF(N26>0.05,20,IF(N26<=0.05,25,)))))))))) | P26: =IF(E26="","",IF(E26="Nije ocijenjen","",IF(E26="Ocijenjen",IF(F26=0,"",((L26+K26+(M26/2))/(F26)))))) | Q26: =IF(E26="","",IF(E26="Nije ocijenjen","",IF(E26="Ocijenjen",IF(P26>0.2,0,IF(P26>0.15,1,IF(P26>0.1,2,IF(P26>0.06,3,IF(P26>0.03,4,IF(P26<=0.03,5,))))))))) | R26: =IF(E26="","",IF(E26="Nije ocijenjen","",IF(E26="Ocijenjen",IF(N26="Član 18. stav 7. Kriterija",Q26,O26+Q26))))
A27: 19 | B27: =IF('Tabela II'!B27="","",'Tabela II'!B27) | C27: =IF('Tabela II'!D27="","",'Tabela II'!D27) | D27: =IF('Tabela II'!E27="","",'Tabela II'!E27) | G27: =SUM(I27:M27) -> 0 | N27: =IF(E27="","",IF(E27="Nije ocijenjen","",IF(E27="Ocijenjen",IF(G27<10,"Član 18. stav 7. Kriterija",(L27+(M27/2))/(G27))))) | O27: =IF(E27="","",IF(E27="Nije ocijenjen","",IF(E27="Ocijenjen",IF(N27="Član 18. stav 7. Kriterija","",IF(N27>0.4,0,IF(N27>0.3,5,IF(N27>0.2,10,IF(N27>0.1,15,IF(N27>0.05,20,IF(N27<=0.05,25,)))))))))) | P27: =IF(E27="","",IF(E27="Nije ocijenjen","",IF(E27="Ocijenjen",IF(F27=0,"",((L27+K27+(M27/2))/(F27)))))) | Q27: =IF(E27="","",IF(E27="Nije ocijenjen","",IF(E27="Ocijenjen",IF(P27>0.2,0,IF(P27>0.15,1,IF(P27>0.1,2,IF(P27>0.06,3,IF(P27>0.03,4,IF(P27<=0.03,5,))))))))) | R27: =IF(E27="","",IF(E27="Nije ocijenjen","",IF(E27="Ocijenjen",IF(N27="Član 18. stav 7. Kriterija",Q27,O27+Q27))))
A28: 20 | B28: =IF('Tabela II'!B28="","",'Tabela II'!B28) | C28: =IF('Tabela II'!D28="","",'Tabela II'!D28) | D28: =IF('Tabela II'!E28="","",'Tabela II'!E28) | G28: =SUM(I28:M28) -> 0 | N28: =IF(E28="","",IF(E28="Nije ocijenjen","",IF(E28="Ocijenjen",IF(G28<10,"Član 18. stav 7. Kriterija",(L28+(M28/2))/(G28))))) | O28: =IF(E28="","",IF(E28="Nije ocijenjen","",IF(E28="Ocijenjen",IF(N28="Član 18. stav 7. Kriterija","",IF(N28>0.4,0,IF(N28>0.3,5,IF(N28>0.2,10,IF(N28>0.1,15,IF(N28>0.05,20,IF(N28<=0.05,25,)))))))))) | P28: =IF(E28="","",IF(E28="Nije ocijenjen","",IF(E28="Ocijenjen",IF(F28=0,"",((L28+K28+(M28/2))/(F28)))))) | Q28: =IF(E28="","",IF(E28="Nije ocijenjen","",IF(E28="Ocijenjen",IF(P28>0.2,0,IF(P28>0.15,1,IF(P28>0.1,2,IF(P28>0.06,3,IF(P28>0.03,4,IF(P28<=0.03,5,))))))))) | R28: =IF(E28="","",IF(E28="Nije ocijenjen","",IF(E28="Ocijenjen",IF(N28="Član 18. stav 7. Kriterija",Q28,O28+Q28))))
A29: 21 | B29: =IF('Tabela II'!B29="","",'Tabela II'!B29) | C29: =IF('Tabela II'!D29="","",'Tabela II'!D29) | D29: =IF('Tabela II'!E29="","",'Tabela II'!E29) | G29: =SUM(I29:M29) -> 0 | N29: =IF(E29="","",IF(E29="Nije ocijenjen","",IF(E29="Ocijenjen",IF(G29<10,"Član 18. stav 7. Kriterija",(L29+(M29/2))/(G29))))) | O29: =IF(E29="","",IF(E29="Nije ocijenjen","",IF(E29="Ocijenjen",IF(N29="Član 18. stav 7. Kriterija","",IF(N29>0.4,0,IF(N29>0.3,5,IF(N29>0.2,10,IF(N29>0.1,15,IF(N29>0.05,20,IF(N29<=0.05,25,)))))))))) | P29: =IF(E29="","",IF(E29="Nije ocijenjen","",IF(E29="Ocijenjen",IF(F29=0,"",((L29+K29+(M29/2))/(F29)))))) | Q29: =IF(E29="","",IF(E29="Nije ocijenjen","",IF(E29="Ocijenjen",IF(P29>0.2,0,IF(P29>0.15,1,IF(P29>0.1,2,IF(P29>0.06,3,IF(P29>0.03,4,IF(P29<=0.03,5,))))))))) | R29: =IF(E29="","",IF(E29="Nije ocijenjen","",IF(E29="Ocijenjen",IF(N29="Član 18. stav 7. Kriterija",Q29,O29+Q29))))
A30: 22 | B30: =IF('Tabela II'!B30="","",'Tabela II'!B30) | C30: =IF('Tabela II'!D30="","",'Tabela II'!D30) | D30: =IF('Tabela II'!E30="","",'Tabela II'!E30) | G30: =SUM(I30:M30) -> 0 | N30: =IF(E30="","",IF(E30="Nije ocijenjen","",IF(E30="Ocijenjen",IF(G30<10,"Član 18. stav 7. Kriterija",(L30+(M30/2))/(G30))))) | O30: =IF(E30="","",IF(E30="Nije ocijenjen","",IF(E30="Ocijenjen",IF(N30="Član 18. stav 7. Kriterija","",IF(N30>0.4,0,IF(N30>0.3,5,IF(N30>0.2,10,IF(N30>0.1,15,IF(N30>0.05,20,IF(N30<=0.05,25,)))))))))) | P30: =IF(E30="","",IF(E30="Nije ocijenjen","",IF(E30="Ocijenjen",IF(F30=0,"",((L30+K30+(M30/2))/(F30)))))) | Q30: =IF(E30="","",IF(E30="Nije ocijenjen","",IF(E30="Ocijenjen",IF(P30>0.2,0,IF(P30>0.15,1,IF(P30>0.1,2,IF(P30>0.06,3,IF(P30>0.03,4,IF(P30<=0.03,5,))))))))) | R30: =IF(E30="","",IF(E30="Nije ocijenjen","",IF(E30="Ocijenjen",IF(N30="Član 18. stav 7. Kriterija",Q30,O30+Q30))))
A31: 23 | B31: =IF('Tabela II'!B31="","",'Tabela II'!B31) | C31: =IF('Tabela II'!D31="","",'Tabela II'!D31) | D31: =IF('Tabela II'!E31="","",'Tabela II'!E31) | G31: =SUM(I31:M31) -> 0 | N31: =IF(E31="","",IF(E31="Nije ocijenjen","",IF(E31="Ocijenjen",IF(G31<10,"Član 18. stav 7. Kriterija",(L31+(M31/2))/(G31))))) | O31: =IF(E31="","",IF(E31="Nije ocijenjen","",IF(E31="Ocijenjen",IF(N31="Član 18. stav 7. Kriterija","",IF(N31>0.4,0,IF(N31>0.3,5,IF(N31>0.2,10,IF(N31>0.1,15,IF(N31>0.05,20,IF(N31<=0.05,25,)))))))))) | P31: =IF(E31="","",IF(E31="Nije ocijenjen","",IF(E31="Ocijenjen",IF(F31=0,"",((L31+K31+(M31/2))/(F31)))))) | Q31: =IF(E31="","",IF(E31="Nije ocijenjen","",IF(E31="Ocijenjen",IF(P31>0.2,0,IF(P31>0.15,1,IF(P31>0.1,2,IF(P31>0.06,3,IF(P31>0.03,4,IF(P31<=0.03,5,))))))))) | R31: =IF(E31="","",IF(E31="Nije ocijenjen","",IF(E31="Ocijenjen",IF(N31="Član 18. stav 7. Kriterija",Q31,O31+Q31))))
A32: 24 | B32: =IF('Tabela II'!B32="","",'Tabela II'!B32) | C32: =IF('Tabela II'!D32="","",'Tabela II'!D32) | D32: =IF('Tabela II'!E32="","",'Tabela II'!E32) | G32: =SUM(I32:M32) -> 0 | N32: =IF(E32="","",IF(E32="Nije ocijenjen","",IF(E32="Ocijenjen",IF(G32<10,"Član 18. stav 7. Kriterija",(L32+(M32/2))/(G32))))) | O32: =IF(E32="","",IF(E32="Nije ocijenjen","",IF(E32="Ocijenjen",IF(N32="Član 18. stav 7. Kriterija","",IF(N32>0.4,0,IF(N32>0.3,5,IF(N32>0.2,10,IF(N32>0.1,15,IF(N32>0.05,20,IF(N32<=0.05,25,)))))))))) | P32: =IF(E32="","",IF(E32="Nije ocijenjen","",IF(E32="Ocijenjen",IF(F32=0,"",((L32+K32+(M32/2))/(F32)))))) | Q32: =IF(E32="","",IF(E32="Nije ocijenjen","",IF(E32="Ocijenjen",IF(P32>0.2,0,IF(P32>0.15,1,IF(P32>0.1,2,IF(P32>0.06,3,IF(P32>0.03,4,IF(P32<=0.03,5,))))))))) | R32: =IF(E32="","",IF(E32="Nije ocijenjen","",IF(E32="Ocijenjen",IF(N32="Član 18. stav 7. Kriterija",Q32,O32+Q32))))
A33: 25 | B33: =IF('Tabela II'!B33="","",'Tabela II'!B33) | C33: =IF('Tabela II'!D33="","",'Tabela II'!D33) | D33: =IF('Tabela II'!E33="","",'Tabela II'!E33) | G33: =SUM(I33:M33) -> 0 | N33: =IF(E33="","",IF(E33="Nije ocijenjen","",IF(E33="Ocijenjen",IF(G33<10,"Član 18. stav 7. Kriterija",(L33+(M33/2))/(G33))))) | O33: =IF(E33="","",IF(E33="Nije ocijenjen","",IF(E33="Ocijenjen",IF(N33="Član 18. stav 7. Kriterija","",IF(N33>0.4,0,IF(N33>0.3,5,IF(N33>0.2,10,IF(N33>0.1,15,IF(N33>0.05,20,IF(N33<=0.05,25,)))))))))) | P33: =IF(E33="","",IF(E33="Nije ocijenjen","",IF(E33="Ocijenjen",IF(F33=0,"",((L33+K33+(M33/2))/(F33)))))) | Q33: =IF(E33="","",IF(E33="Nije ocijenjen","",IF(E33="Ocijenjen",IF(P33>0.2,0,IF(P33>0.15,1,IF(P33>0.1,2,IF(P33>0.06,3,IF(P33>0.03,4,IF(P33<=0.03,5,))))))))) | R33: =IF(E33="","",IF(E33="Nije ocijenjen","",IF(E33="Ocijenjen",IF(N33="Član 18. stav 7. Kriterija",Q33,O33+Q33))))
A34: 26 | B34: =IF('Tabela II'!B34="","",'Tabela II'!B34) | C34: =IF('Tabela II'!D34="","",'Tabela II'!D34) | D34: =IF('Tabela II'!E34="","",'Tabela II'!E34) | G34: =SUM(I34:M34) -> 0 | N34: =IF(E34="","",IF(E34="Nije ocijenjen","",IF(E34="Ocijenjen",IF(G34<10,"Član 18. stav 7. Kriterija",(L34+(M34/2))/(G34))))) | O34: =IF(E34="","",IF(E34="Nije ocijenjen","",IF(E34="Ocijenjen",IF(N34="Član 18. stav 7. Kriterija","",IF(N34>0.4,0,IF(N34>0.3,5,IF(N34>0.2,10,IF(N34>0.1,15,IF(N34>0.05,20,IF(N34<=0.05,25,)))))))))) | P34: =IF(E34="","",IF(E34="Nije ocijenjen","",IF(E34="Ocijenjen",IF(F34=0,"",((L34+K34+(M34/2))/(F34)))))) | Q34: =IF(E34="","",IF(E34="Nije ocijenjen","",IF(E34="Ocijenjen",IF(P34>0.2,0,IF(P34>0.15,1,IF(P34>0.1,2,IF(P34>0.06,3,IF(P34>0.03,4,IF(P34<=0.03,5,))))))))) | R34: =IF(E34="","",IF(E34="Nije ocijenjen","",IF(E34="Ocijenjen",IF(N34="Član 18. stav 7. Kriterija",Q34,O34+Q34))))
A35: 27 | B35: =IF('Tabela II'!B35="","",'Tabela II'!B35) | C35: =IF('Tabela II'!D35="","",'Tabela II'!D35) | D35: =IF('Tabela II'!E35="","",'Tabela II'!E35) | G35: =SUM(I35:M35) -> 0 | N35: =IF(E35="","",IF(E35="Nije ocijenjen","",IF(E35="Ocijenjen",IF(G35<10,"Član 18. stav 7. Kriterija",(L35+(M35/2))/(G35))))) | O35: =IF(E35="","",IF(E35="Nije ocijenjen","",IF(E35="Ocijenjen",IF(N35="Član 18. stav 7. Kriterija","",IF(N35>0.4,0,IF(N35>0.3,5,IF(N35>0.2,10,IF(N35>0.1,15,IF(N35>0.05,20,IF(N35<=0.05,25,)))))))))) | P35: =IF(E35="","",IF(E35="Nije ocijenjen","",IF(E35="Ocijenjen",IF(F35=0,"",((L35+K35+(M35/2))/(F35)))))) | Q35: =IF(E35="","",IF(E35="Nije ocijenjen","",IF(E35="Ocijenjen",IF(P35>0.2,0,IF(P35>0.15,1,IF(P35>0.1,2,IF(P35>0.06,3,IF(P35>0.03,4,IF(P35<=0.03,5,))))))))) | R35: =IF(E35="","",IF(E35="Nije ocijenjen","",IF(E35="Ocijenjen",IF(N35="Član 18. stav 7. Kriterija",Q35,O35+Q35))))
A36: 28 | B36: =IF('Tabela II'!B36="","",'Tabela II'!B36) | C36: =IF('Tabela II'!D36="","",'Tabela II'!D36) | D36: =IF('Tabela II'!E36="","",'Tabela II'!E36) | G36: =SUM(I36:M36) -> 0 | N36: =IF(E36="","",IF(E36="Nije ocijenjen","",IF(E36="Ocijenjen",IF(G36<10,"Član 18. stav 7. Kriterija",(L36+(M36/2))/(G36))))) | O36: =IF(E36="","",IF(E36="Nije ocijenjen","",IF(E36="Ocijenjen",IF(N36="Član 18. stav 7. Kriterija","",IF(N36>0.4,0,IF(N36>0.3,5,IF(N36>0.2,10,IF(N36>0.1,15,IF(N36>0.05,20,IF(N36<=0.05,25,)))))))))) | P36: =IF(E36="","",IF(E36="Nije ocijenjen","",IF(E36="Ocijenjen",IF(F36=0,"",((L36+K36+(M36/2))/(F36)))))) | Q36: =IF(E36="","",IF(E36="Nije ocijenjen","",IF(E36="Ocijenjen",IF(P36>0.2,0,IF(P36>0.15,1,IF(P36>0.1,2,IF(P36>0.06,3,IF(P36>0.03,4,IF(P36<=0.03,5,))))))))) | R36: =IF(E36="","",IF(E36="Nije ocijenjen","",IF(E36="Ocijenjen",IF(N36="Član 18. stav 7. Kriterija",Q36,O36+Q36))))
... A68: 60 | B68: =IF('Tabela II'!B68="","",'Tabela II'!B68) | C68: =IF('Tabela II'!D68="","",'Tabela II'!D68) | D68: =IF('Tabela II'!E68="","",'Tabela II'!E68) | G68: =SUM(I68:M68) -> 0 | N68: =IF(E68="","",IF(E68="Nije ocijenjen","",IF(E68="Ocijenjen",IF(G68<10,"Član 18. stav 7. Kriterija",(L68+(M68/2))/(G68))))) | O68: =IF(E68="","",IF(E68="Nije ocijenjen","",IF(E68="Ocijenjen",IF(N68="Član 18. stav 7. Kriterija","",IF(N68>0.4,0,IF(N68>0.3,5,IF(N68>0.2,10,IF(N68>0.1,15,IF(N68>0.05,20,IF(N68<=0.05,25,)))))))))) | P68: =IF(E68="","",IF(E68="Nije ocijenjen","",IF(E68="Ocijenjen",IF(F68=0,"",((L68+K68+(M68/2))/(F68)))))) | Q68: =IF(E68="","",IF(E68="Nije ocijenjen","",IF(E68="Ocijenjen",IF(P68>0.2,0,IF(P68>0.15,1,IF(P68>0.1,2,IF(P68>0.06,3,IF(P68>0.03,4,IF(P68<=0.03,5,))))))))) | R68: =IF(E68="","",IF(E68="Nije ocijenjen","",IF(E68="Ocijenjen",IF(N68="Član 18. stav 7. Kriterija",Q68,O68+Q68))))
A69: 61 | G69: =SUM(I69:M69) -> 0 | N69: =IF(E69="","",IF(E69="Nije ocijenjen","",IF(E69="Ocijenjen",IF(G69<10,"Član 18. stav 7. Kriterija",(L69+(M69/2))/(G69))))) | O69: =IF(E69="","",IF(E69="Nije ocijenjen","",IF(E69="Ocijenjen",IF(N69="Član 18. stav 7. Kriterija","",IF(N69>0.4,0,IF(N69>0.3,5,IF(N69>0.2,10,IF(N69>0.1,15,IF(N69>0.05,20,IF(N69<=0.05,25,)))))))))) | P69: =IF(E69="","",IF(E69="Nije ocijenjen","",IF(E69="Ocijenjen",IF(F69=0,"",((L69+K69+(M69/2))/(F69)))))) | Q69: =IF(E69="","",IF(E69="Nije ocijenjen","",IF(E69="Ocijenjen",IF(P69>0.2,0,IF(P69>0.15,1,IF(P69>0.1,2,IF(P69>0.06,3,IF(P69>0.03,4,IF(P69<=0.03,5,))))))))) | R69: =IF(E69="","",IF(E69="Nije ocijenjen","",IF(E69="Ocijenjen",IF(N69="Član 18. stav 7. Kriterija",Q69,O69+Q69))))
A70: 62 | G70: =SUM(I70:M70) -> 0 | N70: =IF(E70="","",IF(E70="Nije ocijenjen","",IF(E70="Ocijenjen",IF(G70<10,"Član 18. stav 7. Kriterija",(L70+(M70/2))/(G70))))) | O70: =IF(E70="","",IF(E70="Nije ocijenjen","",IF(E70="Ocijenjen",IF(N70="Član 18. stav 7. Kriterija","",IF(N70>0.4,0,IF(N70>0.3,5,IF(N70>0.2,10,IF(N70>0.1,15,IF(N70>0.05,20,IF(N70<=0.05,25,)))))))))) | P70: =IF(E70="","",IF(E70="Nije ocijenjen","",IF(E70="Ocijenjen",IF(F70=0,"",((L70+K70+(M70/2))/(F70)))))) | Q70: =IF(E70="","",IF(E70="Nije ocijenjen","",IF(E70="Ocijenjen",IF(P70>0.2,0,IF(P70>0.15,1,IF(P70>0.1,2,IF(P70>0.06,3,IF(P70>0.03,4,IF(P70<=0.03,5,))))))))) | R70: =IF(E70="","",IF(E70="Nije ocijenjen","",IF(E70="Ocijenjen",IF(N70="Član 18. stav 7. Kriterija",Q70,O70+Q70))))
A71: 63 | G71: =SUM(I71:M71) -> 0 | N71: =IF(E71="","",IF(E71="Nije ocijenjen","",IF(E71="Ocijenjen",IF(G71<10,"Član 18. stav 7. Kriterija",(L71+(M71/2))/(G71))))) | O71: =IF(E71="","",IF(E71="Nije ocijenjen","",IF(E71="Ocijenjen",IF(N71="Član 18. stav 7. Kriterija","",IF(N71>0.4,0,IF(N71>0.3,5,IF(N71>0.2,10,IF(N71>0.1,15,IF(N71>0.05,20,IF(N71<=0.05,25,)))))))))) | P71: =IF(E71="","",IF(E71="Nije ocijenjen","",IF(E71="Ocijenjen",IF(F71=0,"",((L71+K71+(M71/2))/(F71)))))) | Q71: =IF(E71="","",IF(E71="Nije ocijenjen","",IF(E71="Ocijenjen",IF(P71>0.2,0,IF(P71>0.15,1,IF(P71>0.1,2,IF(P71>0.06,3,IF(P71>0.03,4,IF(P71<=0.03,5,))))))))) | R71: =IF(E71="","",IF(E71="Nije ocijenjen","",IF(E71="Ocijenjen",IF(N71="Član 18. stav 7. Kriterija",Q71,O71+Q71))))
A72: 64 | G72: =SUM(I72:M72) -> 0 | N72: =IF(E72="","",IF(E72="Nije ocijenjen","",IF(E72="Ocijenjen",IF(G72<10,"Član 18. stav 7. Kriterija",(L72+(M72/2))/(G72))))) | O72: =IF(E72="","",IF(E72="Nije ocijenjen","",IF(E72="Ocijenjen",IF(N72="Član 18. stav 7. Kriterija","",IF(N72>0.4,0,IF(N72>0.3,5,IF(N72>0.2,10,IF(N72>0.1,15,IF(N72>0.05,20,IF(N72<=0.05,25,)))))))))) | P72: =IF(E72="","",IF(E72="Nije ocijenjen","",IF(E72="Ocijenjen",IF(F72=0,"",((L72+K72+(M72/2))/(F72)))))) | Q72: =IF(E72="","",IF(E72="Nije ocijenjen","",IF(E72="Ocijenjen",IF(P72>0.2,0,IF(P72>0.15,1,IF(P72>0.1,2,IF(P72>0.06,3,IF(P72>0.03,4,IF(P72<=0.03,5,))))))))) | R72: =IF(E72="","",IF(E72="Nije ocijenjen","",IF(E72="Ocijenjen",IF(N72="Član 18. stav 7. Kriterija",Q72,O72+Q72))))
A73: 65 | G73: =SUM(I73:M73) -> 0 | N73: =IF(E73="","",IF(E73="Nije ocijenjen","",IF(E73="Ocijenjen",IF(G73<10,"Član 18. stav 7. Kriterija",(L73+(M73/2))/(G73))))) | O73: =IF(E73="","",IF(E73="Nije ocijenjen","",IF(E73="Ocijenjen",IF(N73="Član 18. stav 7. Kriterija","",IF(N73>0.4,0,IF(N73>0.3,5,IF(N73>0.2,10,IF(N73>0.1,15,IF(N73>0.05,20,IF(N73<=0.05,25,)))))))))) | P73: =IF(E73="","",IF(E73="Nije ocijenjen","",IF(E73="Ocijenjen",IF(F73=0,"",((L73+K73+(M73/2))/(F73)))))) | Q73: =IF(E73="","",IF(E73="Nije ocijenjen","",IF(E73="Ocijenjen",IF(P73>0.2,0,IF(P73>0.15,1,IF(P73>0.1,2,IF(P73>0.06,3,IF(P73>0.03,4,IF(P73<=0.03,5,))))))))) | R73: =IF(E73="","",IF(E73="Nije ocijenjen","",IF(E73="Ocijenjen",IF(N73="Član 18. stav 7. Kriterija",Q73,O73+Q73))))
A75: KVALITET SUDSKIH ODLUKA SUDA** | F75: =SUM(F9:F73) -> 8998 | G75: =SUM(G9:G73) -> 420 | H75: =SUM(H9:H73) -> 0 | I75: =SUM(I9:I73) -> 321 | J75: =SUM(J9:J73) -> 38 | K75: =SUM(K9:K73) -> 0 | L75: =SUM(L9:L73) -> 58 | M75: =SUM(M9:M73) -> 3 | N75: =IF(G75=0,"",0.83*((G75-L75-(M75/2))/G75)+0.17*((F75-K75-L75-(M75/2))/F75)) -> 0.88129253
A79: Tabela IIId - Obračun individualnog kvaliteta odluka za proces ocjenjivanja nosilaca pravosudnih funkcija koji su u periodu ocjenjivanja radili u dva suda, ako su funkciju obavljali u sudovima istog nivoa (pogledati NAPOMENU 2)
A81: Upisati naziv Suda 1
A82: 1 | B82: Ime i prezime | D82: Predsjednik suda | G82: =SUM(I82:M82) -> 0
A83: Upisati naziv Suda 2
A84: =+A82 -> 1 | B84: =+B82 -> Ime i prezime | G84: =SUM(I84:M84) -> 0
A85: Individualni kvalitet NPF-a koji je radio u dva suda u toku perioda ocjenjivanja
A86: =+A82 -> 1 | B86: =+B82 -> Ime i prezime | D86: Predsjednik suda | F86: =+F82+F84 -> 0 | G86: =SUM(I86:M86) -> 0 | H86: =+H82+H84 -> 0 | I86: =+I82+I84 -> 0 | J86: =+J82+J84 -> 0 | K86: =+K82+K84 -> 0 | L86: =+L82+L84 -> 0 | M86: =+M82+M84 -> 0 | N86: =IF(E86="","",IF(E86="Nije ocijenjen ili Ne treba raditi na predmetima","",IF(E86="Ocijenjen",IF(G86<10,"Član 18. stav 7. Kriterija",(L86+(M86/2))/(G86))))) | O86: =IF(E86="","",IF(E86="Nije ocijenjen ili Ne treba raditi na predmetima","",IF(E86="Ocijenjen",IF(N86="Član 18. stav 7. Kriterija","",IF(N86>0.4,0,IF(N86>0.3,1,IF(N86>0.2,2,IF(N86>0.1,3,IF(N86>0.05,4,IF(N86<=0.05,5,)))))))))) | P86: =IF(E86="","",IF(E86="Nije ocijenjen ili Ne treba raditi na predmetima","",IF(E86="Ocijenjen",IF(F86=0,"",((L86+K86+(M86/2))/(F86)))))) | Q86: =IF(E86="","",IF(E86="Nije ocijenjen ili Ne treba raditi na predmetima","",IF(E86="Ocijenjen",IF(P86>0.2,0,IF(P86>0.15,1,IF(P86>0.1,2,IF(P86>0.06,3,IF(P86>0.03,4,IF(P86<=0.03,5,))))))))) | R86: =IF(E86="","",IF(E86="Nije ocijenjen ili Ne treba raditi na predmetima","",IF(E86="Ocijenjen",IF(N86="Član 18. stav 7. Kriterija",Q86,O86+Q86))))
A88: Upisati naziv Suda 1
A89: 2 | B89: Ime i prezime | G89: =SUM(I89:M89) -> 0
A90: Upisati naziv Suda 2
A91: =+A89 -> 2 | B91: =+B89 -> Ime i prezime | G91: =SUM(I91:M91) -> 0
A92: Individualni kvalitet NPF-a koji je radio u dva suda u toku perioda ocjenjivanja
A93: =+A89 -> 2 | B93: =+B89 -> Ime i prezime | F93: =+F89+F91 -> 0 | G93: =SUM(I93:M93) -> 0 | H93: =+H89+H91 -> 0 | I93: =+I89+I91 -> 0 | J93: =+J89+J91 -> 0 | K93: =+K89+K91 -> 0 | L93: =+L89+L91 -> 0 | M93: =+M89+M91 -> 0 | N93: =IF(E93="","",IF(E93="Nije ocijenjen","",IF(E93="Ocijenjen",IF(G93<10,"Član 18. stav 7. Kriterija",(L93+(M93/2))/(G93))))) | O93: =IF(E93="","",IF(E93="Nije ocijenjen","",IF(E93="Ocijenjen",IF(N93="Član 18. stav 7. Kriterija","",IF(N93>0.4,0,IF(N93>0.3,5,IF(N93>0.2,10,IF(N93>0.1,15,IF(N93>0.05,20,IF(N93<=0.05,25,)))))))))) | P93: =IF(E93="","",IF(E93="Nije ocijenjen","",IF(E93="Ocijenjen",IF(F93=0,"",((L93+K93+(M93/2))/(F93)))))) | Q93: =IF(E93="","",IF(E93="Nije ocijenjen","",IF(E93="Ocijenjen",IF(P93>0.2,0,IF(P93>0.15,1,IF(P93>0.1,2,IF(P93>0.06,3,IF(P93>0.03,4,IF(P93<=0.03,5,))))))))) | R93: =IF(E93="","",IF(E93="Nije ocijenjen","",IF(E93="Ocijenjen",IF(N93="Član 18. stav 7. Kriterija",Q93,O93+Q93))))
A95: Upisati naziv Suda 1
A96: 3 | B96: Ime i prezime | G96: =SUM(I96:M96) -> 0
A97: Upisati naziv Suda 2
A98: =+A96 -> 3 | B98: =+B96 -> Ime i prezime | G98: =SUM(I98:M98) -> 0
A99: Individualni kvalitet NPF-a koji je radio u dva suda u toku perioda ocjenjivanja
A100: =+A96 -> 3 | B100: =+B96 -> Ime i prezime | F100: =+F96+F98 -> 0 | G100: =SUM(I100:M100) -> 0 | H100: =+H96+H98 -> 0 | I100: =+I96+I98 -> 0 | J100: =+J96+J98 -> 0 | K100: =+K96+K98 -> 0 | L100: =+L96+L98 -> 0 | M100: =+M96+M98 -> 0 | N100: =IF(E100="","",IF(E100="Nije ocijenjen","",IF(E100="Ocijenjen",IF(G100<10,"Član 18. stav 7. Kriterija",(L100+(M100/2))/(G100))))) | O100: =IF(E100="","",IF(E100="Nije ocijenjen","",IF(E100="Ocijenjen",IF(N100="Član 18. stav 7. Kriterija","",IF(N100>0.4,0,IF(N100>0.3,5,IF(N100>0.2,10,IF(N100>0.1,15,IF(N100>0.05,20,IF(N100<=0.05,25,)))))))))) | P100: =IF(E100="","",IF(E100="Nije ocijenjen","",IF(E100="Ocijenjen",IF(F100=0,"",((L100+K100+(M100/2))/(F100)))))) | Q100: =IF(E100="","",IF(E100="Nije ocijenjen","",IF(E100="Ocijenjen",IF(P100>0.2,0,IF(P100>0.15,1,IF(P100>0.1,2,IF(P100>0.06,3,IF(P100>0.03,4,IF(P100<=0.03,5,))))))))) | R100: =IF(E100="","",IF(E100="Nije ocijenjen","",IF(E100="Ocijenjen",IF(N100="Član 18. stav 7. Kriterija",Q100,O100+Q100))))
A102: Upisati naziv Suda 1
A103: 4 | B103: Ime i prezime | G103: =SUM(I103:M103) -> 0
A104: Upisati naziv Suda 2
A105: =+A103 -> 4 | B105: =+B103 -> Ime i prezime | G105: =SUM(I105:M105) -> 0
A106: Individualni kvalitet NPF-a koji je radio u dva suda u toku perioda ocjenjivanja
A107: =+A103 -> 4 | B107: =+B103 -> Ime i prezime | F107: =+F103+F105 -> 0 | G107: =SUM(I107:M107) -> 0 | H107: =+H103+H105 -> 0 | I107: =+I103+I105 -> 0 | J107: =+J103+J105 -> 0 | K107: =+K103+K105 -> 0 | L107: =+L103+L105 -> 0 | M107: =+M103+M105 -> 0 | N107: =IF(E107="","",IF(E107="Nije ocijenjen","",IF(E107="Ocijenjen",IF(G107<10,"Član 18. stav 7. Kriterija",(L107+(M107/2))/(G107))))) | O107: =IF(E107="","",IF(E107="Nije ocijenjen","",IF(E107="Ocijenjen",IF(N107="Član 18. stav 7. Kriterija","",IF(N107>0.4,0,IF(N107>0.3,5,IF(N107>0.2,10,IF(N107>0.1,15,IF(N107>0.05,20,IF(N107<=0.05,25,)))))))))) | P107: =IF(E107="","",IF(E107="Nije ocijenjen","",IF(E107="Ocijenjen",IF(F107=0,"",((L107+K107+(M107/2))/(F107)))))) | Q107: =IF(E107="","",IF(E107="Nije ocijenjen","",IF(E107="Ocijenjen",IF(P107>0.2,0,IF(P107>0.15,1,IF(P107>0.1,2,IF(P107>0.06,3,IF(P107>0.03,4,IF(P107<=0.03,5,))))))))) | R107: =IF(E107="","",IF(E107="Nije ocijenjen","",IF(E107="Ocijenjen",IF(N107="Član 18. stav 7. Kriterija",Q107,O107+Q107))))
A109: Upisati naziv Suda 1
A110: 5 | B110: Ime i prezime | G110: =SUM(I110:M110) -> 0
A111: Upisati naziv Suda 2
A112: =+A110 -> 5 | B112: =+B110 -> Ime i prezime | G112: =SUM(I112:M112) -> 0
A113: Individualni kvalitet NPF-a koji je radio u dva suda u toku perioda ocjenjivanja
A114: =+A110 -> 5 | B114: =+B110 -> Ime i prezime | F114: =+F110+F112 -> 0 | G114: =SUM(I114:M114) -> 0 | H114: =+H110+H112 -> 0 | I114: =+I110+I112 -> 0 | J114: =+J110+J112 -> 0 | K114: =+K110+K112 -> 0 | L114: =+L110+L112 -> 0 | M114: =+M110+M112 -> 0 | N114: =IF(E114="","",IF(E114="Nije ocijenjen","",IF(E114="Ocijenjen",IF(G114<10,"Član 18. stav 7. Kriterija",(L114+(M114/2))/(G114))))) | O114: =IF(E114="","",IF(E114="Nije ocijenjen","",IF(E114="Ocijenjen",IF(N114="Član 18. stav 7. Kriterija","",IF(N114>0.4,0,IF(N114>0.3,5,IF(N114>0.2,10,IF(N114>0.1,15,IF(N114>0.05,20,IF(N114<=0.05,25,)))))))))) | P114: =IF(E114="","",IF(E114="Nije ocijenjen","",IF(E114="Ocijenjen",IF(F114=0,"",((L114+K114+(M114/2))/(F114)))))) | Q114: =IF(E114="","",IF(E114="Nije ocijenjen","",IF(E114="Ocijenjen",IF(P114>0.2,0,IF(P114>0.15,1,IF(P114>0.1,2,IF(P114>0.06,3,IF(P114>0.03,4,IF(P114<=0.03,5,))))))))) | R114: =IF(E114="","",IF(E114="Nije ocijenjen","",IF(E114="Ocijenjen",IF(N114="Član 18. stav 7. Kriterija",Q114,O114+Q114))))
A116: Upisati naziv Suda 1
A117: 6 | B117: Ime i prezime | G117: =SUM(I117:M117) -> 0
A118: Upisati naziv Suda 2
A119: =+A117 -> 6 | B119: =+B117 -> Ime i prezime | G119: =SUM(I119:M119) -> 0
A120: Individualni kvalitet NPF-a koji je radio u dva suda u toku perioda ocjenjivanja
A121: =+A117 -> 6 | B121: =+B117 -> Ime i prezime | F121: =+F117+F119 -> 0 | G121: =SUM(I121:M121) -> 0 | H121: =+H117+H119 -> 0 | I121: =+I117+I119 -> 0 | J121: =+J117+J119 -> 0 | K121: =+K117+K119 -> 0 | L121: =+L117+L119 -> 0 | M121: =+M117+M119 -> 0 | N121: =IF(E121="","",IF(E121="Nije ocijenjen","",IF(E121="Ocijenjen",IF(G121<10,"Član 18. stav 7. Kriterija",(L121+(M121/2))/(G121))))) | O121: =IF(E121="","",IF(E121="Nije ocijenjen","",IF(E121="Ocijenjen",IF(N121="Član 18. stav 7. Kriterija","",IF(N121>0.4,0,IF(N121>0.3,5,IF(N121>0.2,10,IF(N121>0.1,15,IF(N121>0.05,20,IF(N121<=0.05,25,)))))))))) | P121: =IF(E121="","",IF(E121="Nije ocijenjen","",IF(E121="Ocijenjen",IF(F121=0,"",((L121+K121+(M121/2))/(F121)))))) | Q121: =IF(E121="","",IF(E121="Nije ocijenjen","",IF(E121="Ocijenjen",IF(P121>0.2,0,IF(P121>0.15,1,IF(P121>0.1,2,IF(P121>0.06,3,IF(P121>0.03,4,IF(P121<=0.03,5,))))))))) | R121: =IF(E121="","",IF(E121="Nije ocijenjen","",IF(E121="Ocijenjen",IF(N121="Član 18. stav 7. Kriterija",Q121,O121+Q121))))
A123: Upisati naziv Suda 1
A124: 7 | B124: Ime i prezime | G124: =SUM(I124:M124) -> 0
A125: Upisati naziv Suda 2
A126: =+A124 -> 7 | B126: =+B124 -> Ime i prezime | G126: =SUM(I126:M126) -> 0
A127: Individualni kvalitet NPF-a koji je radio u dva suda u toku perioda ocjenjivanja
A128: =+A124 -> 7 | B128: =+B124 -> Ime i prezime | F128: =+F124+F126 -> 0 | G128: =SUM(I128:M128) -> 0 | H128: =+H124+H126 -> 0 | I128: =+I124+I126 -> 0 | J128: =+J124+J126 -> 0 | K128: =+K124+K126 -> 0 | L128: =+L124+L126 -> 0 | M128: =+M124+M126 -> 0 | N128: =IF(E128="","",IF(E128="Nije ocijenjen","",IF(E128="Ocijenjen",IF(G128<10,"Član 18. stav 7. Kriterija",(L128+(M128/2))/(G128))))) | O128: =IF(E128="","",IF(E128="Nije ocijenjen","",IF(E128="Ocijenjen",IF(N128="Član 18. stav 7. Kriterija","",IF(N128>0.4,0,IF(N128>0.3,5,IF(N128>0.2,10,IF(N128>0.1,15,IF(N128>0.05,20,IF(N128<=0.05,25,)))))))))) | P128: =IF(E128="","",IF(E128="Nije ocijenjen","",IF(E128="Ocijenjen",IF(F128=0,"",((L128+K128+(M128/2))/(F128)))))) | Q128: =IF(E128="","",IF(E128="Nije ocijenjen","",IF(E128="Ocijenjen",IF(P128>0.2,0,IF(P128>0.15,1,IF(P128>0.1,2,IF(P128>0.06,3,IF(P128>0.03,4,IF(P128<=0.03,5,))))))))) | R128: =IF(E128="","",IF(E128="Nije ocijenjen","",IF(E128="Ocijenjen",IF(N128="Član 18. stav 7. Kriterija",Q128,O128+Q128))))
A130: Upisati naziv Suda 1
A131: 8 | B131: Ime i prezime | G131: =SUM(I131:M131) -> 0
A132: Upisati naziv Suda 2
A133: =+A131 -> 8 | B133: =+B131 -> Ime i prezime | G133: =SUM(I133:M133) -> 0
A134: Individualni kvalitet NPF-a koji je radio u dva suda u toku perioda ocjenjivanja
A135: =+A131 -> 8 | B135: =+B131 -> Ime i prezime | F135: =+F131+F133 -> 0 | G135: =SUM(I135:M135) -> 0 | H135: =+H131+H133 -> 0 | I135: =+I131+I133 -> 0 | J135: =+J131+J133 -> 0 | K135: =+K131+K133 -> 0 | L135: =+L131+L133 -> 0 | M135: =+M131+M133 -> 0 | N135: =IF(E135="","",IF(E135="Nije ocijenjen","",IF(E135="Ocijenjen",IF(G135<10,"Član 18. stav 7. Kriterija",(L135+(M135/2))/(G135))))) | O135: =IF(E135="","",IF(E135="Nije ocijenjen","",IF(E135="Ocijenjen",IF(N135="Član 18. stav 7. Kriterija","",IF(N135>0.4,0,IF(N135>0.3,5,IF(N135>0.2,10,IF(N135>0.1,15,IF(N135>0.05,20,IF(N135<=0.05,25,)))))))))) | P135: =IF(E135="","",IF(E135="Nije ocijenjen","",IF(E135="Ocijenjen",IF(F135=0,"",((L135+K135+(M135/2))/(F135)))))) | Q135: =IF(E135="","",IF(E135="Nije ocijenjen","",IF(E135="Ocijenjen",IF(P135>0.2,0,IF(P135>0.15,1,IF(P135>0.1,2,IF(P135>0.06,3,IF(P135>0.03,4,IF(P135<=0.03,5,))))))))) | R135: =IF(E135="","",IF(E135="Nije ocijenjen","",IF(E135="Ocijenjen",IF(N135="Član 18. stav 7. Kriterija",Q135,O135+Q135))))
A137: Upisati naziv Suda 1
A138: 9 | B138: Ime i prezime | G138: =SUM(I138:M138) -> 0
A139: Upisati naziv Suda 2
A140: =+A138 -> 9 | B140: =+B138 -> Ime i prezime | G140: =SUM(I140:M140) -> 0
A141: Individualni kvalitet NPF-a koji je radio u dva suda u toku perioda ocjenjivanja
A142: =+A138 -> 9 | B142: =+B138 -> Ime i prezime | F142: =+F138+F140 -> 0 | G142: =SUM(I142:M142) -> 0 | H142: =+H138+H140 -> 0 | I142: =+I138+I140 -> 0 | J142: =+J138+J140 -> 0 | K142: =+K138+K140 -> 0 | L142: =+L138+L140 -> 0 | M142: =+M138+M140 -> 0 | N142: =IF(E142="","",IF(E142="Nije ocijenjen","",IF(E142="Ocijenjen",IF(G142<10,"Član 18. stav 7. Kriterija",(L142+(M142/2))/(G142))))) | O142: =IF(E142="","",IF(E142="Nije ocijenjen","",IF(E142="Ocijenjen",IF(N142="Član 18. stav 7. Kriterija","",IF(N142>0.4,0,IF(N142>0.3,5,IF(N142>0.2,10,IF(N142>0.1,15,IF(N142>0.05,20,IF(N142<=0.05,25,)))))))))) | P142: =IF(E142="","",IF(E142="Nije ocijenjen","",IF(E142="Ocijenjen",IF(F142=0,"",((L142+K142+(M142/2))/(F142)))))) | Q142: =IF(E142="","",IF(E142="Nije ocijenjen","",IF(E142="Ocijenjen",IF(P142>0.2,0,IF(P142>0.15,1,IF(P142>0.1,2,IF(P142>0.06,3,IF(P142>0.03,4,IF(P142<=0.03,5,))))))))) | R142: =IF(E142="","",IF(E142="Nije ocijenjen","",IF(E142="Ocijenjen",IF(N142="Član 18. stav 7. Kriterija",Q142,O142+Q142))))
A144: Upisati naziv Suda 1
A145: 10 | B145: Ime i prezime | G145: =SUM(I145:M145) -> 0
A146: Upisati naziv Suda 2
A147: =+A145 -> 10 | B147: =+B145 -> Ime i prezime | G147: =SUM(I147:M147) -> 0
...

Sheet tblIIIa
A1: Sud | B1: Godina | C1: ImePrezime | D1: NazivOdjela | E1: Funkcija | F1: Ocij/NijeOcij | G1: UkBrDonOdlnsmiPrLijek | H1: UkBrOzOdl | I1: BrOdbPravLijekova | J1: BrPotOdl | K1: BrPreinOdl | L1: BrPreOdlNakOdGlRas/PretPredDrugSud | M1: BrUkOdl | N1: BrDjelUkOdl | O1: KvaSudOdlČl16/1/a | P1: BrOstBodZaKvalČl16/1/a | Q1: KvalSudOdlČl16/1/b | R1: BrOstBodZaKvalČl16/1/b | S1: UkBrOstBodZaKval | T1: KvalSudOdlČl16/1/b
A2: ='Tabela I'!$F$2 -> 0 | B2: ='Tabela I'!$F$1 -> 2019 | C2: =+'Tabela IIIc'!B9 -> Randžana Hadžibegović Haračić | E2: =+'Tabela IIIc'!D9 -> Predsjednik suda * | F2: =+'Tabela IIIc'!E9 -> Ocijenjen | G2: =+'Tabela IIIc'!F9 -> 263 | H2: =+'Tabela IIIc'!G9 -> 21 | I2: =+'Tabela IIIc'!H9 -> 0 | J2: =+'Tabela IIIc'!I9 -> 16 | K2: =+'Tabela IIIc'!J9 -> 1 | L2: =+'Tabela IIIc'!K9 -> 0 | ... S2: =+'Tabela IIIc'!R9 -> 8 | W2: Ocijenjen
A3: ='Tabela I'!$F$2 -> 0 | B3: ='Tabela I'!$F$1 -> 2019 | C3: ='Tabela IIIc'!B10 -> Amira Ždralović | D3: =+'Tabela IIIc'!C10 -> Parnični | E3: =+'Tabela IIIc'!D10 -> Predsjednik odjela | F3: =+'Tabela IIIc'!E10 -> Ocijenjen | G3: =+'Tabela IIIc'!F10 -> 403 | H3: =+'Tabela IIIc'!G10 -> 38 | I3: =+'Tabela IIIc'!H10 -> 0 | J3: =+'Tabela IIIc'!I10 -> 33 | K3: =+'Tabela IIIc'!J10 -> 1 | ... S3: =+'Tabela IIIc'!R10 -> 20 | U3: Sudija | W3: Nije ocijenjen
A4: ='Tabela I'!$F$2 -> 0 | B4: ='Tabela I'!$F$1 -> 2019 | C4: =+'Tabela IIIc'!B11 -> Darko Solomun | D4: =+'Tabela IIIc'!C11 -> Krivično-prekršajni | E4: =+'Tabela IIIc'!D11 -> Predsjednik odjela | F4: =+'Tabela IIIc'!E11 -> Ocijenjen | G4: =+'Tabela IIIc'!F11 -> 342 | H4: =+'Tabela IIIc'!G11 -> 42.5 | I4: =+'Tabela IIIc'!H11 -> 0 | J4: =+'Tabela IIIc'!I11 -> 27 | ... S4: =+'Tabela IIIc'!R11 -> 20 | U4: Stručni saradnik
A5: ='Tabela I'!$F$2 -> 0 | B5: ='Tabela I'!$F$1 -> 2019 | C5: =+'Tabela IIIc'!B12 -> Nebojša Vrhovac | D5: =+'Tabela IIIc'!C12 -> Izvršni | E5: =+'Tabela IIIc'!D12 -> Predsjednik odjela | F5: =+'Tabela IIIc'!E12 -> Ocijenjen | G5: =+'Tabela IIIc'!F12 -> 582 | H5: =+'Tabela IIIc'!G12 -> 13 | I5: =+'Tabela IIIc'!H12 -> 0 | J5: =+'Tabela IIIc'!I12 -> 12 | ... S5: =+'Tabela IIIc'!R12 -> 25
A6: ='Tabela I'!$F$2 -> 0 | B6: ='Tabela I'!$F$1 -> 2019 | C6: =+'Tabela IIIc'!B13 -> Safet Žuljko | D6: =+'Tabela IIIc'!C13 -> Krivično-prekršajni | E6: =+'Tabela IIIc'!D13 -> Sudija | F6: =+'Tabela IIIc'!E13 -> Ocijenjen | G6: =+'Tabela IIIc'!F13 -> 1033 | H6: =+'Tabela IIIc'!G13 -> 31.5 | I6: =+'Tabela IIIc'!H13 -> 0 | J6: =+'Tabela IIIc'!I13 -> 24 | ... S6: =+'Tabela IIIc'!R13 -> 20
A7: ='Tabela I'!$F$2 -> 0 | B7: ='Tabela I'!$F$1 -> 2019 | C7: =+'Tabela IIIc'!B14 -> Katica Soldo | D7: =+'Tabela IIIc'!C14 -> Parnični | E7: =+'Tabela IIIc'!D14 -> Sudija | F7: =+'Tabela IIIc'!E14 -> Ocijenjen | G7: =+'Tabela IIIc'!F14 -> 421 | H7: =+'Tabela IIIc'!G14 -> 45 | I7: =+'Tabela IIIc'!H14 -> 0 | J7: =+'Tabela IIIc'!I14 -> 29 | ... S7: =+'Tabela IIIc'!R14 -> 20
A8: ='Tabela I'!$F$2 -> 0 | B8: ='Tabela I'!$F$1 -> 2019 | C8: =+'Tabela IIIc'!B15 -> Lejla Nurikić | D8: =+'Tabela IIIc'!C15 -> Parnični | E8: =+'Tabela IIIc'!D15 -> Sudija | F8: =+'Tabela IIIc'!E15 -> Ocijenjen | G8: =+'Tabela IIIc'!F15 -> 488 | H8: =+'Tabela IIIc'!G15 -> 37 | I8: =+'Tabela IIIc'!H15 -> 0 | J8: =+'Tabela IIIc'!I15 -> 29 | ... S8: =+'Tabela IIIc'!R15 -> 20
A9: ='Tabela I'!$F$2 -> 0 | B9: ='Tabela I'!$F$1 -> 2019 | C9: =+'Tabela IIIc'!B16 -> Janja Pilić | D9: =+'Tabela IIIc'!C16 -> Parnični | E9: =+'Tabela IIIc'!D16 -> Sudija | F9: =+'Tabela IIIc'!E16 -> Ocijenjen | G9: =+'Tabela IIIc'!F16 -> 548 | H9: =+'Tabela IIIc'!G16 -> 37 | I9: =+'Tabela IIIc'!H16 -> 0 | J9: =+'Tabela IIIc'!I16 -> 31 | ... S9: =+'Tabela IIIc'!R16 -> 25
A10: ='Tabela I'!$F$2 -> 0 | B10: ='Tabela I'!$F$1 -> 2019 | C10: =+'Tabela IIIc'!B17 -> Samil Ramić | D10: =+'Tabela IIIc'!C17 -> Izvršni | E10: =+'Tabela IIIc'!D17 -> Sudija | F10: =+'Tabela IIIc'!E17 -> Ocijenjen | G10: =+'Tabela IIIc'!F17 -> 569 | H10: =+'Tabela IIIc'!G17 -> 40.5 | I10: =+'Tabela IIIc'!H17 -> 0 | J10: =+'Tabela IIIc'!I17 -> 31 | ... S10: =+'Tabela IIIc'!R17 -> 20
A11: ='Tabela I'!$F$2 -> 0 | B11: ='Tabela I'!$F$1 -> 2019 | C11: =+'Tabela IIIc'!B18 -> Ivan Gudelj | D11: =+'Tabela IIIc'!C18 -> Izvršni | E11: =+'Tabela IIIc'!D18 -> Sudija | F11: =+'Tabela IIIc'!E18 -> Ocijenjen | G11: =+'Tabela IIIc'!F18 -> 608 | H11: =+'Tabela IIIc'!G18 -> 17.5 | I11: =+'Tabela IIIc'!H18 -> 0 | J11: =+'Tabela IIIc'!I18 -> 13 | ... S11: =+'Tabela IIIc'!R18 -> 15
A12: ='Tabela I'!$F$2 -> 0 | B12: ='Tabela I'!$F$1 -> 2019 | C12: =+'Tabela IIIc'!B19 -> Aldina Rebihić Topoljak | D12: =+'Tabela IIIc'!C19 -> Izvršni | E12: =+'Tabela IIIc'!D19 -> Sudija | F12: =+'Tabela IIIc'!E19 -> Ocijenjen | G12: =+'Tabela IIIc'!F19 -> 1012 | H12: =+'Tabela IIIc'!G19 -> 4 | I12: =+'Tabela IIIc'!H19 -> 0 | J12: =+'Tabela IIIc'!I19 -> 3 | ... S12: =+'Tabela IIIc'!R19 -> 5
A13: ='Tabela I'!$F$2 -> 0 | B13: ='Tabela I'!$F$1 -> 2019 | C13: =+'Tabela IIIc'!B20 -> Sonsirej Radivojević | D13: =+'Tabela IIIc'!C20 -> Krivično-prekršajni | E13: =+'Tabela IIIc'!D20 -> Sudija | F13: =+'Tabela IIIc'!E20 -> Ocijenjen | G13: =+'Tabela IIIc'!F20 -> 604 | H13: =+'Tabela IIIc'!G20 -> 47 | I13: =+'Tabela IIIc'!H20 -> 0 | J13: =+'Tabela IIIc'!I20 -> 29 | ... S13: =+'Tabela IIIc'!R20 -> 15
A14: ='Tabela I'!$F$2 -> 0 | B14: ='Tabela I'!$F$1 -> 2019 | C14: =+'Tabela IIIc'!B21 -> Amela Agić | D14: =+'Tabela IIIc'!C21 -> Izvršni | E14: =+'Tabela IIIc'!D21 -> Stručni saradnik | F14: =+'Tabela IIIc'!E21 -> Ocijenjen | G14: =+'Tabela IIIc'!F21 -> 704 | H14: =+'Tabela IIIc'!G21 -> 9 | I14: =+'Tabela IIIc'!H21 -> 0 | J14: =+'Tabela IIIc'!I21 -> 9 | ... S14: =+'Tabela IIIc'!R21 -> 5
A15: ='Tabela I'!$F$2 -> 0 | B15: ='Tabela I'!$F$1 -> 2019 | C15: =+'Tabela IIIc'!B22 -> Marin Kajić | D15: =+'Tabela IIIc'!C22 -> Izvršni | E15: =+'Tabela IIIc'!D22 -> Stručni saradnik | F15: =+'Tabela IIIc'!E22 -> Ocijenjen | G15: =+'Tabela IIIc'!F22 -> 706 | H15: =+'Tabela IIIc'!G22 -> 14 | I15: =+'Tabela IIIc'!H22 -> 0 | J15: =+'Tabela IIIc'!I22 -> 13 | ... S15: =+'Tabela IIIc'!R22 -> 30
A16: ='Tabela I'!$F$2 -> 0 | B16: ='Tabela I'!$F$1 -> 2019 | C16: =+'Tabela IIIc'!B23 -> Ivan Sokanović | D16: =+'Tabela IIIc'!C23 -> Izvršni | E16: =+'Tabela IIIc'!D23 -> Stručni saradnik | F16: =+'Tabela IIIc'!E23 -> Ocijenjen | G16: =+'Tabela IIIc'!F23 -> 715 | H16: =+'Tabela IIIc'!G23 -> 18 | I16: =+'Tabela IIIc'!H23 -> 0 | J16: =+'Tabela IIIc'!I23 -> 17 | ... S16: =+'Tabela IIIc'!R23 -> 25
... A66: ='Tabela I'!$F$2 -> 0 | B66: ='Tabela I'!$F$1 -> 2019 | C66: =+'Tabela IIIc'!B73 -> 0 | D66: =+'Tabela IIIc'!C73 -> 0 | E66: =+'Tabela IIIc'!D73 -> 0 | F66: =+'Tabela IIIc'!E73 -> 0 | G66: =+'Tabela IIIc'!F73 -> 0 | H66: =+'Tabela IIIc'!G73 -> 0 | I66: =+'Tabela IIIc'!H73 -> 0 | J66: =+'Tabela IIIc'!I73 -> 0 | ... S66: =+'Tabela IIIc'!R73
A69: Tabela IIIb
A71: ='Tabela I'!$F$2 -> 0 | B71: ='Tabela I'!$F$1 -> 2019 | C71: =+'Tabela IIIc'!B86 -> Ime i prezime | E71: =+'Tabela IIIc'!D86 -> Predsjednik suda | F71: =+'Tabela IIIc'!E86 -> 0 | G71: =+'Tabela IIIc'!F86 -> 0 | H71: =+'Tabela IIIc'!G86 -> 0 | I71: =+'Tabela IIIc'!H86 -> 0 | J71: =+'Tabela IIIc'!I86 -> 0 | K71: =+'Tabela IIIc'!J86 -> 0 | L71: =+'Tabela IIIc'!K86 -> 0 | ... S71: =+'Tabela IIIc'!R86
A72: ='Tabela I'!$F$2 -> 0 | B72: ='Tabela I'!$F$1 -> 2019 | C72: =+'Tabela IIIc'!B93 -> Ime i prezime | D72: =+'Tabela IIIc'!C93 -> 0 | E72: =+'Tabela IIIc'!D93 -> 0 | F72: =+'Tabela IIIc'!E93 -> 0 | G72: =+'Tabela IIIc'!F93 -> 0 | H72: =+'Tabela IIIc'!G93 -> 0 | I72: =+'Tabela IIIc'!H93 -> 0 | J72: =+'Tabela IIIc'!I93 -> 0 | ... S72: =+'Tabela IIIc'!R93
A73: ='Tabela I'!$F$2 -> 0 | B73: ='Tabela I'!$F$1 -> 2019 | C73: =+'Tabela IIIc'!B100 -> Ime i prezime | D73: =+'Tabela IIIc'!C100 -> 0 | E73: =+'Tabela IIIc'!D100 -> 0 | F73: =+'Tabela IIIc'!E100 -> 0 | G73: =+'Tabela IIIc'!F100 -> 0 | H73: =+'Tabela IIIc'!G100 -> 0 | I73: =+'Tabela IIIc'!H100 -> 0 | J73: =+'Tabela IIIc'!I100 -> 0 | ... S73: =+'Tabela IIIc'!R100
A74: ='Tabela I'!$F$2 -> 0 | B74: ='Tabela I'!$F$1 -> 2019 | C74: =+'Tabela IIIc'!B107 -> Ime i prezime | D74: =+'Tabela IIIc'!C107 -> 0 | E74: =+'Tabela IIIc'!D107 -> 0 | F74: =+'Tabela IIIc'!E107 -> 0 | G74: =+'Tabela IIIc'!F107 -> 0 | H74: =+'Tabela IIIc'!G107 -> 0 | I74: =+'Tabela IIIc'!H107 -> 0 | J74: =+'Tabela IIIc'!I107 -> 0 | ... S74: =+'Tabela IIIc'!R107
A75: ='Tabela I'!$F$2 -> 0 | B75: ='Tabela I'!$F$1 -> 2019 | C75: =+'Tabela IIIc'!B114 -> Ime i prezime | D75: =+'Tabela IIIc'!C114 -> 0 | E75: =+'Tabela IIIc'!D114 -> 0 | F75: =+'Tabela IIIc'!E114 -> 0 | G75: =+'Tabela IIIc'!F114 -> 0 | H75: =+'Tabela IIIc'!G114 -> 0 | I75: =+'Tabela IIIc'!H114 -> 0 | J75: =+'Tabela IIIc'!I114 -> 0 | ... S75: =+'Tabela IIIc'!R114
A76: ='Tabela I'!$F$2 -> 0 | B76: ='Tabela I'!$F$1 -> 2019 | C76: =+'Tabela IIIc'!B121 -> Ime i prezime | D76: =+'Tabela IIIc'!C121 -> 0 | E76: =+'Tabela IIIc'!D121 -> 0 | F76: =+'Tabela IIIc'!E121 -> 0 | G76: =+'Tabela IIIc'!F121 -> 0 | H76: =+'Tabela IIIc'!G121 -> 0 | I76: =+'Tabela IIIc'!H121 -> 0 | J76: =+'Tabela IIIc'!I121 -> 0 | ... S76: =+'Tabela IIIc'!R121
A77: ='Tabela I'!$F$2 -> 0 | B77: ='Tabela I'!$F$1 -> 2019 | C77: =+'Tabela IIIc'!B128 -> Ime i prezime | D77: =+'Tabela IIIc'!C128 -> 0 | E77: =+'Tabela IIIc'!D128 -> 0 | F77: =+'Tabela IIIc'!E128 -> 0 | G77: =+'Tabela IIIc'!F128 -> 0 | H77: =+'Tabela IIIc'!G128 -> 0 | I77: =+'Tabela IIIc'!H128 -> 0 | J77: =+'Tabela IIIc'!I128 -> 0 | ... S77: =+'Tabela IIIc'!R128
A78: ='Tabela I'!$F$2 -> 0 | B78: ='Tabela I'!$F$1 -> 2019 | C78: =+'Tabela IIIc'!B135 -> Ime i prezime | D78: =+'Tabela IIIc'!C135 -> 0 | E78: =+'Tabela IIIc'!D135 -> 0 | F78: =+'Tabela IIIc'!E135 -> 0 | G78: =+'Tabela IIIc'!F135 -> 0 | H78: =+'Tabela IIIc'!G135 -> 0 | I78: =+'Tabela IIIc'!H135 -> 0 | J78: =+'Tabela IIIc'!I135 -> 0 | ... S78: =+'Tabela IIIc'!R135
A79: ='Tabela I'!$F$2 -> 0 | B79: ='Tabela I'!$F$1 -> 2019 | C79: =+'Tabela IIIc'!B142 -> Ime i prezime | D79: =+'Tabela IIIc'!C142 -> 0 | E79: =+'Tabela IIIc'!D142 -> 0 | F79: =+'Tabela IIIc'!E142 -> 0 | G79: =+'Tabela IIIc'!F142 -> 0 | H79: =+'Tabela IIIc'!G142 -> 0 | I79: =+'Tabela IIIc'!H142 -> 0 | J79: =+'Tabela IIIc'!I142 -> 0 | ... S79: =+'Tabela IIIc'!R142
A80: ='Tabela I'!$F$2 -> 0 | B80: ='Tabela I'!$F$1 -> 2019 | C80: =+'Tabela IIIc'!B149 -> Ime i prezime | D80: =+'Tabela IIIc'!C149 -> 0 | E80: =+'Tabela IIIc'!D149 -> 0 | F80: =+'Tabela IIIc'!E149 -> 0 | G80: =+'Tabela IIIc'!F149 -> 0 | H80: =+'Tabela IIIc'!G149 -> 0 | I80: =+'Tabela IIIc'!H149 -> 0 | J80: =+'Tabela IIIc'!I149 -> 0 | ... S80: =+'Tabela IIIc'!R149

Sheet Tabela IV
A1: Općinski/Osnovni sud: | C1: ='Tabela I'!C1 -> Bugojno
A2: Izvještajni period: | C2: ='Tabela I'!C2 -> 1.1.2019.- 31.12.2019.
A3: Tabela IV - Ostali podaci
A5: Godina prijema predmeta | B5: Vrsta predmeta | C5: Broj nezavedenih predmeta | D5: Obrazloženje
A7: I | B7: II | C7: III | D7: IV
A27: U Tabelu IV potrebno je da unesete podatke o broju zaprimljenih predmeta koji nisu zavedeni kroz sudski upisnik (ukoliko imate takvih predmeta), navodeći podatke o godini prijema, vrsti i broju predmeta sa obrazloženjem razloga zbog kojih predmeti nisu zavedeni u sudski upisnik.

Sheet Tabela V
A1: Općinski/Osnovni sud: | D1: ='Tabela I'!C1 -> Bugojno
A2: Izvještajni period: | D2: ='Tabela I'!C2 -> 1.1.2019.- 31.12.2019.
A3: Tabela V - Pregled starosti neriješenih predmeta sa 31.12.2019. godine
A5: Godina iniciranja predmeta | B5: Broj neriješenih predmeta na referatu predmeti registracije | H5: Broj neriješenih ZK predmeta
B6: Reg | C6: RegZ | D6: F1 | E6: F2 | F6: F3 | G6: Ostalo | H6: Dn | I6: Nar | J6: Rz | K6: Kpu | L6: Ostalo
B7: I | C7: II | D7: III | E7: IV | F7: V | G7: VI | H7: VII | I7: VIII | J7: IX | K7: X | L7: XI
A8: 2019 | H8: 68
A9: 2018
A10: 2017
A11: 2016
A12: 2015
A13: 2014
A14: 2013
A15: 2012
A16: 2011
A17: 2010
A18: =A17-1 -> 2009
A19: =A18-1 -> 2008
A20: =A19-1 -> 2007
A21: =A20-1 -> 2006
A22: =A21-1 -> 2005
A23: =A22-1 -> 2004
A24: =A23-1 -> 2003
A25: =A24-1 -> 2002
A26: =A25-1 -> 2001
A27: =A26-1 -> 2000
A28: =A27-1 -> 1999
A29: =A28-1 -> 1998
... A57: =A56-1 -> 1970
A58: Stariji od 1970.
A59: UKUPNO | B59: =SUM(B8:B58) -> 0 | C59: =SUM(C8:C58) -> 0 | D59: =SUM(D8:D58) -> 0 | E59: =SUM(E8:E58) -> 0 | F59: =SUM(F8:F58) -> 0 | G59: =SUM(G8:G58) -> 0 | H59: =SUM(H8:H58) -> 68 | I59: =SUM(I8:I58) -> 0 | ... L59: =SUM(L8:L58) -> 0
A60: SVEUKUPNO | B60: =SUM(B59:G59) -> 0 | H60: =SUM(H59:L59) -> 68
B61: ='Tabela I'!F21 -> 0 | H61: ='Tabela I'!F28 -> 68
A63: U Tabelu V potrebno je da razvrstate neriješene predmete registracije poslovnih subjekata i ZK predmeta, zaključno sa 31.12.2018. godine, prema godini iniciranja pred općinskim, odnosno osnovnim sudom. Podaci iskazani u ovoj tabeli moraju biti konzistentni sa podacima iskazanim u Tabeli I i Tabeli Ia.

Sheet Tabela VI
A1: Općinski/Osnovni sud: | B1: ='Tabela I'!C1 -> Bugojno
A2: Izvještajni period: | B2: ='Tabela I'!C2 -> 1.1.2019.- 31.12.2019.
A3: Tabela VI - Odluke Ustavnog suda BiH
A4: Tabela VIa - Odluke kojima se ne usvaja apelacija
A5: Broj odluka kojima se odbacuje apelacija | B5: Broj odluka kojima se obustavlja postupak pred Ustavnim sudom BiH | C5: Broj odluka kojima se odbija apelacija | D5: Ukupno
A6: I | B6: II | C6: III | D6: IV=I+II+III
D7: =IF(SUM(A7:C7)=0," ",SUM(A7:C7))
A8: Tabela VIb - Odluke kojima se usvaja apelacija
A9: Pravni osnov | B9: Broj odluka kojima se usvaja apelacija | E9: Ukupno
B10: Broj odluka kojima se preinačuju odluke suda | C10: Broj odluka kojima se ukidaju odluke suda | D10: Broj ostalih odluka kojima se usvaja apelacija
B11: I | C11: II | D11: III | E11: IV=I+II+III
A12: Čl. 13. EK (pravo na djelotvorni pravni lijek) | E12: =IF(SUM(B12:D12)=0," ",SUM(B12:D12))
A13: Čl. 3. P7 (naknada za pogrešnu presudu) | E13: =IF(SUM(B13:D13)=0," ",SUM(B13:D13))
A14: Čl. 6. EK i II/3.e) Ustava BiH (pravo na pravično suđenje) | E14: =IF(SUM(B14:D14)=0," ",SUM(B14:D14))
A15: Čl. 5.EK i II/3d Ustava (pravo na ličnu slobodu) | E15: =IF(SUM(B15:D15)=0," ",SUM(B15:D15))
A16: Čl. 1. P.1. i II/3.k) Ustava BiH (pravo na imovinu) | E16: =IF(SUM(B16:D16)=0," ",SUM(B16:D16))
A17: Čl. 1. P.7. (Proceduralne zaštite u vezi sa protjerivanjem stranaca) | E17: =IF(SUM(B17:D17)=0," ",SUM(B17:D17))
A18: Ostalo | E18: =IF(SUM(B18:D18)=0," ",SUM(B18:D18))
A19: Tabela VIc – Predmeti u kojima se nalaže sudu da okonča predmet bez odlaganja zbog kršenja prava na donošenje odluke u razumnom roku
A20: Pravni osnov | B20: Broj odluka kojima se nalaže sudu da okonča predmet bez odlaganja zbog kršenja prava na donošenje odluke u razumnom roku jer je Ustavni sud BiH zaključio da je odugovlačenju postupka najviše doprinio
B21: prvostepeni sud | C21: drugostepeni sud | D21: sud koji rješava predmet po uloženom vanrednom pravnom lijeku | E21: Ostalo | F21: Ukupno
B22: I | C22: II | D22: III | E22: IV | F22: V=I+II+III+IV
A23: Čl. 6 EK i II/3.e) Ustava BiH (pravo na pravično suđenje) | F23: =IF(SUM(B23:E23)=0," ",SUM(B23:E23))
A24: Tabela VId - Predmeti u kojima je utvrđeno kršenje prava na donošenje odluke u razumnom roku*
A25: Broj predmeta u kojima je određena naknada nematerijalne štete zbog kršenja prava na donošenje odluke u razumnom roku
A26: Ukupan iznos određene naknade
A28: * U Tabelu VId unose se podaci o predmetima u kojima je usvojena apelacija u odnosu na odluke Vašeg suda i određena naknada nematerijalne štete zbog kršenja prava na donošenje odluke u razumnom roku, kao i ukupan iznos naknade koji je utvrdio Ustavni sud BiH.

Sheet tbl1Protok
A1: for_key | B1: godina | C1: idReferata | D1: BrNerPocGod | E1: BrPrimTokGod | F1: BrRijTokGod
A2: ='Tabela I'!$F$2 -> 0 | B2: ='Tabela I'!$F$1 -> 2019 | C2: 127 | D2: ='Tabela I'!B9 -> 0 | E2: ='Tabela I'!C9 -> 0 | F2: ='Tabela I'!E9 -> 0
A3: ='Tabela I'!$F$2 -> 0 | B3: ='Tabela I'!$F$1 -> 2019 | C3: 128 | D3: ='Tabela I'!B10 -> 0 | E3: ='Tabela I'!C10 -> 0 | F3: ='Tabela I'!E10 -> 0
A4: ='Tabela I'!$F$2 -> 0 | B4: ='Tabela I'!$F$1 -> 2019 | C4: 129 | D4: ='Tabela I'!B11 -> 4215 | E4: ='Tabela I'!C11 -> 0 | F4: ='Tabela I'!E11 -> 0
A5: ='Tabela I'!$F$2 -> 0 | B5: ='Tabela I'!$F$1 -> 2019 | C5: 131 | D5: ='Tabela I'!B12 -> 81 | E5: ='Tabela I'!C12 -> 0 | F5: ='Tabela I'!E12 -> 0
A6: ='Tabela I'!$F$2 -> 0 | B6: ='Tabela I'!$F$1 -> 2019 | C6: 26 | D6: ='Tabela I'!B15 -> 0 | E6: ='Tabela I'!C15 -> 0 | F6: ='Tabela I'!E15 -> 0
A7: ='Tabela I'!$F$2 -> 0 | B7: ='Tabela I'!$F$1 -> 2019 | C7: 104 | D7: ='Tabela I'!B16 -> 0 | E7: ='Tabela I'!C16 -> 0 | F7: ='Tabela I'!E16 -> 0
A8: ='Tabela I'!$F$2 -> 0 | B8: ='Tabela I'!$F$1 -> 2019 | C8: 99 | D8: ='Tabela I'!B17 -> 0 | E8: ='Tabela I'!C17 -> 0 | F8: ='Tabela I'!E17 -> 0
A9: ='Tabela I'!$F$2 -> 0 | B9: ='Tabela I'!$F$1 -> 2019 | C9: 100 | D9: ='Tabela I'!B18 -> 0 | E9: ='Tabela I'!C18 -> 0 | F9: ='Tabela I'!E18 -> 0
A10: ='Tabela I'!$F$2 -> 0 | B10: ='Tabela I'!$F$1 -> 2019 | C10: 101 | D10: ='Tabela I'!B19 -> 0 | E10: ='Tabela I'!C19 -> 0 | F10: ='Tabela I'!E19 -> 0
A11: ='Tabela I'!$F$2 -> 0 | B11: ='Tabela I'!$F$1 -> 2019 | C11: 123 | D11: ='Tabela I'!B20 -> 0 | E11: ='Tabela I'!C20 -> 0 | F11: ='Tabela I'!E20 -> 0
A12: ='Tabela I'!$F$2 -> 0 | B12: ='Tabela I'!$F$1 -> 2019 | C12: 105 | D12: ='Tabela I'!B23 -> 13 | E12: ='Tabela I'!C23 -> 2363 | F12: ='Tabela I'!E23 -> 2308
A13: ='Tabela I'!$F$2 -> 0 | B13: ='Tabela I'!$F$1 -> 2019 | C13: 106 | D13: ='Tabela I'!B24 -> 0 | E13: ='Tabela I'!C24 -> 6594 | F13: ='Tabela I'!E24 -> 6594
A14: ='Tabela I'!$F$2 -> 0 | B14: ='Tabela I'!$F$1 -> 2019 | C14: 107 | D14: ='Tabela I'!B25 -> 0 | E14: ='Tabela I'!C25 -> 1141 | F14: ='Tabela I'!E25 -> 1141
A15: ='Tabela I'!$F$2 -> 0 | B15: ='Tabela I'!$F$1 -> 2019 | C15: 108 | D15: ='Tabela I'!B26 -> 0 | E15: ='Tabela I'!C26 -> 60 | F15: ='Tabela I'!E26 -> 60
A16: ='Tabela I'!$F$2 -> 0 | B16: ='Tabela I'!$F$1 -> 2019 | C16: 60 | D16: ='Tabela I'!B27 -> 0 | E16: ='Tabela I'!C27 -> 0 | F16: ='Tabela I'!E27 -> 0
A17: ='Tabela I'!$F$2 -> 0 | B17: ='Tabela I'!$F$1 -> 2019 | C17: 65 | D17: ='Tabela I'!B30 -> 0 | E17: ='Tabela I'!C30 -> 0 | F17: ='Tabela I'!E30 -> 0

Sheet tbl1b_zk_opc_osn
A1: for_key | B1: godina | C1: idReferata | D1: BrNerPocGod | E1: BrPrimTokGod | F1: BrRijTokGod
A2: ='Tabela I'!$F$2 -> 0 | B2: ='Tabela I'!$F$1 -> 2019 | C2: 57 | D2: ='Tabela Ia'!B7 -> 13 | E2: ='Tabela Ia'!C7 -> 2363 | F2: ='Tabela Ia'!E7 -> 2308
A3: ='Tabela I'!$F$2 -> 0 | B3: ='Tabela I'!$F$1 -> 2019 | C3: 58 | D3: ='Tabela Ia'!B8 -> 0 | E3: ='Tabela Ia'!C8 -> 6594 | F3: ='Tabela Ia'!E8 -> 6594
A4: ='Tabela I'!$F$2 -> 0 | B4: ='Tabela I'!$F$1 -> 2019 | C4: 59 | D4: ='Tabela Ia'!B9 -> 0 | E4: ='Tabela Ia'!C9 -> 1141 | F4: ='Tabela Ia'!E9 -> 1141
A5: ='Tabela I'!$F$2 -> 0 | B5: ='Tabela I'!$F$1 -> 2019 | C5: 60 | D5: ='Tabela Ia'!B10 -> 0 | E5: ='Tabela Ia'!C10 -> 60 | F5: ='Tabela Ia'!E10 -> 60
D6: =SUM(D2:D5) -> 13 | E6: =SUM(E2:E5) -> 10158 | F6: =SUM(F2:F5) -> 10103

Sheet tbl II
A1: Godina | B1: Sud | C1: ImePrezime | D1: Ocjenjen | E1: Odjel | F1: Funkcija | G1: NormaPravilnik | H1: DatumOd | I1: DatumDo | J1: BroDanaZa Normu | K1: Odsustvo | L1: NormaCMS | M1: NormaVanCMS | N1: VeceVrenovanje | O1: OstvarenaNorma | P1: PreracunataNorma | Q1: BrPredURadu | R1: BrRijPred | S1: BrNerijPredSaZakProcSmet | T1: BrNerijPredBezZakProcSmet | U1: ProcRijePred | V1: BrOStBod
A2: ='Tabela I'!$F$1 -> 2019 | B2: ='Tabela I'!$F$2 -> 0 | C2: ='Tabela II'!B8 -> Randžana Hadžibegović Haračić | D2: ='Tabela II'!C8 -> Da | E2: ='Tabela II'!D8 -> 0 | F2: ='Tabela II'!E8 -> Predsjednik suda | G2: ='Tabela II'!G8 -> 0 | H2: ='Tabela II'!H8 -> 0 | I2: ='Tabela II'!I8 -> 0 | J2: ='Tabela II'!J8 -> 261 | K2: ='Tabela II'!K8 -> 0 | L2: ='Tabela II'!L8 -> 0 | M2: ='Tabela II'!M8 -> 0 | N2: ='Tabela II'!N8 -> 0 | ... V2: ='Tabela II'!V8
A3: ='Tabela I'!$F$1 -> 2019 | B3: ='Tabela I'!$F$2 -> 0 | C3: ='Tabela II'!B9 -> 0 | D3: ='Tabela II'!C9 -> 0 | E3: ='Tabela II'!D9 -> 0 | F3: ='Tabela II'!E9 -> Predsjednik suda | G3: ='Tabela II'!G9 -> 0.4 | H3: ='Tabela II'!H9 -> 01.01.2019. | I3: ='Tabela II'!I9 -> 31.12.2019. | J3: ='Tabela II'!J9 -> 261 | K3: ='Tabela II'!K9 -> 0 | L3: ='Tabela II'!L9 -> 0.4968 | M3: ='Tabela II'!M9 -> 0 | N3: ='Tabela II'!N9 -> 0 | ... V3: ='Tabela II'!V9 -> 10
A4: ='Tabela I'!$F$1 -> 2019 | B4: ='Tabela I'!$F$2 -> 0 | C4: ='Tabela II'!B10 -> Amira Ždralović | D4: ='Tabela II'!C10 -> Da | E4: ='Tabela II'!D10 -> Parnični | F4: ='Tabela II'!E10 -> Predsjednik odjela | G4: ='Tabela II'!G10 -> 0.9 | H4: ='Tabela II'!H10 -> 01.01.2019. | I4: ='Tabela II'!I10 -> 31.12.2019. | J4: ='Tabela II'!J10 -> 261 | K4: ='Tabela II'!K10 -> 0 | L4: ='Tabela II'!L10 -> 1.0024 | M4: ='Tabela II'!M10 -> 0 | N4: ='Tabela II'!N10 -> 0 | ... V4: ='Tabela II'!V10 -> 30
A5: ='Tabela I'!$F$1 -> 2019 | B5: ='Tabela I'!$F$2 -> 0 | C5: ='Tabela II'!B11 -> Darko Solomun | D5: ='Tabela II'!C11 -> Da | E5: ='Tabela II'!D11 -> Krivično-prekršajni | F5: ='Tabela II'!E11 -> Predsjednik odjela | G5: ='Tabela II'!G11 -> 0.9 | H5: ='Tabela II'!H11 -> 01.01.2019. | I5: ='Tabela II'!I11 -> 31.12.2019. | J5: ='Tabela II'!J11 -> 261 | K5: ='Tabela II'!K11 -> 10 | L5: ='Tabela II'!L11 -> 0.8893 | M5: ='Tabela II'!M11 -> 0 | N5: ='Tabela II'!N11 -> 0 | ... V5: ='Tabela II'!V11 -> 30
A6: ='Tabela I'!$F$1 -> 2019 | B6: ='Tabela I'!$F$2 -> 0 | C6: ='Tabela II'!B12 -> Nebojša Vrhovac | D6: ='Tabela II'!C12 -> Da | E6: ='Tabela II'!D12 -> Izvršni | F6: ='Tabela II'!E12 -> Predsjednik odjela | G6: ='Tabela II'!G12 -> 0.9 | H6: ='Tabela II'!H12 -> 01.01.2019. | I6: ='Tabela II'!I12 -> 31.12.2019. | J6: ='Tabela II'!J12 -> 261 | K6: ='Tabela II'!K12 -> 17 | L6: ='Tabela II'!L12 -> 0.925 | M6: ='Tabela II'!M12 -> 0 | N6: ='Tabela II'!N12 -> 0 | ... V6: ='Tabela II'!V12 -> 30
A7: ='Tabela I'!$F$1 -> 2019 | B7: ='Tabela I'!$F$2 -> 0 | C7: ='Tabela II'!B13 -> Safet Žuljko | D7: ='Tabela II'!C13 -> Da | E7: ='Tabela II'!D13 -> Krivično-prekršajni | F7: ='Tabela II'!E13 -> Sudija | G7: ='Tabela II'!G13 -> 1 | H7: ='Tabela II'!H13 -> 01.01.2019. | I7: ='Tabela II'!I13 -> 31.12.2019. | J7: ='Tabela II'!J13 -> 261 | K7: ='Tabela II'!K13 -> 24 | L7: ='Tabela II'!L13 -> 1.2214 | M7: ='Tabela II'!M13 -> 0 | N7: ='Tabela II'!N13 -> 0 | ... V7: ='Tabela II'!V13 -> 30
A8: ='Tabela I'!$F$1 -> 2019 | B8: ='Tabela I'!$F$2 -> 0 | C8: ='Tabela II'!B14 -> Katica Soldo | D8: ='Tabela II'!C14 -> Da | E8: ='Tabela II'!D14 -> Parnični | F8: ='Tabela II'!E14 -> Sudija | G8: ='Tabela II'!G14 -> 1 | H8: ='Tabela II'!H14 -> 01.01.2019. | I8: ='Tabela II'!I14 -> 31.12.2019. | J8: ='Tabela II'!J14 -> 261 | K8: ='Tabela II'!K14 -> 10 | L8: ='Tabela II'!L14 -> 1.1746 | M8: ='Tabela II'!M14 -> 0 | N8: ='Tabela II'!N14 -> 0 | ... V8: ='Tabela II'!V14 -> 30
A9: ='Tabela I'!$F$1 -> 2019 | B9: ='Tabela I'!$F$2 -> 0 | C9: ='Tabela II'!B15 -> Lejla Nurikić | D9: ='Tabela II'!C15 -> Da | E9: ='Tabela II'!D15 -> Parnični | F9: ='Tabela II'!E15 -> Sudija | G9: ='Tabela II'!G15 -> 1 | H9: ='Tabela II'!H15 -> 01.01.2019. | I9: ='Tabela II'!I15 -> 31.12.2019. | J9: ='Tabela II'!J15 -> 261 | K9: ='Tabela II'!K15 -> 6 | L9: ='Tabela II'!L15 -> 0.9805 | M9: ='Tabela II'!M15 -> 0 | N9: ='Tabela II'!N15 -> 0 | ... V9: ='Tabela II'!V15 -> 30
A10: ='Tabela I'!$F$1 -> 2019 | B10: ='Tabela I'!$F$2 -> 0 | C10: ='Tabela II'!B16 -> Janja Pilić | D10: ='Tabela II'!C16 -> Da | E10: ='Tabela II'!D16 -> Parnični | F10: ='Tabela II'!E16 -> Sudija | G10: ='Tabela II'!G16 -> 1 | H10: ='Tabela II'!H16 -> 01.01.2019. | I10: ='Tabela II'!I16 -> 31.12.2019. | J10: ='Tabela II'!J16 -> 261 | K10: ='Tabela II'!K16 -> 3 | L10: ='Tabela II'!L16 -> 1.0871 | M10: ='Tabela II'!M16 -> 0 | N10: ='Tabela II'!N16 -> 0 | ... V10: ='Tabela II'!V16 -> 30
A11: ='Tabela I'!$F$1 -> 2019 | B11: ='Tabela I'!$F$2 -> 0 | C11: ='Tabela II'!B17 -> Samil Ramić | D11: ='Tabela II'!C17 -> Da | E11: ='Tabela II'!D17 -> Izvršni | F11: ='Tabela II'!E17 -> Sudija | G11: ='Tabela II'!G17 -> 1 | H11: ='Tabela II'!H17 -> 01.01.2019. | I11: ='Tabela II'!I17 -> 31.12.2019. | J11: ='Tabela II'!J17 -> 261 | K11: ='Tabela II'!K17 -> 36 | L11: ='Tabela II'!L17 -> 0.9951 | M11: ='Tabela II'!M17 -> 0 | N11: ='Tabela II'!N17 -> 0 | ... V11: ='Tabela II'!V17 -> 30
A12: ='Tabela I'!$F$1 -> 2019 | B12: ='Tabela I'!$F$2 -> 0 | C12: ='Tabela II'!B18 -> Ivan Gudelj | D12: ='Tabela II'!C18 -> Da | E12: ='Tabela II'!D18 -> Izvršni | F12: ='Tabela II'!E18 -> Sudija | G12: ='Tabela II'!G18 -> 1 | H12: ='Tabela II'!H18 -> 01.01.2019. | I12: ='Tabela II'!I18 -> 31.12.2019. | J12: ='Tabela II'!J18 -> 261 | K12: ='Tabela II'!K18 -> 5 | L12: ='Tabela II'!L18 -> 1.0406 | M12: ='Tabela II'!M18 -> 0 | N12: ='Tabela II'!N18 -> 0 | ... V12: ='Tabela II'!V18 -> 30
A13: ='Tabela I'!$F$1 -> 2019 | B13: ='Tabela I'!$F$2 -> 0 | C13: ='Tabela II'!B19 -> Aldina Rebihić Topoljak | D13: ='Tabela II'!C19 -> Da | E13: ='Tabela II'!D19 -> Izvršni | F13: ='Tabela II'!E19 -> Sudija | G13: ='Tabela II'!G19 -> 1 | H13: ='Tabela II'!H19 -> 01.01.2019. | I13: ='Tabela II'!I19 -> 31.12.2019. | J13: ='Tabela II'!J19 -> 261 | K13: ='Tabela II'!K19 -> 55 | L13: ='Tabela II'!L19 -> 0.8916 | M13: ='Tabela II'!M19 -> 0 | N13: ='Tabela II'!N19 -> 0 | ... V13: ='Tabela II'!V19 -> 30
... A77: ='Tabela I'!$F$1 -> 2019 | B77: ='Tabela I'!$F$2 -> 0 | C77: ='Tabela II'!B83 -> 0 | D77: ='Tabela II'!C83 -> 0 | E77: ='Tabela II'!D83 -> 0 | F77: ='Tabela II'!E83 -> 0 | G77: ='Tabela II'!G83 -> 0 | H77: ='Tabela II'!H83 -> 0 | I77: ='Tabela II'!I83 -> 0 | J77: ='Tabela II'!J83 -> 261 | K77: ='Tabela II'!K83 -> 0 | L77: ='Tabela II'!L83 -> 0 | M77: ='Tabela II'!M83 -> 0 | N77: ='Tabela II'!N83 -> 0 | ... V77: ='Tabela II'!V83
A79: Godina | B79: Sud | C79: ImePrezime | D79: Ocjenjen | E79: Odjel | F79: Funkcija | G79: NormaPravilnik | H79: DatumOd | I79: DatumDo | J79: BroDanaZa Normu | K79: Odsustvo | L79: NormaCMS | M79: NormaVanCMS | N79: VeceVrenovanje | O79: OstvarenaNorma | P79: PreracunataNorma | Q79: BrPredURadu | R79: BrRijPred | S79: BrNerijPredSaZakProcSmet | T79: BrNerijPredBezZakProcSmet | U79: ProcRijePred | V79: BrOStBod | W79: Sud
A80: ='Tabela I'!$F$1 -> 2019 | B80: ='Tabela I'!$F$2 -> 0 | C80: ='Tabela II'!D109 -> 0 | D80: ='Tabela II'!C110 -> 0 | E80: ='Tabela II'!D110 -> 0 | F80: ='Tabela II'!E110 -> Predsjednik suda | G80: ='Tabela II'!G110 -> 0 | H80: ='Tabela II'!H110 -> 0 | I80: ='Tabela II'!I110 -> 0 | J80: ='Tabela II'!J110 -> 0 | K80: ='Tabela II'!K110 -> 0 | L80: ='Tabela II'!L110 -> 0 | M80: ='Tabela II'!M110 -> 0 | N80: ='Tabela II'!N110 -> 0 | ... V80: ='Tabela II'!V110 -> 0 | W80: ='Tabela II'!A110 -> Sud 1
A81: ='Tabela I'!$F$1 -> 2019 | B81: ='Tabela I'!$F$2 -> 0 | C81: ='Tabela II'!D109 -> 0 | D81: ='Tabela II'!C111 -> 0 | E81: ='Tabela II'!D111 -> 0 | F81: ='Tabela II'!E111 -> 0 | G81: ='Tabela II'!G111 -> 0 | H81: ='Tabela II'!H111 -> 0 | I81: ='Tabela II'!I111 -> 0 | J81: ='Tabela II'!J111 -> 0 | K81: ='Tabela II'!K111 -> 0 | L81: ='Tabela II'!L111 -> 0 | M81: ='Tabela II'!M111 -> 0 | N81: ='Tabela II'!N111 -> 0 | ... V81: ='Tabela II'!V111 -> 0 | W81: ='Tabela II'!A111 -> Sud 2
A82: ='Tabela I'!$F$1 -> 2019 | B82: ='Tabela I'!$F$2 -> 0 | C82: ='Tabela II'!D112 -> 0 | D82: ='Tabela II'!C113 -> 0 | E82: ='Tabela II'!D113 -> 0 | F82: ='Tabela II'!E113 -> 0 | G82: ='Tabela II'!G113 -> 0 | H82: ='Tabela II'!H113 -> 0 | I82: ='Tabela II'!I113 -> 0 | J82: ='Tabela II'!J113 -> 0 | K82: ='Tabela II'!K113 -> 0 | L82: ='Tabela II'!L113 -> 0 | M82: ='Tabela II'!M113 -> 0 | N82: ='Tabela II'!N113 -> 0 | ... V82: ='Tabela II'!V113 -> 0 | W82: ='Tabela II'!A113 -> Sud 1
A83: ='Tabela I'!$F$1 -> 2019 | B83: ='Tabela I'!$F$2 -> 0 | C83: ='Tabela II'!D112 -> 0 | D83: ='Tabela II'!C114 -> 0 | E83: ='Tabela II'!D114 -> 0 | F83: ='Tabela II'!E114 -> 0 | G83: ='Tabela II'!G114 -> 0 | H83: ='Tabela II'!H114 -> 0 | I83: ='Tabela II'!I114 -> 0 | J83: ='Tabela II'!J114 -> 0 | K83: ='Tabela II'!K114 -> 0 | L83: ='Tabela II'!L114 -> 0 | M83: ='Tabela II'!M114 -> 0 | N83: ='Tabela II'!N114 -> 0 | ... V83: ='Tabela II'!V114 -> 0 | W83: ='Tabela II'!A114 -> Sud 2
A84: ='Tabela I'!$F$1 -> 2019 | B84: ='Tabela I'!$F$2 -> 0 | C84: ='Tabela II'!D115 -> 0 | D84: ='Tabela II'!C116 -> 0 | E84: ='Tabela II'!D116 -> 0 | F84: ='Tabela II'!E116 -> 0 | G84: ='Tabela II'!G116 -> 0 | H84: ='Tabela II'!H116 -> 0 | I84: ='Tabela II'!I116 -> 0 | J84: ='Tabela II'!J116 -> 0 | K84: ='Tabela II'!K116 -> 0 | L84: ='Tabela II'!L116 -> 0 | M84: ='Tabela II'!M116 -> 0 | N84: ='Tabela II'!N116 -> 0 | ... V84: ='Tabela II'!V116 -> 0 | W84: ='Tabela II'!A116 -> Sud 1
A85: ='Tabela I'!$F$1 -> 2019 | B85: ='Tabela I'!$F$2 -> 0 | C85: ='Tabela II'!D115 -> 0 | D85: ='Tabela II'!C117 -> 0 | E85: ='Tabela II'!D117 -> 0 | F85: ='Tabela II'!E117 -> 0 | G85: ='Tabela II'!G117 -> 0 | H85: ='Tabela II'!H117 -> 0 | I85: ='Tabela II'!I117 -> 0 | J85: ='Tabela II'!J117 -> 0 | K85: ='Tabela II'!K117 -> 0 | L85: ='Tabela II'!L117 -> 0 | M85: ='Tabela II'!M117 -> 0 | N85: ='Tabela II'!N117 -> 0 | ... V85: ='Tabela II'!V117 -> 0 | W85: ='Tabela II'!A117 -> Sud 2
A86: ='Tabela I'!$F$1 -> 2019 | B86: ='Tabela I'!$F$2 -> 0 | C86: ='Tabela II'!D118 -> 0 | D86: ='Tabela II'!C119 -> 0 | E86: ='Tabela II'!D119 -> 0 | F86: ='Tabela II'!E119 -> 0 | G86: ='Tabela II'!G119 -> 0 | H86: ='Tabela II'!H119 -> 0 | I86: ='Tabela II'!I119 -> 0 | J86: ='Tabela II'!J119 -> 0 | K86: ='Tabela II'!K119 -> 0 | L86: ='Tabela II'!L119 -> 0 | M86: ='Tabela II'!M119 -> 0 | N86: ='Tabela II'!N119 -> 0 | ... V86: ='Tabela II'!V119 -> 0 | W86: ='Tabela II'!A119 -> Sud 1
A87: ='Tabela I'!$F$1 -> 2019 | B87: ='Tabela I'!$F$2 -> 0 | C87: ='Tabela II'!D118 -> 0 | D87: ='Tabela II'!C120 -> 0 | E87: ='Tabela II'!D120 -> 0 | F87: ='Tabela II'!E120 -> 0 | G87: ='Tabela II'!G120 -> 0 | H87: ='Tabela II'!H120 -> 0 | I87: ='Tabela II'!I120 -> 0 | J87: ='Tabela II'!J120 -> 0 | K87: ='Tabela II'!K120 -> 0 | L87: ='Tabela II'!L120 -> 0 | M87: ='Tabela II'!M120 -> 0 | N87: ='Tabela II'!N120 -> 0 | ... V87: ='Tabela II'!V120 -> 0 | W87: ='Tabela II'!A120 -> Sud 2
A88: ='Tabela I'!$F$1 -> 2019 | B88: ='Tabela I'!$F$2 -> 0 | C88: ='Tabela II'!D121 -> 0 | D88: ='Tabela II'!C122 -> 0 | E88: ='Tabela II'!D122 -> 0 | F88: ='Tabela II'!E122 -> 0 | G88: ='Tabela II'!G122 -> 0 | H88: ='Tabela II'!H122 -> 0 | I88: ='Tabela II'!I122 -> 0 | J88: ='Tabela II'!J122 -> 0 | K88: ='Tabela II'!K122 -> 0 | L88: ='Tabela II'!L122 -> 0 | M88: ='Tabela II'!M122 -> 0 | N88: ='Tabela II'!N122 -> 0 | ... V88: ='Tabela II'!V122 -> 0 | W88: ='Tabela II'!A122 -> Sud 1
A89: ='Tabela I'!$F$1 -> 2019 | B89: ='Tabela I'!$F$2 -> 0 | C89: ='Tabela II'!D121 -> 0 | D89: ='Tabela II'!C123 -> 0 | E89: ='Tabela II'!D123 -> 0 | F89: ='Tabela II'!E123 -> 0 | G89: ='Tabela II'!G123 -> 0 | H89: ='Tabela II'!H123 -> 0 | I89: ='Tabela II'!I123 -> 0 | J89: ='Tabela II'!J123 -> 0 | K89: ='Tabela II'!K123 -> 0 | L89: ='Tabela II'!L123 -> 0 | M89: ='Tabela II'!M123 -> 0 | N89: ='Tabela II'!N123 -> 0 | ... V89: ='Tabela II'!V123 -> 0 | W89: ='Tabela II'!A123 -> Sud 2
A90: ='Tabela I'!$F$1 -> 2019 | B90: ='Tabela I'!$F$2 -> 0 | C90: ='Tabela II'!D124 -> 0 | D90: ='Tabela II'!C125 -> 0 | E90: ='Tabela II'!D125 -> 0 | F90: ='Tabela II'!E125 -> 0 | G90: ='Tabela II'!G125 -> 0 | H90: ='Tabela II'!H125 -> 0 | I90: ='Tabela II'!I125 -> 0 | J90: ='Tabela II'!J125 -> 0 | K90: ='Tabela II'!K125 -> 0 | L90: ='Tabela II'!L125 -> 0 | M90: ='Tabela II'!M125 -> 0 | N90: ='Tabela II'!N125 -> 0 | ... V90: ='Tabela II'!V125 -> 0 | W90: ='Tabela II'!A125 -> Sud 1
A91: ='Tabela I'!$F$1 -> 2019 | B91: ='Tabela I'!$F$2 -> 0 | C91: ='Tabela II'!D124 -> 0 | D91: ='Tabela II'!C126 -> 0 | E91: ='Tabela II'!D126 -> 0 | F91: ='Tabela II'!E126 -> 0 | G91: ='Tabela II'!G126 -> 0 | H91: ='Tabela II'!H126 -> 0 | I91: ='Tabela II'!I126 -> 0 | J91: ='Tabela II'!J126 -> 0 | K91: ='Tabela II'!K126 -> 0 | L91: ='Tabela II'!L126 -> 0 | M91: ='Tabela II'!M126 -> 0 | N91: ='Tabela II'!N126 -> 0 | ... V91: ='Tabela II'!V126 -> 0 | W91: ='Tabela II'!A126 -> Sud 2
A92: ='Tabela I'!$F$1 -> 2019 | B92: ='Tabela I'!$F$2 -> 0 | C92: ='Tabela II'!D127 -> 0 | D92: ='Tabela II'!C128 -> 0 | E92: ='Tabela II'!D128 -> 0 | F92: ='Tabela II'!E128 -> 0 | G92: ='Tabela II'!G128 -> 0 | H92: ='Tabela II'!H128 -> 0 | I92: ='Tabela II'!I128 -> 0 | J92: ='Tabela II'!J128 -> 0 | K92: ='Tabela II'!K128 -> 0 | L92: ='Tabela II'!L128 -> 0 | M92: ='Tabela II'!M128 -> 0 | N92: ='Tabela II'!N128 -> 0 | ... V92: ='Tabela II'!V128 -> 0 | W92: ='Tabela II'!A128 -> Sud 1
A93: ='Tabela I'!$F$1 -> 2019 | B93: ='Tabela I'!$F$2 -> 0 | C93: ='Tabela II'!D127 -> 0 | D93: ='Tabela II'!C129 -> 0 | E93: ='Tabela II'!D129 -> 0 | F93: ='Tabela II'!E129 -> 0 | G93: ='Tabela II'!G129 -> 0 | H93: ='Tabela II'!H129 -> 0 | I93: ='Tabela II'!I129 -> 0 | J93: ='Tabela II'!J129 -> 0 | K93: ='Tabela II'!K129 -> 0 | L93: ='Tabela II'!L129 -> 0 | M93: ='Tabela II'!M129 -> 0 | N93: ='Tabela II'!N129 -> 0 | ... V93: ='Tabela II'!V129 -> 0 | W93: ='Tabela II'!A129 -> Sud 2
A94: ='Tabela I'!$F$1 -> 2019 | B94: ='Tabela I'!$F$2 -> 0 | C94: ='Tabela II'!D130 -> 0 | D94: ='Tabela II'!C131 -> 0 | E94: ='Tabela II'!D131 -> 0 | F94: ='Tabela II'!E131 -> 0 | G94: ='Tabela II'!G131 -> 0 | H94: ='Tabela II'!H131 -> 0 | I94: ='Tabela II'!I131 -> 0 | J94: ='Tabela II'!J131 -> 0 | K94: ='Tabela II'!K131 -> 0 | L94: ='Tabela II'!L131 -> 0 | M94: ='Tabela II'!M131 -> 0 | N94: ='Tabela II'!N131 -> 0 | ... V94: ='Tabela II'!V131 -> 0 | W94: ='Tabela II'!A131 -> Sud 1
A95: ='Tabela I'!$F$1 -> 2019 | B95: ='Tabela I'!$F$2 -> 0 | C95: ='Tabela II'!D130 -> 0 | D95: ='Tabela II'!C132 -> 0 | E95: ='Tabela II'!D132 -> 0 | F95: ='Tabela II'!E132 -> 0 | G95: ='Tabela II'!G132 -> 0 | H95: ='Tabela II'!H132 -> 0 | I95: ='Tabela II'!I132 -> 0 | J95: ='Tabela II'!J132 -> 0 | K95: ='Tabela II'!K132 -> 0 | L95: ='Tabela II'!L132 -> 0 | M95: ='Tabela II'!M132 -> 0 | N95: ='Tabela II'!N132 -> 0 | ... V95: ='Tabela II'!V132 -> 0 | W95: ='Tabela II'!A132 -> Sud 2
A96: ='Tabela I'!$F$1 -> 2019 | B96: ='Tabela I'!$F$2 -> 0 | C96: ='Tabela II'!D133 -> 0 | D96: ='Tabela II'!C134 -> 0 | E96: ='Tabela II'!D134 -> 0 | F96: ='Tabela II'!E134 -> 0 | G96: ='Tabela II'!G134 -> 0 | H96: ='Tabela II'!H134 -> 0 | I96: ='Tabela II'!I134 -> 0 | J96: ='Tabela II'!J134 -> 0 | K96: ='Tabela II'!K134 -> 0 | L96: ='Tabela II'!L134 -> 0 | M96: ='Tabela II'!M134 -> 0 | N96: ='Tabela II'!N134 -> 0 | ... V96: ='Tabela II'!V134 -> 0 | W96: ='Tabela II'!A134 -> Sud 1
A97: ='Tabela I'!$F$1 -> 2019 | B97: ='Tabela I'!$F$2 -> 0 | C97: ='Tabela II'!D133 -> 0 | D97: ='Tabela II'!C135 -> 0 | E97: ='Tabela II'!D135 -> 0 | F97: ='Tabela II'!E135 -> 0 | G97: ='Tabela II'!G135 -> 0 | H97: ='Tabela II'!H135 -> 0 | I97: ='Tabela II'!I135 -> 0 | J97: ='Tabela II'!J135 -> 0 | K97: ='Tabela II'!K135 -> 0 | L97: ='Tabela II'!L135 -> 0 | M97: ='Tabela II'!M135 -> 0 | N97: ='Tabela II'!N135 -> 0 | ... V97: ='Tabela II'!V135 -> 0 | W97: ='Tabela II'!A135 -> Sud 2
A98: ='Tabela I'!$F$1 -> 2019 | B98: ='Tabela I'!$F$2 -> 0 | C98: ='Tabela II'!D136 -> 0 | D98: ='Tabela II'!C137 -> 0 | E98: ='Tabela II'!D137 -> 0 | F98: ='Tabela II'!E137 -> 0 | G98: ='Tabela II'!G137 -> 0 | H98: ='Tabela II'!H137 -> 0 | I98: ='Tabela II'!I137 -> 0 | J98: ='Tabela II'!J137 -> 0 | K98: ='Tabela II'!K137 -> 0 | L98: ='Tabela II'!L137 -> 0 | M98: ='Tabela II'!M137 -> 0 | N98: ='Tabela II'!N137 -> 0 | ... V98: ='Tabela II'!V137 -> 0 | W98: ='Tabela II'!A137 -> Sud 1
A99: ='Tabela I'!$F$1 -> 2019 | B99: ='Tabela I'!$F$2 -> 0 | C99: ='Tabela II'!D136 -> 0 | D99: ='Tabela II'!C138 -> 0 | E99: ='Tabela II'!D138 -> 0 | F99: ='Tabela II'!E138 -> 0 | G99: ='Tabela II'!G138 -> 0 | H99: ='Tabela II'!H138 -> 0 | I99: ='Tabela II'!I138 -> 0 | J99: ='Tabela II'!J138 -> 0 | K99: ='Tabela II'!K138 -> 0 | L99: ='Tabela II'!L138 -> 0 | M99: ='Tabela II'!M138 -> 0 | N99: ='Tabela II'!N138 -> 0 | ... V99: ='Tabela II'!V138 -> 0 | W99: ='Tabela II'!A138 -> Sud 2

Sheet tbl4InicAkt
A1: for_key | B1: godina | C1: idReferata | D1: Zalba | E1: 2019 | F1: 2018 | G1: 2017 | H1: 2016 | I1: 2015 | J1: 2014 | K1: 2013 | L1: 2012 | M1: 2011 | N1: 2010 | O1: 2009 | P1: 2008 | Q1: 2007 | R1: 2006 | S1: 2005 | T1: 2004 | U1: 2003 | V1: 2002 | W1: 2001 | X1: 2000 | Y1: 1999 | Z1: 1998 | AA1: 1997 | AB1: 1996 | AC1: 1995 | AD1: 1994 | AE1: 1993 | AF1: 1992 | AG1: 1991 | AH1: 1990 | AI1: 1989 | AJ1: 1988 | AK1: 1987 | AL1: 1986 | AM1: 1985 | AN1: 1984 | AO1: 1983 | AP1: 1982 | AQ1: 1981 | AR1: 1980 | AS1: 1979 | AT1: 1978 | AU1: 1977 | AV1: 1976 | AW1: 1975 | AX1: 1974 | AY1: 1973 | AZ1: 1972 | BA1: 1971 | BB1: 1970 | BC1: Stariji od 1970
A2: ='Tabela I'!$F$2 -> 0 | B2: ='Tabela I'!$F$1 -> 2019 | C2: 26 | D2: 0 | E2: ='Tabela V'!$B$8 -> 0 | F2: ='Tabela V'!$B$9 -> 0 | G2: ='Tabela V'!$B$10 -> 0 | H2: ='Tabela V'!$B$11 -> 0 | I2: ='Tabela V'!$B$12 -> 0 | J2: ='Tabela V'!$B$13 -> 0 | K2: ='Tabela V'!$B$14 -> 0 | L2: ='Tabela V'!$B$15 -> 0 | M2: ='Tabela V'!$B$16 -> 0 | N2: ='Tabela V'!$B$17 -> 0 | O2: ='Tabela V'!$B$18 -> 0 | P2: ='Tabela V'!$B$19 -> 0 | Q2: ='Tabela V'!$B$20 -> 0 | R2: ='Tabela V'!$B$21 -> 0 | S2: ='Tabela V'!$B$22 -> 0 | T2: ='Tabela V'!$B$23 -> 0 | U2: ='Tabela V'!$B$24 -> 0 | V2: ='Tabela V'!$B$25 -> 0 | W2: ='Tabela V'!$B$26 -> 0 | X2: ='Tabela V'!$B$27 -> 0 | Y2: ='Tabela V'!$B$28 -> 0 | Z2: ='Tabela V'!$B$29 -> 0 | AA2: ='Tabela V'!$B$30 -> 0 | AB2: ='Tabela V'!$B$31 -> 0 | AC2: ='Tabela V'!$B$32 -> 0 | AD2: ='Tabela V'!$B$33 -> 0 | AE2: ='Tabela V'!$B$34 -> 0 | AF2: ='Tabela V'!$B$35 -> 0 | AG2: ='Tabela V'!$B$36 -> 0 | AH2: ='Tabela V'!$B$37 -> 0 | AI2: ='Tabela V'!$B$38 -> 0 | AJ2: ='Tabela V'!$B$39 -> 0 | AK2: ='Tabela V'!$B$40 -> 0 | AL2: ='Tabela V'!$B$41 -> 0 | AM2: ='Tabela V'!$B$42 -> 0 | AN2: ='Tabela V'!$B$43 -> 0 | AO2: ='Tabela V'!$B$44 -> 0 | AP2: ='Tabela V'!$B$45 -> 0 | AQ2: ='Tabela V'!$B$46 -> 0 | AR2: ='Tabela V'!$B$47 -> 0 | AS2: ='Tabela V'!$B$48 -> 0 | AT2: ='Tabela V'!$B$49 -> 0 | AU2: ='Tabela V'!$B$50 -> 0 | AV2: ='Tabela V'!$B$51 -> 0 | AW2: ='Tabela V'!$B$52 -> 0 | AX2: ='Tabela V'!$B$53 -> 0 | AY2: ='Tabela V'!$B$54 -> 0 | AZ2: ='Tabela V'!$B$55 -> 0 | BA2: ='Tabela V'!$B$56 -> 0 | BB2: ='Tabela V'!$B$57 -> 0 | BC2: ='Tabela V'!$B$58 -> 0
A3: ='Tabela I'!$F$2 -> 0 | B3: ='Tabela I'!$F$1 -> 2019 | C3: 104 | D3: 0 | E3: ='Tabela V'!$C$8 -> 0 | F3: ='Tabela V'!$C$9 -> 0 | G3: ='Tabela V'!$C$10 -> 0 | H3: ='Tabela V'!$C$11 -> 0 | I3: ='Tabela V'!$C$12 -> 0 | J3: ='Tabela V'!$C$13 -> 0 | K3: ='Tabela V'!$C$14 -> 0 | L3: ='Tabela V'!$C$15 -> 0 | M3: ='Tabela V'!$C$16 -> 0 | N3: ='Tabela V'!$C$17 -> 0 | O3: ='Tabela V'!$C$18 -> 0 | P3: ='Tabela V'!$C$19 -> 0 | Q3: ='Tabela V'!$C$20 -> 0 | R3: ='Tabela V'!$C$21 -> 0 | S3: ='Tabela V'!$C$22 -> 0 | T3: ='Tabela V'!$C$23 -> 0 | U3: ='Tabela V'!$C$24 -> 0 | V3: ='Tabela V'!$C$25 -> 0 | W3: ='Tabela V'!$C$26 -> 0 | X3: ='Tabela V'!$C$27 -> 0 | Y3: ='Tabela V'!$C$28 -> 0 | Z3: ='Tabela V'!$C$29 -> 0 | AA3: ='Tabela V'!$C$30 -> 0 | AB3: ='Tabela V'!$C$31 -> 0 | AC3: ='Tabela V'!$C$32 -> 0 | AD3: ='Tabela V'!$C$33 -> 0 | AE3: ='Tabela V'!$C$34 -> 0 | AF3: ='Tabela V'!$C$35 -> 0 | AG3: ='Tabela V'!$C$36 -> 0 | AH3: ='Tabela V'!$C$37 -> 0 | AI3: ='Tabela V'!$C$38 -> 0 | AJ3: ='Tabela V'!$C$39 -> 0 | AK3: ='Tabela V'!$C$40 -> 0 | AL3: ='Tabela V'!$C$41 -> 0 | AM3: ='Tabela V'!$C$42 -> 0 | AN3: ='Tabela V'!$C$43 -> 0 | AO3: ='Tabela V'!$C$44 -> 0 | AP3: ='Tabela V'!$C$45 -> 0 | AQ3: ='Tabela V'!$C$46 -> 0 | AR3: ='Tabela V'!$C$47 -> 0 | AS3: ='Tabela V'!$C$48 -> 0 | AT3: ='Tabela V'!$C$49 -> 0 | AU3: ='Tabela V'!$C$50 -> 0 | AV3: ='Tabela V'!$C$51 -> 0 | AW3: ='Tabela V'!$C$52 -> 0 | AX3: ='Tabela V'!$C$53 -> 0 | AY3: ='Tabela V'!$C$54 -> 0 | AZ3: ='Tabela V'!$C$55 -> 0 | BA3: ='Tabela V'!$C$56 -> 0 | BB3: ='Tabela V'!$C$57 -> 0 | BC3: ='Tabela V'!$C$58 -> 0
A4: ='Tabela I'!$F$2 -> 0 | B4: ='Tabela I'!$F$1 -> 2019 | C4: 99 | D4: 0 | E4: ='Tabela V'!$D$8 -> 0 | F4: ='Tabela V'!$D$9 -> 0 | G4: ='Tabela V'!$D$10 -> 0 | H4: ='Tabela V'!$D$11 -> 0 | I4: ='Tabela V'!$D$12 -> 0 | J4: ='Tabela V'!$D$13 -> 0 | K4: ='Tabela V'!$D$14 -> 0 | L4: ='Tabela V'!$D$15 -> 0 | M4: ='Tabela V'!$D$16 -> 0 | N4: ='Tabela V'!$D$17 -> 0 | O4: ='Tabela V'!$D$18 -> 0 | P4: ='Tabela V'!$D$19 -> 0 | Q4: ='Tabela V'!$D$20 -> 0 | R4: ='Tabela V'!$D$21 -> 0 | S4: ='Tabela V'!$D$22 -> 0 | T4: ='Tabela V'!$D$23 -> 0 | U4: ='Tabela V'!$D$24 -> 0 | V4: ='Tabela V'!$D$25 -> 0 | W4: ='Tabela V'!$D$26 -> 0 | X4: ='Tabela V'!$D$27 -> 0 | Y4: ='Tabela V'!$D$28 -> 0 | Z4: ='Tabela V'!$D$29 -> 0 | AA4: ='Tabela V'!$D$30 -> 0 | AB4: ='Tabela V'!$D$31 -> 0 | AC4: ='Tabela V'!$D$32 -> 0 | AD4: ='Tabela V'!$D$33 -> 0 | AE4: ='Tabela V'!$D$34 -> 0 | AF4: ='Tabela V'!$D$35 -> 0 | AG4: ='Tabela V'!$D$36 -> 0 | AH4: ='Tabela V'!$D$37 -> 0 | AI4: ='Tabela V'!$D$38 -> 0 | AJ4: ='Tabela V'!$D$39 -> 0 | AK4: ='Tabela V'!$D$40 -> 0 | AL4: ='Tabela V'!$D$41 -> 0 | AM4: ='Tabela V'!$D$42 -> 0 | AN4: ='Tabela V'!$D$43 -> 0 | AO4: ='Tabela V'!$D$44 -> 0 | AP4: ='Tabela V'!$D$45 -> 0 | AQ4: ='Tabela V'!$D$46 -> 0 | AR4: ='Tabela V'!$D$47 -> 0 | AS4: ='Tabela V'!$D$48 -> 0 | AT4: ='Tabela V'!$D$49 -> 0 | AU4: ='Tabela V'!$D$50 -> 0 | AV4: ='Tabela V'!$D$51 -> 0 | AW4: ='Tabela V'!$D$52 -> 0 | AX4: ='Tabela V'!$D$53 -> 0 | AY4: ='Tabela V'!$D$54 -> 0 | AZ4: ='Tabela V'!$D$55 -> 0 | BA4: ='Tabela V'!$D$56 -> 0 | BB4: ='Tabela V'!$D$57 -> 0 | BC4: ='Tabela V'!$D$58 -> 0
A5: ='Tabela I'!$F$2 -> 0 | B5: ='Tabela I'!$F$1 -> 2019 | C5: 100 | D5: 0 | E5: ='Tabela V'!$E$8 -> 0 | F5: ='Tabela V'!$E$9 -> 0 | G5: ='Tabela V'!$E$10 -> 0 | H5: ='Tabela V'!$E$11 -> 0 | I5: ='Tabela V'!$E$12 -> 0 | J5: ='Tabela V'!$E$13 -> 0 | K5: ='Tabela V'!$E$14 -> 0 | L5: ='Tabela V'!$E$15 -> 0 | M5: ='Tabela V'!$E$16 -> 0 | N5: ='Tabela V'!$E$17 -> 0 | O5: ='Tabela V'!$E$18 -> 0 | P5: ='Tabela V'!$E$19 -> 0 | Q5: ='Tabela V'!$E$20 -> 0 | R5: ='Tabela V'!$E$21 -> 0 | S5: ='Tabela V'!$E$22 -> 0 | T5: ='Tabela V'!$E$23 -> 0 | U5: ='Tabela V'!$E$24 -> 0 | V5: ='Tabela V'!$E$25 -> 0 | W5: ='Tabela V'!$E$26 -> 0 | X5: ='Tabela V'!$E$27 -> 0 | Y5: ='Tabela V'!$E$28 -> 0 | Z5: ='Tabela V'!$E$29 -> 0 | AA5: ='Tabela V'!$E$30 -> 0 | AB5: ='Tabela V'!$E$31 -> 0 | AC5: ='Tabela V'!$E$32 -> 0 | AD5: ='Tabela V'!$E$33 -> 0 | AE5: ='Tabela V'!$E$34 -> 0 | AF5: ='Tabela V'!$E$35 -> 0 | AG5: ='Tabela V'!$E$36 -> 0 | AH5: ='Tabela V'!$E$37 -> 0 | AI5: ='Tabela V'!$E$38 -> 0 | AJ5: ='Tabela V'!$E$39 -> 0 | AK5: ='Tabela V'!$E$40 -> 0 | AL5: ='Tabela V'!$E$41 -> 0 | AM5: ='Tabela V'!$E$42 -> 0 | AN5: ='Tabela V'!$E$43 -> 0 | AO5: ='Tabela V'!$E$44 -> 0 | AP5: ='Tabela V'!$E$45 -> 0 | AQ5: ='Tabela V'!$E$46 -> 0 | AR5: ='Tabela V'!$E$47 -> 0 | AS5: ='Tabela V'!$E$48 -> 0 | AT5: ='Tabela V'!$E$49 -> 0 | AU5: ='Tabela V'!$E$50 -> 0 | AV5: ='Tabela V'!$E$51 -> 0 | AW5: ='Tabela V'!$E$52 -> 0 | AX5: ='Tabela V'!$E$53 -> 0 | AY5: ='Tabela V'!$E$54 -> 0 | AZ5: ='Tabela V'!$E$55 -> 0 | BA5: ='Tabela V'!$E$56 -> 0 | BB5: ='Tabela V'!$E$57 -> 0 | BC5: ='Tabela V'!$E$58 -> 0
A6: ='Tabela I'!$F$2 -> 0 | B6: ='Tabela I'!$F$1 -> 2019 | C6: 101 | D6: 0 | E6: ='Tabela V'!$F$8 -> 0 | F6: ='Tabela V'!$F$9 -> 0 | G6: ='Tabela V'!$F$10 -> 0 | H6: ='Tabela V'!$F$11 -> 0 | I6: ='Tabela V'!$F$12 -> 0 | J6: ='Tabela V'!$F$13 -> 0 | K6: ='Tabela V'!$F$14 -> 0 | L6: ='Tabela V'!$F$15 -> 0 | M6: ='Tabela V'!$F$16 -> 0 | N6: ='Tabela V'!$F$17 -> 0 | O6: ='Tabela V'!$F$18 -> 0 | P6: ='Tabela V'!$F$19 -> 0 | Q6: ='Tabela V'!$F$20 -> 0 | R6: ='Tabela V'!$F$21 -> 0 | S6: ='Tabela V'!$F$22 -> 0 | T6: ='Tabela V'!$F$23 -> 0 | U6: ='Tabela V'!$F$24 -> 0 | V6: ='Tabela V'!$F$25 -> 0 | W6: ='Tabela V'!$F$26 -> 0 | X6: ='Tabela V'!$F$27 -> 0 | Y6: ='Tabela V'!$F$28 -> 0 | Z6: ='Tabela V'!$F$29 -> 0 | AA6: ='Tabela V'!$F$30 -> 0 | AB6: ='Tabela V'!$F$31 -> 0 | AC6: ='Tabela V'!$F$32 -> 0 | AD6: ='Tabela V'!$F$33 -> 0 | AE6: ='Tabela V'!$F$34 -> 0 | AF6: ='Tabela V'!$F$35 -> 0 | AG6: ='Tabela V'!$F$36 -> 0 | AH6: ='Tabela V'!$F$37 -> 0 | AI6: ='Tabela V'!$F$38 -> 0 | AJ6: ='Tabela V'!$F$39 -> 0 | AK6: ='Tabela V'!$F$40 -> 0 | AL6: ='Tabela V'!$F$41 -> 0 | AM6: ='Tabela V'!$F$42 -> 0 | AN6: ='Tabela V'!$F$43 -> 0 | AO6: ='Tabela V'!$F$44 -> 0 | AP6: ='Tabela V'!$F$45 -> 0 | AQ6: ='Tabela V'!$F$46 -> 0 | AR6: ='Tabela V'!$F$47 -> 0 | AS6: ='Tabela V'!$F$48 -> 0 | AT6: ='Tabela V'!$F$49 -> 0 | AU6: ='Tabela V'!$F$50 -> 0 | AV6: ='Tabela V'!$F$51 -> 0 | AW6: ='Tabela V'!$F$52 -> 0 | AX6: ='Tabela V'!$F$53 -> 0 | AY6: ='Tabela V'!$F$54 -> 0 | AZ6: ='Tabela V'!$F$55 -> 0 | BA6: ='Tabela V'!$F$56 -> 0 | BB6: ='Tabela V'!$F$57 -> 0 | BC6: ='Tabela V'!$F$58 -> 0
A7: ='Tabela I'!$F$2 -> 0 | B7: ='Tabela I'!$F$1 -> 2019 | C7: 123 | D7: 0 | E7: ='Tabela V'!$G$8 -> 0 | F7: ='Tabela V'!$G$9 -> 0 | G7: ='Tabela V'!$G$10 -> 0 | H7: ='Tabela V'!$G$11 -> 0 | I7: ='Tabela V'!$G$12 -> 0 | J7: ='Tabela V'!$G$13 -> 0 | K7: ='Tabela V'!$G$14 -> 0 | L7: ='Tabela V'!$G$15 -> 0 | M7: ='Tabela V'!$G$16 -> 0 | N7: ='Tabela V'!$G$17 -> 0 | O7: ='Tabela V'!$G$18 -> 0 | P7: ='Tabela V'!$G$19 -> 0 | Q7: ='Tabela V'!$G$20 -> 0 | R7: ='Tabela V'!$G$21 -> 0 | S7: ='Tabela V'!$G$22 -> 0 | T7: ='Tabela V'!$G$23 -> 0 | U7: ='Tabela V'!$G$24 -> 0 | V7: ='Tabela V'!$G$25 -> 0 | W7: ='Tabela V'!$G$26 -> 0 | X7: ='Tabela V'!$G$27 -> 0 | Y7: ='Tabela V'!$G$28 -> 0 | Z7: ='Tabela V'!$G$29 -> 0 | AA7: ='Tabela V'!$G$30 -> 0 | AB7: ='Tabela V'!$G$31 -> 0 | AC7: ='Tabela V'!$G$32 -> 0 | AD7: ='Tabela V'!$G$33 -> 0 | AE7: ='Tabela V'!$G$34 -> 0 | AF7: ='Tabela V'!$G$35 -> 0 | AG7: ='Tabela V'!$G$36 -> 0 | AH7: ='Tabela V'!$G$37 -> 0 | AI7: ='Tabela V'!$G$38 -> 0 | AJ7: ='Tabela V'!$G$39 -> 0 | AK7: ='Tabela V'!$G$40 -> 0 | AL7: ='Tabela V'!$G$41 -> 0 | AM7: ='Tabela V'!$G$42 -> 0 | AN7: ='Tabela V'!$G$43 -> 0 | AO7: ='Tabela V'!$G$44 -> 0 | AP7: ='Tabela V'!$G$45 -> 0 | AQ7: ='Tabela V'!$G$46 -> 0 | AR7: ='Tabela V'!$G$47 -> 0 | AS7: ='Tabela V'!$G$48 -> 0 | AT7: ='Tabela V'!$G$49 -> 0 | AU7: ='Tabela V'!$G$50 -> 0 | AV7: ='Tabela V'!$G$51 -> 0 | AW7: ='Tabela V'!$G$52 -> 0 | AX7: ='Tabela V'!$G$53 -> 0 | AY7: ='Tabela V'!$G$54 -> 0 | AZ7: ='Tabela V'!$G$55 -> 0 | BA7: ='Tabela V'!$G$56 -> 0 | BB7: ='Tabela V'!$G$57 -> 0 | BC7: ='Tabela V'!$G$58 -> 0
A8: ='Tabela I'!$F$2 -> 0 | B8: ='Tabela I'!$F$1 -> 2019 | C8: 105 | D8: 0 | E8: ='Tabela V'!$H$8 -> 68 | F8: ='Tabela V'!$H$9 -> 0 | G8: ='Tabela V'!$H$10 -> 0 | H8: ='Tabela V'!$H$11 -> 0 | I8: ='Tabela V'!$H$12 -> 0 | J8: ='Tabela V'!$H$13 -> 0 | K8: ='Tabela V'!$H$14 -> 0 | L8: ='Tabela V'!$H$15 -> 0 | M8: ='Tabela V'!$H$16 -> 0 | N8: ='Tabela V'!$H$17 -> 0 | O8: ='Tabela V'!$H$18 -> 0 | P8: ='Tabela V'!$H$19 -> 0 | Q8: ='Tabela V'!$H$20 -> 0 | R8: ='Tabela V'!$H$21 -> 0 | S8: ='Tabela V'!$H$22 -> 0 | T8: ='Tabela V'!$H$23 -> 0 | U8: ='Tabela V'!$H$24 -> 0 | V8: ='Tabela V'!$H$25 -> 0 | W8: ='Tabela V'!$H$26 -> 0 | X8: ='Tabela V'!$H$27 -> 0 | Y8: ='Tabela V'!$H$28 -> 0 | Z8: ='Tabela V'!$H$29 -> 0 | AA8: ='Tabela V'!$H$30 -> 0 | AB8: ='Tabela V'!$H$31 -> 0 | AC8: ='Tabela V'!$H$32 -> 0 | AD8: ='Tabela V'!$H$33 -> 0 | AE8: ='Tabela V'!$H$34 -> 0 | AF8: ='Tabela V'!$H$35 -> 0 | AG8: ='Tabela V'!$H$36 -> 0 | AH8: ='Tabela V'!$H$37 -> 0 | AI8: ='Tabela V'!$H$38 -> 0 | AJ8: ='Tabela V'!$H$39 -> 0 | AK8: ='Tabela V'!$H$40 -> 0 | AL8: ='Tabela V'!$H$41 -> 0 | AM8: ='Tabela V'!$H$42 -> 0 | AN8: ='Tabela V'!$H$43 -> 0 | AO8: ='Tabela V'!$H$44 -> 0 | AP8: ='Tabela V'!$H$45 -> 0 | AQ8: ='Tabela V'!$H$46 -> 0 | AR8: ='Tabela V'!$H$47 -> 0 | AS8: ='Tabela V'!$H$48 -> 0 | AT8: ='Tabela V'!$H$49 -> 0 | AU8: ='Tabela V'!$H$50 -> 0 | AV8: ='Tabela V'!$H$51 -> 0 | AW8: ='Tabela V'!$H$52 -> 0 | AX8: ='Tabela V'!$H$53 -> 0 | AY8: ='Tabela V'!$H$54 -> 0 | AZ8: ='Tabela V'!$H$55 -> 0 | BA8: ='Tabela V'!$H$56 -> 0 | BB8: ='Tabela V'!$H$57 -> 0 | BC8: ='Tabela V'!$H$58 -> 0
A9: ='Tabela I'!$F$2 -> 0 | B9: ='Tabela I'!$F$1 -> 2019 | C9: 106 | D9: 0 | E9: ='Tabela V'!$I$8 -> 0 | F9: ='Tabela V'!$I$9 -> 0 | G9: ='Tabela V'!$I$10 -> 0 | H9: ='Tabela V'!$I$11 -> 0 | I9: ='Tabela V'!$I$12 -> 0 | J9: ='Tabela V'!$I$13 -> 0 | K9: ='Tabela V'!$I$14 -> 0 | L9: ='Tabela V'!$I$15 -> 0 | M9: ='Tabela V'!$I$16 -> 0 | N9: ='Tabela V'!$I$17 -> 0 | O9: ='Tabela V'!$I$18 -> 0 | P9: ='Tabela V'!$I$19 -> 0 | Q9: ='Tabela V'!$I$20 -> 0 | R9: ='Tabela V'!$I$21 -> 0 | S9: ='Tabela V'!$I$22 -> 0 | T9: ='Tabela V'!$I$23 -> 0 | U9: ='Tabela V'!$I$24 -> 0 | V9: ='Tabela V'!$I$25 -> 0 | W9: ='Tabela V'!$I$26 -> 0 | X9: ='Tabela V'!$I$27 -> 0 | Y9: ='Tabela V'!$I$28 -> 0 | Z9: ='Tabela V'!$I$29 -> 0 | AA9: ='Tabela V'!$I$30 -> 0 | AB9: ='Tabela V'!$I$31 -> 0 | AC9: ='Tabela V'!$I$32 -> 0 | AD9: ='Tabela V'!$I$33 -> 0 | AE9: ='Tabela V'!$I$34 -> 0 | AF9: ='Tabela V'!$I$35 -> 0 | AG9: ='Tabela V'!$I$36 -> 0 | AH9: ='Tabela V'!$I$37 -> 0 | AI9: ='Tabela V'!$I$38 -> 0 | AJ9: ='Tabela V'!$I$39 -> 0 | AK9: ='Tabela V'!$I$40 -> 0 | AL9: ='Tabela V'!$I$41 -> 0 | AM9: ='Tabela V'!$I$42 -> 0 | AN9: ='Tabela V'!$I$43 -> 0 | AO9: ='Tabela V'!$I$44 -> 0 | AP9: ='Tabela V'!$I$45 -> 0 | AQ9: ='Tabela V'!$I$46 -> 0 | AR9: ='Tabela V'!$I$47 -> 0 | AS9: ='Tabela V'!$I$48 -> 0 | AT9: ='Tabela V'!$I$49 -> 0 | AU9: ='Tabela V'!$I$50 -> 0 | AV9: ='Tabela V'!$I$51 -> 0 | AW9: ='Tabela V'!$I$52 -> 0 | AX9: ='Tabela V'!$I$53 -> 0 | AY9: ='Tabela V'!$I$54 -> 0 | AZ9: ='Tabela V'!$I$55 -> 0 | BA9: ='Tabela V'!$I$56 -> 0 | BB9: ='Tabela V'!$I$57 -> 0 | BC9: ='Tabela V'!$I$58 -> 0
A10: ='Tabela I'!$F$2 -> 0 | B10: ='Tabela I'!$F$1 -> 2019 | C10: 107 | D10: 0 | E10: ='Tabela V'!$J$8 -> 0 | F10: ='Tabela V'!$J$9 -> 0 | G10: ='Tabela V'!$J$10 -> 0 | H10: ='Tabela V'!$J$11 -> 0 | I10: ='Tabela V'!$J$12 -> 0 | J10: ='Tabela V'!$J$13 -> 0 | K10: ='Tabela V'!$J$14 -> 0 | L10: ='Tabela V'!$J$15 -> 0 | M10: ='Tabela V'!$J$16 -> 0 | N10: ='Tabela V'!$J$17 -> 0 | O10: ='Tabela V'!$J$18 -> 0 | P10: ='Tabela V'!$J$19 -> 0 | Q10: ='Tabela V'!$J$20 -> 0 | R10: ='Tabela V'!$J$21 -> 0 | S10: ='Tabela V'!$J$22 -> 0 | T10: ='Tabela V'!$J$23 -> 0 | U10: ='Tabela V'!$J$24 -> 0 | V10: ='Tabela V'!$J$25 -> 0 | W10: ='Tabela V'!$J$26 -> 0 | X10: ='Tabela V'!$J$27 -> 0 | Y10: ='Tabela V'!$J$28 -> 0 | Z10: ='Tabela V'!$J$29 -> 0 | AA10: ='Tabela V'!$J$30 -> 0 | AB10: ='Tabela V'!$J$31 -> 0 | AC10: ='Tabela V'!$J$32 -> 0 | AD10: ='Tabela V'!$J$33 -> 0 | AE10: ='Tabela V'!$J$34 -> 0 | AF10: ='Tabela V'!$J$35 -> 0 | AG10: ='Tabela V'!$J$36 -> 0 | AH10: ='Tabela V'!$J$37 -> 0 | AI10: ='Tabela V'!$J$38 -> 0 | AJ10: ='Tabela V'!$J$39 -> 0 | AK10: ='Tabela V'!$J$40 -> 0 | AL10: ='Tabela V'!$J$41 -> 0 | AM10: ='Tabela V'!$J$42 -> 0 | AN10: ='Tabela V'!$J$43 -> 0 | AO10: ='Tabela V'!$J$44 -> 0 | AP10: ='Tabela V'!$J$45 -> 0 | AQ10: ='Tabela V'!$J$46 -> 0 | AR10: ='Tabela V'!$J$47 -> 0 | AS10: ='Tabela V'!$J$48 -> 0 | AT10: ='Tabela V'!$J$49 -> 0 | AU10: ='Tabela V'!$J$50 -> 0 | AV10: ='Tabela V'!$J$51 -> 0 | AW10: ='Tabela V'!$J$52 -> 0 | AX10: ='Tabela V'!$J$53 -> 0 | AY10: ='Tabela V'!$J$54 -> 0 | AZ10: ='Tabela V'!$J$55 -> 0 | BA10: ='Tabela V'!$J$56 -> 0 | BB10: ='Tabela V'!$J$57 -> 0 | BC10: ='Tabela V'!$J$58 -> 0
A11: ='Tabela I'!$F$2 -> 0 | B11: ='Tabela I'!$F$1 -> 2019 | C11: 108 | D11: 0 | E11: ='Tabela V'!$K$8 -> 0 | F11: ='Tabela V'!$K$9 -> 0 | G11: ='Tabela V'!$K$10 -> 0 | H11: ='Tabela V'!$K$11 -> 0 | I11: ='Tabela V'!$K$12 -> 0 | J11: ='Tabela V'!$K$13 -> 0 | K11: ='Tabela V'!$K$14 -> 0 | L11: ='Tabela V'!$K$15 -> 0 | M11: ='Tabela V'!$K$16 -> 0 | N11: ='Tabela V'!$K$17 -> 0 | O11: ='Tabela V'!$K$18 -> 0 | P11: ='Tabela V'!$K$19 -> 0 | Q11: ='Tabela V'!$K$20 -> 0 | R11: ='Tabela V'!$K$21 -> 0 | S11: ='Tabela V'!$K$22 -> 0 | T11: ='Tabela V'!$K$23 -> 0 | U11: ='Tabela V'!$K$24 -> 0 | V11: ='Tabela V'!$K$25 -> 0 | W11: ='Tabela V'!$K$26 -> 0 | X11: ='Tabela V'!$K$27 -> 0 | Y11: ='Tabela V'!$K$28 -> 0 | Z11: ='Tabela V'!$K$29 -> 0 | AA11: ='Tabela V'!$K$30 -> 0 | AB11: ='Tabela V'!$K$31 -> 0 | AC11: ='Tabela V'!$K$32 -> 0 | AD11: ='Tabela V'!$K$33 -> 0 | AE11: ='Tabela V'!$K$34 -> 0 | AF11: ='Tabela V'!$K$35 -> 0 | AG11: ='Tabela V'!$K$36 -> 0 | AH11: ='Tabela V'!$K$37 -> 0 | AI11: ='Tabela V'!$K$38 -> 0 | AJ11: ='Tabela V'!$K$39 -> 0 | AK11: ='Tabela V'!$K$40 -> 0 | AL11: ='Tabela V'!$K$41 -> 0 | AM11: ='Tabela V'!$K$42 -> 0 | AN11: ='Tabela V'!$K$43 -> 0 | AO11: ='Tabela V'!$K$44 -> 0 | AP11: ='Tabela V'!$K$45 -> 0 | AQ11: ='Tabela V'!$K$46 -> 0 | AR11: ='Tabela V'!$K$47 -> 0 | AS11: ='Tabela V'!$K$48 -> 0 | AT11: ='Tabela V'!$K$49 -> 0 | AU11: ='Tabela V'!$K$50 -> 0 | AV11: ='Tabela V'!$K$51 -> 0 | AW11: ='Tabela V'!$K$52 -> 0 | AX11: ='Tabela V'!$K$53 -> 0 | AY11: ='Tabela V'!$K$54 -> 0 | AZ11: ='Tabela V'!$K$55 -> 0 | BA11: ='Tabela V'!$K$56 -> 0 | BB11: ='Tabela V'!$K$57 -> 0 | BC11: ='Tabela V'!$K$58 -> 0
A12: ='Tabela I'!$F$2 -> 0 | B12: ='Tabela I'!$F$1 -> 2019 | C12: 60 | D12: 0 | E12: ='Tabela V'!$L$8 -> 0 | F12: ='Tabela V'!$L$9 -> 0 | G12: ='Tabela V'!$L$10 -> 0 | H12: ='Tabela V'!$L$11 -> 0 | I12: ='Tabela V'!$L$12 -> 0 | J12: ='Tabela V'!$L$13 -> 0 | K12: ='Tabela V'!$L$14 -> 0 | L12: ='Tabela V'!$L$15 -> 0 | M12: ='Tabela V'!$L$16 -> 0 | N12: ='Tabela V'!$L$17 -> 0 | O12: ='Tabela V'!$L$18 -> 0 | P12: ='Tabela V'!$L$19 -> 0 | Q12: ='Tabela V'!$L$20 -> 0 | R12: ='Tabela V'!$L$21 -> 0 | S12: ='Tabela V'!$L$22 -> 0 | T12: ='Tabela V'!$L$23 -> 0 | U12: ='Tabela V'!$L$24 -> 0 | V12: ='Tabela V'!$L$25 -> 0 | W12: ='Tabela V'!$L$26 -> 0 | X12: ='Tabela V'!$L$27 -> 0 | Y12: ='Tabela V'!$L$28 -> 0 | Z12: ='Tabela V'!$L$29 -> 0 | AA12: ='Tabela V'!$L$30 -> 0 | AB12: ='Tabela V'!$L$31 -> 0 | AC12: ='Tabela V'!$L$32 -> 0 | AD12: ='Tabela V'!$L$33 -> 0 | AE12: ='Tabela V'!$L$34 -> 0 | AF12: ='Tabela V'!$L$35 -> 0 | AG12: ='Tabela V'!$L$36 -> 0 | AH12: ='Tabela V'!$L$37 -> 0 | AI12: ='Tabela V'!$L$38 -> 0 | AJ12: ='Tabela V'!$L$39 -> 0 | AK12: ='Tabela V'!$L$40 -> 0 | AL12: ='Tabela V'!$L$41 -> 0 | AM12: ='Tabela V'!$L$42 -> 0 | AN12: ='Tabela V'!$L$43 -> 0 | AO12: ='Tabela V'!$L$44 -> 0 | AP12: ='Tabela V'!$L$45 -> 0 | AQ12: ='Tabela V'!$L$46 -> 0 | AR12: ='Tabela V'!$L$47 -> 0 | AS12: ='Tabela V'!$L$48 -> 0 | AT12: ='Tabela V'!$L$49 -> 0 | AU12: ='Tabela V'!$L$50 -> 0 | AV12: ='Tabela V'!$L$51 -> 0 | AW12: ='Tabela V'!$L$52 -> 0 | AX12: ='Tabela V'!$L$53 -> 0 | AY12: ='Tabela V'!$L$54 -> 0 | AZ12: ='Tabela V'!$L$55 -> 0 | BA12: ='Tabela V'!$L$56 -> 0 | BB12: ='Tabela V'!$L$57 -> 0 | BC12: ='Tabela V'!$L$58 -> 0
E13: =SUM(E2:E12) -> 68 | F13: =SUM(F2:F12) -> 0 | G13: =SUM(G2:G12) -> 0 | H13: =SUM(H2:H12) -> 0 | I13: =SUM(I2:I12) -> 0 | J13: =SUM(J2:J12) -> 0 | K13: =SUM(K2:K12) -> 0 | L13: =SUM(L2:L12) -> 0 | ... BC13: =SUM(BC2:BC12) -> 0

Sheet tbl10_ust_sud
A1: for_key | B1: godina | C1: BrOdbacApel | D1: BrObustPost | E1: BrOdbijApel
A2: ='Tabela I'!$F$2 -> 0 | B2: ='Tabela I'!$F$1 -> 2019 | C2: ='Tabela VI'!A7 -> 0 | D2: ='Tabela VI'!B7 -> 0 | E2: ='Tabela VI'!C7 -> 0
A5: for_key | B5: godina | C5: Pravni osnov | D5: BrPreinOdl | E5: BrUkidOdl | F5: BrUsvApel
A6: ='Tabela I'!$F$2 -> 0 | B6: ='Tabela I'!$F$1 -> 2019 | C6: 1 | D6: ='Tabela VI'!B12 -> 0 | E6: ='Tabela VI'!C12 -> 0 | F6: ='Tabela VI'!D12 -> 0
A7: ='Tabela I'!$F$2 -> 0 | B7: ='Tabela I'!$F$1 -> 2019 | C7: 2 | D7: ='Tabela VI'!B13 -> 0 | E7: ='Tabela VI'!C13 -> 0 | F7: ='Tabela VI'!D13 -> 0
A8: ='Tabela I'!$F$2 -> 0 | B8: ='Tabela I'!$F$1 -> 2019 | C8: 3 | D8: ='Tabela VI'!B14 -> 0 | E8: ='Tabela VI'!C14 -> 0 | F8: ='Tabela VI'!D14 -> 0
A9: ='Tabela I'!$F$2 -> 0 | B9: ='Tabela I'!$F$1 -> 2019 | C9: 4 | D9: ='Tabela VI'!B15 -> 0 | E9: ='Tabela VI'!C15 -> 0 | F9: ='Tabela VI'!D15 -> 0
A10: ='Tabela I'!$F$2 -> 0 | B10: ='Tabela I'!$F$1 -> 2019 | C10: 5 | D10: ='Tabela VI'!B16 -> 0 | E10: ='Tabela VI'!C16 -> 0 | F10: ='Tabela VI'!D16 -> 0
A11: ='Tabela I'!$F$2 -> 0 | B11: ='Tabela I'!$F$1 -> 2019 | C11: 6 | D11: ='Tabela VI'!B17 -> 0 | E11: ='Tabela VI'!C17 -> 0 | F11: ='Tabela VI'!D17 -> 0
A12: ='Tabela I'!$F$2 -> 0 | B12: ='Tabela I'!$F$1 -> 2019 | C12: 7 | D12: ='Tabela VI'!B18 -> 0 | E12: ='Tabela VI'!C18 -> 0 | F12: ='Tabela VI'!D18 -> 0
A15: for_key | B15: godina | C15: Pravni osnov | D15: PrvostSud | E15: DrugostSud | F15: SudPoUlPrLij | G15: Ostalo
A16: ='Tabela I'!$F$2 -> 0 | B16: ='Tabela I'!$F$1 -> 2019 | C16: 3 | D16: ='Tabela VI'!B23 -> 0 | E16: ='Tabela VI'!C23 -> 0 | F16: ='Tabela VI'!D23 -> 0 | G16: ='Tabela VI'!E23 -> 0
A19: for_key | B19: godina | C19: BrNaknNematStete | D19: UkIznosNaknade
A20: ='Tabela I'!$F$2 -> 0 | B20: ='Tabela I'!$F$1 -> 2019 | C20: ='Tabela VI'!B25 -> 0 | D20: ='Tabela VI'!B26 -> 0
