Workbook

Sheet Prvostepeni 30.4.2025
A1: Realizacija Planova rješavanja predmeta za PRVOSTEPENE SUDOVE za period 1.1. - 30.4.2025. godine
A2: PRVOSTEPENI SUDOVI BOSNE I HERCEGOVINE | B2: Realizacija Plana do 30.4.2025 | C2: Godišnji plan za 2025. godinu | D2: Ostvarenje 30.4.2025. | E2: Ostalo predmeta iz Plana | F2: % riješenih predmeta iz Plana iz posmatrane starosne kategorije | L2: Očekivani % realizacije do 30.4.2025.
F3: Inicirani 2024 | G3: Inicirani 2023 - 2022 | H3: Inicirani 2021 - 2020 | I3: Inicirani 2019 - 2016 | J3: Inicirani 2015 - 2011 | K3: Inicirani 2010 god. i ranije
A4: Osnovni sud u Foči | B4: =+D4/C4 -> 0.76941748 | C4: 824 | D4: 634 | E4: =C4-D4 -> 190 | F4: 0.8236 | G4: 0.36 | H4: 0.3846 | I4: 0.4667 | J4: 0.55 | K4: 0 | L4: =4/12 -> 0.33333333
A5: Okružni privredni sud u Trebinju | B5: =+D5/C5 -> 0.69902913 | C5: 103 | D5: 72 | E5: =C5-D5 -> 31 | F5: 0.7349 | G5: 0.5 | H5: 0.6667 | I5: 0 | J5: 1 | L5: =4/12 -> 0.33333333
A6: Osnovni sud u Mrkonjić Gradu | B6: =+D6/C6 -> 0.68025078 | C6: 319 | D6: 217 | E6: =C6-D6 -> 102 | F6: 0.7061 | G6: 0.4286 | H6: 1 | I6: 0.5 | J6: 0.6 | K6: 0.6667 | L6: =4/12 -> 0.33333333
A7: Općinski sud u Čitluku | B7: =+D7/C7 -> 0.67619048 | C7: 420 | D7: 284 | E7: =C7-D7 -> 136 | F7: 0.6978 | G7: 0.6552 | H7: 0.6552 | I7: 0.6098 | J7: 0.6364 | K7: 0.5 | L7: =4/12 -> 0.33333333
A8: Okružni privredni sud u Bijeljini | B8: =+D8/C8 -> 0.67335244 | C8: 349 | D8: 235 | E8: =C8-D8 -> 114 | F8: 0.7126 | G8: 0.6 | H8: 0.6667 | I8: 0.5455 | J8: 0.3636 | L8: =4/12 -> 0.33333333
A9: Općinski sud u Srebreniku | B9: =+D9/C9 -> 0.64155629 | C9: 1208 | D9: 775 | E9: =C9-D9 -> 433 | F9: 0.6473 | G9: 0.5938 | H9: 0.6667 | I9: 0.5789 | J9: 0.5556 | K9: 0.8 | L9: =4/12 -> 0.33333333
A10: Osnovni sud u Novom Gradu | B10: =+D10/C10 -> 0.63291139 | C10: 316 | D10: 200 | E10: =C10-D10 -> 116 | F10: 0.6329 | G10: 0.6875 | H10: 0.6667 | I10: 0.5 | J10: 0 | K10: 1 | L10: =4/12 -> 0.33333333
A11: Općinski sud u Jajcu | B11: =+D11/C11 -> 0.62275449 | C11: 334 | D11: 208 | E11: =C11-D11 -> 126 | F11: 0.6421 | G11: 0.5217 | H11: 0.6 | J11: 0.5717 | L11: =4/12 -> 0.33333333
A12: Okružni privredni sud u I. Sarajevu | B12: =+D12/C12 -> 0.6173913 | C12: 230 | D12: 142 | E12: =C12-D12 -> 88 | F12: 0.6442 | G12: 0.3889 | H12: 1 | I12: 0 | L12: =4/12 -> 0.33333333
A13: Osnovni sud u Kozarskoj Dubici | B13: =+D13/C13 -> 0.61261261 | C13: 222 | D13: 136 | E13: =C13-D13 -> 86 | F13: 0.6071 | G13: 0.5 | H13: 0.8889 | I13: 1 | L13: =4/12 -> 0.33333333
A14: Općinski sud u Bosanskoj Krupi | B14: =+D14/C14 -> 0.60902256 | C14: 665 | D14: 405 | E14: =C14-D14 -> 260 | F14: 0.6538 | G14: 0.5579 | H14: 0.5 | I14: 0.5143 | J14: 0.5385 | K14: 0 | L14: =4/12 -> 0.33333333
A15: Općinski sud u Livnu | B15: =+D15/C15 -> 0.60851761 | C15: =Odjeljenja!B36 -> 1221 | D15: =Odjeljenja!B40 -> 743 | E15: =C15-D15 -> 478 | F15: =Odjeljenja!C41 -> 0.64464464 | G15: =Odjeljenja!D41 -> 0.48120301 | H15: =Odjeljenja!E41 -> 0.45454545 | I15: =Odjeljenja!F41 -> 0.33333333 | J15: =Odjeljenja!G41 -> 0.4137931 | K15: =Odjeljenja!H41 -> 0.16666667 | L15: =4/12 -> 0.33333333
A16: Općinski sud u Visokom | B16: =+D16/C16 -> 0.59548387 | C16: =Odjeljenja!B68 -> 1550 | D16: =Odjeljenja!B71 -> 923 | E16: =C16-D16 -> 627 | F16: =Odjeljenja!C72 -> 0.60681629 | G16: =Odjeljenja!D72 -> 0.56521739 | H16: =Odjeljenja!E72 -> 0.57377049 | I16: =Odjeljenja!F72 -> 0.44444444 | J16: =Odjeljenja!G72 -> 0.625 | K16: =Odjeljenja!H72 -> 0.5 | L16: =4/12 -> 0.33333333
A17: Osnovni sud u Višegradu | B17: =+D17/C17 -> 0.59125964 | C17: =Odjeljenja!B111 -> 389 | D17: =Odjeljenja!B114 -> 230 | E17: =C17-D17 -> 159 | F17: =Odjeljenja!C115 -> 0.6442953 | G17: =Odjeljenja!D115 -> 0.40909091 | H17: =Odjeljenja!E115 -> 0.5 | I17: =Odjeljenja!F115 -> 0.54545455 | J17: =Odjeljenja!G115 -> 0.31578947 | K17: =Odjeljenja!H115 -> 0.4 | L17: =4/12 -> 0.33333333
A18: Općinski sud u Goraždu | B18: =+D18/C18 -> 0.58907363 | C18: 421 | D18: 248 | E18: =C18-D18 -> 173 | F18: 0.6005 | G18: 0.4848 | H18: 0.1667 | I18: 0.75 | J18: 0.75 | K18: 0.5 | L18: =4/12 -> 0.33333333
A19: Osnovni sud u Bijeljini | B19: =+D19/C19 -> 0.57597851 | C19: =Odjeljenja!B89 -> 2606 | D19: =Odjeljenja!B92 -> 1501 | E19: =C19-D19 -> 1105 | F19: =Odjeljenja!C93 -> 0.59473437 | G19: =Odjeljenja!D93 -> 0.5 | H19: =Odjeljenja!E93 -> 0.44444444 | I19: =Odjeljenja!F93 -> 0.5 | J19: =Odjeljenja!G93 -> 0.66666667 | K19: =Odjeljenja!H93 -> 1 | L19: =4/12 -> 0.33333333
A20: Okružni privredni sud u Doboju | B20: =+D20/C20 -> 0.56395349 | C20: 172 | D20: 97 | E20: =C20-D20 -> 75 | F20: 0.672 | G20: 0.3235 | H20: 0.125 | I20: 0.3333 | J20: 0 | L20: =4/12 -> 0.33333333
A21: Osnovni sud u Kotor Varoši | B21: =+D21/C21 -> 0.55919854 | C21: 1647 | D21: 921 | E21: =C21-D21 -> 726 | F21: 0.5739 | G21: 0.5035 | H21: 0.5224 | I21: 0.5345 | J21: 0.6897 | K21: 0.4 | L21: =4/12 -> 0.33333333
A22: Osnovni sud u Šamcu | B22: =+D22/C22 -> 0.55740741 | C22: 540 | D22: 301 | E22: =C22-D22 -> 239 | F22: 0.6065 | G22: 0.4 | H22: 0 | I22: 0.3333 | J22: 0 | L22: =4/12 -> 0.33333333
A23: Osnovni sud u Derventi | B23: =+D23/C23 -> 0.55627426 | C23: 773 | D23: 430 | E23: =C23-D23 -> 343 | F23: 0.6083 | G23: 0.3846 | H23: 0.4706 | I23: 0.125 | J23: 0.25 | K23: 1 | L23: =4/12 -> 0.33333333
A24: Općinski sud u Zavidovićima | B24: =+D24/C24 -> 0.54352031 | C24: =Odjeljenja!B78 -> 1551 | D24: =Odjeljenja!B81 -> 843 | E24: =C24-D24 -> 708 | F24: =Odjeljenja!C82 -> 0.52409639 | G24: =Odjeljenja!D82 -> 0.64214047 | H24: =Odjeljenja!E82 -> 0.46666667 | I24: =Odjeljenja!F82 -> 0.425 | J24: =Odjeljenja!G82 -> 0.75 | K24: =Odjeljenja!H82 -> 1 | L24: =4/12 -> 0.33333333
A25: Osnovni sud u Prijedoru | B25: =+D25/C25 -> 0.53674121 | C25: 3443 | D25: 1848 | E25: =C25-D25 -> 1595 | F25: 0.545 | G25: 0.5033 | H25: 0.5357 | I25: 0.6053 | J25: 0.5962 | K25: 0.4333 | L25: =4/12 -> 0.33333333
A26: Općinski sud u Konjicu | B26: =+D26/C26 -> 0.53267045 | C26: =Odjeljenja!B26 -> 704 | D26: =Odjeljenja!B29 -> 375 | E26: =C26-D26 -> 329 | F26: =Odjeljenja!C30 -> 0.52495697 | G26: =Odjeljenja!D30 -> 0.575 | H26: =Odjeljenja!E30 -> 0.52173913 | I26: =Odjeljenja!F30 -> 0.53846154 | J26: =Odjeljenja!G30 -> 0.66666667 | L26: =4/12 -> 0.33333333
A27: Općinski sud u Širokom Brijegu | B27: =+D27/C27 -> 0.53101045 | C27: 1435 | D27: 762 | E27: =C27-D27 -> 673 | F27: 0.5653 | G27: 0.4522 | H27: 0.4681 | I27: 0.5075 | J27: 0.3525 | K27: 0.4737 | L27: =4/12 -> 0.33333333
A28: Općinski sud u Banovićima | B28: =+D28/C28 -> 0.52886406 | C28: 537 | D28: 284 | E28: =C28-D28 -> 253 | F28: 0.5184 | G28: 0.5263 | H28: 0.5714 | I28: 0.6061 | J28: 0.5 | L28: =4/12 -> 0.33333333
A29: Općinski sud u Bihaću | B29: =+D29/C29 -> 0.52426093 | C29: 6224 | D29: 3263 | E29: =C29-D29 -> 2961 | F29: 0.4351 | G29: 0.5737 | H29: 0.6365 | I29: 0.4335 | J29: 0.3198 | K29: 0.4211 | L29: =4/12 -> 0.33333333
A30: Osnovni sud u Zvorniku | B30: =+D30/C30 -> 0.52269044 | C30: 1234 | D30: 645 | E30: =C30-D30 -> 589 | F30: 0.5496 | G30: 0.3869 | H30: 0.4348 | I30: 0.6207 | J30: 0.4286 | K30: 0.75 | L30: =4/12 -> 0.33333333
A31: Okružni privredni sud u Banja Luci | B31: =+D31/C31 -> 0.5225425 | C31: 1353 | D31: 707 | E31: =C31-D31 -> 646 | F31: 0.57 | G31: 0.4449 | H31: 0.44 | I31: 0.2321 | J31: 0.493 | K31: 0.3333 | L31: =4/12 -> 0.33333333
A32: Općinski sud u Travniku | B32: =+D32/C32 -> 0.52253555 | C32: 4149 | D32: 2168 | E32: =C32-D32 -> 1981 | F32: 0.5029 | G32: 0.4749 | H32: 0.7521 | I32: 0.7014 | J32: 0.5253 | K32: 0.2656 | L32: =4/12 -> 0.33333333
A33: Okružni privredni sud u Prijedoru | B33: =+D33/C33 -> 0.50980392 | C33: 204 | D33: 104 | E33: =C33-D33 -> 100 | F33: 0.6319 | G33: 0.25 | H33: 0.2857 | I33: 0.2 | J33: 0 | K33: 0 | L33: =4/12 -> 0.33333333
A34: Osnovni sud u Modriči | B34: =+D34/C34 -> 0.50904393 | C34: 774 | D34: 394 | E34: =C34-D34 -> 380 | F34: 0.556 | G34: 0.345 | H34: 0.5 | I34: 0.3333 | J34: 0.8824 | K34: 0.4 | L34: =4/12 -> 0.33333333
A35: Općinski sud u Tuzli | B35: =+D35/C35 -> 0.49930693 | C35: 10100 | D35: 5043 | E35: =C35-D35 -> 5057 | F35: 0.5396 | G35: 0.4174 | H35: 0.4908 | I35: 0.3679 | J35: 0.3769 | K35: 0.4465 | L35: =4/12 -> 0.33333333
A36: Osnovni sud u Tesliću | B36: =+D36/C36 -> 0.49398907 | C36: 915 | D36: 452 | E36: =C36-D36 -> 463 | F36: 0.5211 | G36: 0.3727 | H36: 0.5313 | I36: 0.5 | J36: 0.48 | K36: 0.6 | L36: =4/12 -> 0.33333333
A37: Općinski sud u Ljubuškom | B37: =+D37/C37 -> 0.48244147 | C37: 1196 | D37: 577 | E37: =C37-D37 -> 619 | F37: 0.4866 | G37: 0.426 | H37: 0.4 | I37: 0.4819 | J37: 0.566 | K37: 0.6364 | L37: =4/12 -> 0.33333333
A38: Općinski sud u Gradačcu | B38: =+D38/C38 -> 0.47346295 | C38: 1903 | D38: 901 | E38: =C38-D38 -> 1002 | F38: 0.535 | G38: 0.3684 | H38: 0.3396 | I38: 0.3628 | J38: 0.3304 | K38: 0.381 | L38: =4/12 -> 0.33333333
A39: Općinski sud u Sarajevu | B39: =+D39/C39 -> 0.46746594 | C39: 28109 | D39: 13140 | E39: =C39-D39 -> 14969 | F39: 0.5465 | G39: 0.4223 | H39: 0.4342 | I39: 0.3103 | J39: 0.3618 | K39: 0.3874 | L39: =4/12 -> 0.33333333
A40: Osnovni sud u Gradišci | B40: =+D40/C40 -> 0.45946903 | C40: 2825 | D40: 1298 | E40: =C40-D40 -> 1527 | F40: 0.4143 | G40: 0.5619 | H40: 0.5789 | I40: 0.5405 | J40: 0.5124 | K40: 0.4848 | L40: =4/12 -> 0.33333333
...

Sheet Drugostepeni 30.4.2025
A1: Realizacija Planova rješavanja predmeta za DRUGOSTEPENE SUDOVE za period 1.1.- 30.4.2025. godine
A2: DRUGOSTEPENI SUDOVI VRHOVNI SUDOVI SUD BOSNE I HERCEGOVINE | B2: Realizacija Plana do 30.4.2025. | C2: Plan za I polugodište 2025. | D2: Ostvarenje Plana do 30.4.2025. | E2: Ostalo predmeta iz Plana | F2: % riješenih predmeta iz Plana iz posmatrane starosne kategorije | L2: Očekivani % realizacije do 30.4.2025.
F3: Inicirani 2024 | G3: Inicirani 2023 - 2022 | H3: Inicirani 2021 - 2020 | I3: Inicirani 2019 - 2016 | J3: Inicirani 2015 - 2011 | K3: Inicirani 2010 god. i ranije
A4: Realizacija kvartalnih planova za period 01.01. - 30.4.2025 godine
A5: Viši privredni sud u Banja Luci | B5: =+D5/C5 -> 0.8359375 | C5: 128 | D5: 107 | E5: =C5-D5 -> 21 | F5: 0.8636 | G5: 0.7619 | H5: 0.9 | I5: 1 | J5: 0.6667 | K5: 1 | L5: 0.66666667
A6: Okružni sud u Trebinju | B6: =+D6/C6 -> 0.8 | C6: 60 | D6: 48 | E6: =C6-D6 -> 12 | F6: 0.7778 | G6: 0.7813 | H6: 1 | I6: 0 | J6: 1 | K6: 1 | L6: 0.66666667
A7: Kantonalni sud u Zenici | B7: =+D7/C7 -> 0.79189189 | C7: 370 | D7: 293 | E7: =C7-D7 -> 77 | F7: 0.6822 | G7: 0.8587 | H7: 0.8621 | I7: 0.7857 | J7: 0.75 | K7: 0.8333 | L7: 0.66666667
A8: Sud BiH - II stepen | B8: =+D8/C8 -> 0.77292576 | C8: 229 | D8: 177 | E8: =C8-D8 -> 52 | F8: 0.7619 | G8: 0.7853 | H8: 0.5 | I8: 1 | J8: 1 | L8: 0.66666667
A9: Vrhovni sud FBiH | B9: =+D9/C9 -> 0.75884666 | C9: 763 | D9: 579 | E9: =C9-D9 -> 184 | F9: 0.6923 | G9: 0.6816 | H9: 0.8139 | I9: 0.795 | J9: 0.7083 | K9: 0.6 | L9: 0.66666667
A10: Kantonalni sud u Goraždu | B10: =+D10/C10 -> 0.75 | C10: 16 | D10: 12 | E10: =C10-D10 -> 4 | F10: 0.9 | G10: 0.5 | L10: =4/6 -> 0.66666667
A11: Vrhovni sud RS | B11: =+D11/C11 -> 0.74207188 | C11: 473 | D11: 351 | E11: =C11-D11 -> 122 | G11: 0.7107 | H11: 0.7478 | I11: 0.8833 | J11: 0.7333 | K11: 0.6667 | L11: 0.66666667
A12: Kantonalni sud u Odžaku | B12: =+D12/C12 -> 0.72727273 | C12: 44 | D12: 32 | E12: =C12-D12 -> 12 | F12: 0.7143 | G12: 0.6667 | H12: 1 | I12: 1 | J12: 1 | L12: 0.66666667
A13: Kantonalni sud u Mostaru | B13: =+D13/C13 -> 0.72286617 | C13: 949 | D13: 686 | E13: =C13-D13 -> 263 | F13: 0.618 | G13: 0.7477 | H13: 0.7051 | I13: 0.6857 | J13: 0.7941 | K13: 0.9118 | L13: 0.66666667
A14: Kantonalni sud u Tuzli | B14: =+D14/C14 -> 0.70831155 | C14: 1913 | D14: 1355 | E14: =C14-D14 -> 558 | F14: 0.6667 | G14: 0.7033 | H14: 0.6729 | I14: 0.7603 | J14: 0.7813 | K14: 0.88 | L14: 0.66666667
A15: Kantonalni sud u Bihaću | B15: =+D15/C15 -> 0.69984448 | C15: 643 | D15: 450 | E15: =C15-D15 -> 193 | F15: 0.713 | G15: 0.6764 | H15: 0.6786 | I15: 0.7647 | J15: 0.75 | K15: 0.8333 | L15: 0.66666667
A16: Kantonalni sud u Livnu | B16: =+D16/C16 -> 0.66666667 | C16: 123 | D16: 82 | E16: =C16-D16 -> 41 | F16: 0.7436 | G16: 0.6833 | H16: 0.5556 | I16: 0.5556 | J16: 0.25 | K16: 0.5 | L16: 0.66666667
A17: Okružni sud u Istočnom Sarajevu | B17: =+D17/C17 -> 0.65806452 | C17: 310 | D17: 204 | E17: =C17-D17 -> 106 | F17: 0.6667 | G17: 0.6205 | H17: 0.6596 | I17: 0.7857 | J17: 0.8333 | K17: 0.8333 | L17: 0.66666667
A18: Kantonalni sud u Novom Travniku | B18: =+D18/C18 -> 0.65806452 | C18: 465 | D18: 306 | E18: =C18-D18 -> 159 | F18: 0.6494 | G18: 0.6266 | H18: 0.6087 | I18: 0.7317 | J18: 0.8636 | K18: 0.9333 | L18: 0.66666667
A19: Kantonalni sud u Širokom Brijegu | B19: =+D19/C19 -> 0.64383562 | C19: 219 | D19: 141 | E19: =C19-D19 -> 78 | F19: 1 | G19: 0.5041 | H19: 0.8209 | I19: 0.76 | J19: 1 | K19: 1 | L19: 0.66666667
A20: Kantonalni sud u Sarajevu | B20: =+D20/C20 -> 0.64265436 | C20: 2818 | D20: 1811 | E20: =C20-D20 -> 1007 | F20: 0.7761 | G20: 0.607 | H20: 0.6353 | I20: 0.6433 | J20: 0.6196 | K20: 0.8095 | L20: 0.66666667
A21: Okružni sud u Banja Luci | B21: =+D21/C21 -> 0.63996627 | C21: 1186 | D21: 759 | E21: =C21-D21 -> 427 | F21: 0.6596 | G21: 0.6244 | H21: 0.6264 | I21: 0.66 | J21: 0.775 | K21: 0.8235 | L21: 0.66666667
A22: Okružni sud u Doboju | B22: =+D22/C22 -> 0.63787375 | C22: 301 | D22: 192 | E22: =C22-D22 -> 109 | F22: 0.7 | G22: 0.631 | H22: 0.4773 | I22: 0.6471 | J22: 0.8571 | K22: 1 | L22: 0.66666667
A23: Okružni sud u Bijeljini | B23: =+D23/C23 -> 0.6 | C23: 445 | D23: 267 | E23: =C23-D23 -> 178 | F23: 0.5372 | G23: 0.604 | H23: 0.6818 | I23: 0.7647 | J23: 0.625 | K23: 0.6 | L23: 0.66666667
A24: Apelacioni sud Brčko distrikta | B24: =+D24/C24 -> 0.44224422 | C24: 303 | D24: 134 | E24: =C24-D24 -> 169 | F24: 0.8125 | G24: 0.4402 | H24: 0.2059 | I24: 0.16 | J24: 0.1429 | K24: 0.4 | L24: 0.66666667
A25: Okružni sud u Prijedoru | B25: =+D25/C25 -> 0.23484848 | C25: 264 | D25: 62 | E25: =C25-D25 -> 202 | F25: 0.1707 | G25: 0.2222 | H25: 0.2564 | I25: 0.3667 | J25: 0.2308 | K25: 0.1667 | L25: 0.66666667
A26: Ukupno - kvartalni planovi | B26: =+D26/C26 -> 0.66943936 | C26: =SUM(C5:C25) -> 12022 | D26: =SUM(D5:D25) -> 8048 | E26: =SUM(E5:E25) -> 3974
A27: Realizacija prvostepenih planova višestepenih sudova za period 01.01. - 30.4.2025. godine
A28: Kantonalni sud u Odžaku*** | B28: =+D28/C28 -> 1 | C28: 14 | D28: 14 | E28: =C28-D28 -> 0 | F28: 1 | I28: 1 | L28: =4/12 -> 0.33333333
A29: Kantonalni sud u Zenici | B29: =+D29/C29 -> 0.95283019 | C29: =Odjeljenja!B5 -> 106 | D29: =Odjeljenja!B8 -> 101 | E29: =C29-D29 -> 5 | F29: =Odjeljenja!C9 -> 0.96052632 | G29: =Odjeljenja!D9 -> 0.9 | H29: =Odjeljenja!E9 -> 1 | I29: =Odjeljenja!F9 -> 1 | K29: =Odjeljenja!H9 -> 1 | L29: =4/12 -> 0.33333333
A30: Okružni sud u Banja Luci | B30: =+D30/C30 -> 0.92706334 | C30: =Odjeljenja!B16 -> 521 | D30: =Odjeljenja!B19 -> 483 | E30: =C30-D30 -> 38 | F30: =Odjeljenja!C20 -> 0.94455446 | G30: =Odjeljenja!D20 -> 0.33333333 | H30: =Odjeljenja!E20 -> 0.5 | I30: =Odjeljenja!F20 -> 0.33333333 | L30: =4/12 -> 0.33333333
A31: Okružni sud u Trebinju* | B31: =+D31/C31 -> 0.9122807 | C31: 57 | D31: 52 | E31: =C31-D31 -> 5 | F31: 0.9423 | G31: 0.5 | H31: 1 | L31: =4/12 -> 0.33333333
A32: Kantonalni sud u Bihaću | B32: =+D32/C32 -> 0.82272727 | C32: 220 | D32: 181 | E32: =C32-D32 -> 39 | F32: 0.8261 | G32: 0.7368 | H32: 0.8571 | I32: 0.8333 | J32: 1 | K32: 1 | L32: =4/12 -> 0.33333333
A33: Okružni sud u Doboju | B33: =+D33/C33 -> 0.7791411 | C33: 163 | D33: 127 | E33: =C33-D33 -> 36 | F33: 0.8041 | G33: 0.5 | I33: 0.5 | J33: 1 | L33: =4/12 -> 0.33333333
A34: Okružni sud u Istočnom Sarajevu | B34: =+D34/C34 -> 0.69148936 | C34: 188 | D34: 130 | E34: =C34-D34 -> 58 | F34: 0.7384 | G34: 0.2727 | H34: 0 | I34: 0 | L34: =4/12 -> 0.33333333
A35: Kantonalni sud u Novom Travniku | B35: =+D35/C35 -> 0.52380952 | C35: 168 | D35: 88 | E35: =C35-D35 -> 80 | F35: 0.5063 | G35: 0.75 | H35: 1 | J35: 1 | L35: =4/12 -> 0.33333333
A36: Kantonalni sud u Širokom Brijegu | B36: =+D36/C36 -> 0.47791165 | C36: 249 | D36: 119 | E36: =C36-D36 -> 130 | F36: 0.8182 | G36: 0.4525 | H36: 0.6154 | I36: 0.5 | L36: =4/12 -> 0.33333333
A37: Kantonalni sud u Livnu | B37: =+D37/C37 -> 0.47305389 | C37: 167 | D37: 79 | E37: =C37-D37 -> 88 | F37: 0.4242 | G37: 0.7241 | H37: 0.3333 | I37: 0.3333 | L37: =4/12 -> 0.33333333
A38: Kantonalni sud u Tuzli | B38: =+D38/C38 -> 0.47131148 | C38: 244 | D38: 115 | E38: =C38-D38 -> 129 | F38: 0.4491 | G38: 0.5625 | H38: 0.6 | I38: 1 | J38: 0.6667 | L38: =4/12 -> 0.33333333
A39: Sud BiH | B39: =+D39/C39 -> 0.39358601 | C39: 1029 | D39: 405 | E39: =C39-D39 -> 624 | F39: 0.3074 | G39: 0.5447 | H39: 0.3889 | I39: 0.0833 | J39: 0 | L39: =4/12 -> 0.33333333
A40: Okružni sud u Bijeljini | B40: =+D40/C40 -> 0.38823529 | C40: 340 | D40: 132 | E40: =C40-D40 -> 208 | F40: 0.4019 | G40: 0.1667 | H40: 0.1667 | I40: 0.2 | J40: 1 | L40: =4/12 -> 0.33333333
...

Sheet Odjeljenja
B1: EDITUJU SE SAMO ŽUTA POLJA !!!
A2: KS ZENICA | B2: TOTAL | C2: Inicirani 2023 | D2: Inicirani 2022 - 2021 | E2: Inicirani 2020 - 2019 | F2: Inicirani 2018 - 2015 | G2: Inicirani 2014 - 2010 | H2: Inicirani 2009 god. i ranije
A3: K predmeti PLAN | B3: =SUM(C3:H3) -> 13 | C3: 9 | D3: 4
A4: U predmeti PLAN | B4: =SUM(C4:H4) -> 93 | C4: 67 | D4: 16 | E4: 5 | F4: 4 | H4: 1
A5: ZBIR PLANA | B5: =SUM(B3:B4) -> 106 | C5: =SUM(C3:C4) -> 76 | D5: =SUM(D3:D4) -> 20 | E5: =SUM(E3:E4) -> 5 | F5: =SUM(F3:F4) -> 4 | G5: =SUM(G3:G4) -> 0 | H5: =SUM(H3:H4) -> 1
A6: K predmeti RJEŠENI | B6: =SUM(C6:H6) -> 9 | C6: 7 | D6: 2
A7: U predmeti RJEŠENI | B7: =SUM(C7:H7) -> 92 | C7: 66 | D7: 16 | E7: 5 | F7: 4 | H7: 1
A8: ZBIR RJEŠENIH | B8: =SUM(B6:B7) -> 101 | C8: =SUM(C6:C7) -> 73 | D8: =SUM(D6:D7) -> 18 | E8: =SUM(E6:E7) -> 5 | F8: =SUM(F6:F7) -> 4 | G8: =SUM(G6:G7) -> 0 | H8: =SUM(H6:H7) -> 1
A9: Procenat realizacije | B9: =B8/B5 -> 0.95283019 | C9: =C8/C5 -> 0.96052632 | D9: =D8/D5 -> 0.9 | E9: =E8/E5 -> 1 | F9: =F8/F5 -> 1 | G9: =G8/G5 -> #DIV/0! | H9: =H8/H5 -> 1
A13: OKRUŽNI SUD BANJA LUKA | B13: TOTAL | C13: Inicirani 2023 | D13: Inicirani 2022 - 2021 | E13: Inicirani 2020 - 2019 | F13: Inicirani 2018 - 2015 | G13: Inicirani 2014 - 2010 | H13: Inicirani 2009 god. i ranije
A14: K predmeti PLAN | B14: =SUM(C14:H14) -> 34 | C14: 21 | D14: 6 | E14: 4 | F14: 3
A15: U predmeti PLAN | B15: =SUM(C15:H15) -> 487 | C15: 484 | D15: 3
A16: ZBIR PLANA | B16: =SUM(B14:B15) -> 521 | C16: =SUM(C14:C15) -> 505 | D16: =SUM(D14:D15) -> 9 | E16: =SUM(E14:E15) -> 4 | F16: =SUM(F14:F15) -> 3
A17: K predmeti RJEŠENI | B17: =SUM(C17:H17) -> 15 | C17: 12 | D17: 0 | E17: 2 | F17: 1
A18: U predmeti RJEŠENI | B18: =SUM(C18:H18) -> 468 | C18: 465 | D18: 3
A19: ZBIR RJEŠENIH | B19: =SUM(B17:B18) -> 483 | C19: =SUM(C17:C18) -> 477 | D19: =SUM(D17:D18) -> 3 | E19: =SUM(E17:E18) -> 2 | F19: =SUM(F17:F18) -> 1
A20: Procenat realizacije | B20: =B19/B16 -> 0.92706334 | C20: =C19/C16 -> 0.94455446 | D20: =D19/D16 -> 0.33333333 | E20: =E19/E16 -> 0.5 | F20: =F19/F16 -> 0.33333333 | G20: =G19/G16 -> #DIV/0! | H20: =H19/H16 -> #DIV/0!
A23: OPĆINSKI SUD KONJIC | B23: TOTAL | C23: Inicirani 2023 | D23: Inicirani 2022 - 2021 | E23: Inicirani 2020 - 2019 | F23: Inicirani 2018 - 2015 | G23: Inicirani 2014 - 2010 | H23: Inicirani 2009 god. i ranije
A24: Općinski Konjic PLAN | B24: =SUM(C24:H24) -> 620 | C24: 512 | D24: 65 | E24: 23 | F24: 13 | G24: 6 | H24: 1
A25: Odjeljenje Prozor-Rama PLAN | B25: =SUM(C25:H25) -> 84 | C25: 69 | D25: 15 | E25: 0 | F25: 0 | G25: 0 | H25: 0
A26: ZBIR PLANA | B26: =SUM(B24:B25) -> 704 | C26: =+C24+C25 -> 581 | D26: =+D24+D25 -> 80 | E26: =+E24+E25 -> 23 | F26: =+F24+F25 -> 13 | G26: =+G24+G25 -> 6 | H26: =+H24+H25 -> 1
A27: Općinski konjic REALIZACIJA | B27: =SUM(C27:H27) -> 336 | C27: 276 | D27: 36 | E27: 12 | F27: 7 | G27: 4 | H27: 1
A28: Odjeljenje Prozor-Rama REALIZACIJA | B28: =SUM(C28:H28) -> 39 | C28: 29 | D28: 10 | E28: 0 | F28: 0 | G28: 0 | H28: 0
A29: ZBIR RJEŠENIH | B29: =SUM(B27:B28) -> 375 | C29: =SUM(C27:C28) -> 305 | D29: =SUM(D27:D28) -> 46 | E29: =SUM(E27:E28) -> 12 | F29: =SUM(F27:F28) -> 7 | G29: =SUM(G27:G28) -> 4 | H29: =SUM(H27:H28) -> 1
A30: Procenat realizacije | B30: =B29/B26 -> 0.53267045 | C30: =C29/C26 -> 0.52495697 | D30: =D29/D26 -> 0.575 | E30: =E29/E26 -> 0.52173913 | F30: =F29/F26 -> 0.53846154 | G30: =G29/G26 -> 0.66666667 | H30: =H29/H26 -> 1
A32: OPĆINSKI SUD LIVNO | B32: TOTAL | C32: Inicirani 2023 | D32: Inicirani 2022 - 2021 | E32: Inicirani 2020 - 2019 | F32: Inicirani 2018 - 2015 | G32: Inicirani 2014 - 2010 | H32: Inicirani 2009 god. i ranije
A33: Općinski Livno PLAN | B33: =SUM(C33:H33) -> 759 | C33: 596 | D33: 112 | E33: 19 | F33: 9 | G33: 18 | H33: 5
A34: Odjeljenje Drvar PLAN | B34: =SUM(C34:H34) -> 145 | C34: 115 | D34: 16 | E34: 5 | F34: 6 | G34: 2 | H34: 1
A35: Odjeljenje Tomislavgradu PLAN | B35: =SUM(C35:H35) -> 317 | C35: 288 | D35: 5 | E35: 9 | F35: 6 | G35: 9 | H35: 0
A36: ZBIR PLANA | B36: =SUM(B33:B35) -> 1221 | C36: =+C33+C34+C35 -> 999 | D36: =+D33+D34+D35 -> 133 | E36: =+E33+E34+E35 -> 33 | F36: =+F33+F34+F35 -> 21 | G36: =+G33+G34+G35 -> 29 | H36: =+H33+H34+H35 -> 6
A37: Općinski Livno REALIZACIJA | B37: =SUM(C37:H37) -> 423 | C37: 348 | D37: 53 | E37: 9 | F37: 3 | G37: 10 | H37: 0
A38: Odjeljenje Drvar REALIZACIJA | B38: =SUM(C38:H38) -> 100 | C38: 89 | D38: 6 | E38: 1 | F38: 2 | G38: 1 | H38: 1
A39: Odjeljenje Tomislavgradu REALIZACIJA | B39: =SUM(C39:H39) -> 220 | C39: 207 | D39: 5 | E39: 5 | F39: 2 | G39: 1 | H39: 0
A40: ZBIR RJEŠENIH | B40: =SUM(B37:B39) -> 743 | C40: =SUM(C37:C39) -> 644 | D40: =SUM(D37:D39) -> 64 | E40: =SUM(E37:E39) -> 15 | F40: =SUM(F37:F39) -> 7 | G40: =SUM(G37:G39) -> 12 | H40: =SUM(H37:H39) -> 1
A41: Procenat realizacije | B41: =B40/B36 -> 0.60851761 | C41: =C40/C36 -> 0.64464464 | D41: =D40/D36 -> 0.48120301 | E41: =E40/E36 -> 0.45454545 | F41: =F40/F36 -> 0.33333333 | G41: =G40/G36 -> 0.4137931 | H41: =H40/H36 -> 0.16666667
A45: OPĆINSKI SUD ORAŠJE | B45: TOTAL | C45: Inicirani 2023 | D45: Inicirani 2022 - 2021 | E45: Inicirani 2020 - 2019 | F45: Inicirani 2018 - 2015 | G45: Inicirani 2014 - 2010 | H45: Inicirani 2009 god. i ranije
A46: Opčinski Orašje PLAN | B46: =SUM(C46:H46) -> 971 | C46: 822 | D46: 105 | E46: 13 | F46: 22 | G46: 6 | H46: 3
A47: Prekršajno Orašje PLAN | B47: =SUM(C47:H47) -> 338 | C47: 334 | D47: 4
A48: ZBIR PLANA | B48: =SUM(B46:B47) -> 1309 | C48: =SUM(C46:C47) -> 1156 | D48: =SUM(D46:D47) -> 109 | E48: =SUM(E46:E47) -> 13 | F48: =SUM(F46:F47) -> 22 | G48: =SUM(G46:G47) -> 6 | H48: =SUM(H46:H47) -> 3
A49: Opčinski Orašje REALIAZCIJA | B49: =SUM(C49:H49) -> 450 | C49: 403 | D49: 28 | E49: 7 | F49: 7 | G49: 3 | H49: 2
...
