Workbook

Sheet Prvostepeni 30.4.2025
A1: Realizacija Planova rješavanja predmeta za PRVOSTEPENE SUDOVE za period 1.1. - 30.4.2025. godine
A2: PRVOSTEPENI SUDOVI BOSNE I HERCEGOVINE | B2: Realizacija Plana do 30.4.2025 | C2: Godišnji plan za 2025. godinu | D2: Ostvarenje 30.4.2025. | E2: Ostalo predmeta iz Plana | F2: % riješenih predmeta iz Plana iz posmatrane starosne kategorije | L2: Očekivani % realizacije do 30.4.2025.
F3: Inicirani 2024 | G3: Inicirani 2023 - 2022 | H3: Inicirani 2021 - 2020 | I3: Inicirani 2019 - 2016 | J3: Inicirani 2015 - 2011 | K3: Inicirani 2010 god. i ranije
A4: Osnovni sud u Foči | B4: =+D4/C4 -> 0.76941748 | C4: 824 | D4: 634 | E4: =C4-D4 -> 190 | F4: 0.8236 | G4: 0.36 | H4: 0.3846 | I4: 0.4667 | J4: 0.55 | K4: 0 | L4: =4/12 -> 0.33333333
A5: Okružni privredni sud u Trebinju | B5: =+D5/C5 -> 0.69902913 | C5: 103 | D5: 72 | E5: =C5-D5 -> 31 | F5: 0.7349 | G5: 0.5 | H5: 0.6667 | I5: 0 | J5: 1 | L5: =4/12 -> 0.33333333
A6: Osnovni sud u Mrkonjić Gradu | B6: =+D6/C6 -> 0.68025078 | C6: 319 | D6: 217 | E6: =C6-D6 -> 102 | F6: 0.7061 | G6: 0.4286 | H6: 1 | I6: 0.5 | J6: 0.6 | K6: 0.6667 | L6: =4/12 -> 0.33333333
A7: Općinski sud u Čitluku | B7: =+D7/C7 -> 0.67619048 | C7: 420 | D7: 284 | E7: =C7-D7 -> 136 | F7: 0.6978 | G7: 0.6552 | H7: 0.6552 | I7: 0.6098 | J7: 0.6364 | K7: 0.5 | L7: =4/12 -> 0.33333333
A8: Okružni privredni sud u Bijeljini | B8: =+D8/C8 -> 0.67335244 | C8: 349 | D8: 235 | E8: =C8-D8 -> 114 | F8: 0.7126 | G8: 0.6 | H8: 0.6667 | I8: 0.5455 | J8: 0.3636 | L8: =4/12 -> 0.33333333
A9: Općinski sud u Srebreniku | B9: =+D9/C9 -> 0.64155629 | C9: 1208 | D9: 775 | E9: =C9-D9 -> 433 | F9: 0.6473 | G9: 0.5938 | H9: 0.6667 | I9: 0.5789 | J9: 0.5556 | K9: 0.8 | L9: =4/12 -> 0.33333333
A10: Osnovni sud u Novom Gradu | B10: =+D10/C10 -> 0.63291139 | C10: 316 | D10: 200 | E10: =C10-D10 -> 116 | F10: 0.6329 | G10: 0.6875 | H10: 0.6667 | I10: 0.5 | J10: 0 | K10: 1 | L10: =4/12 -> 0.33333333
A11: Općinski sud u Jajcu | B11: =+D11/C11 -> 0.62275449 | C11: 334 | D11: 208 | E11: =C11-D11 -> 126 | F11: 0.6421 | G11: 0.5217 | H11: 0.6 | J11: 0.5717 | L11: =4/12 -> 0.33333333
A12: Okružni privredni sud u I. Sarajevu | B12: =+D12/C12 -> 0.6173913 | C12: 230 | D12: 142 | E12: =C12-D12 -> 88 | F12: 0.6442 | G12: 0.3889 | H12: 1 | I12: 0 | L12: =4/12 -> 0.33333333
A13: Osnovni sud u Kozarskoj Dubici | B13: =+D13/C13 -> 0.61261261 | C13: 222 | D13: 136 | E13: =C13-D13 -> 86 | F13: 0.6071 | G13: 0.5 | H13: 0.8889 | I13: 1 | L13: =4/12 -> 0.33333333
A14: Općinski sud u Bosanskoj Krupi | B14: =+D14/C14 -> 0.60902256 | C14: 665 | D14: 405 | E14: =C14-D14 -> 260 | F14: 0.6538 | G14: 0.5579 | H14: 0.5 | I14: 0.5143 | J14: 0.5385 | K14: 0 | L14: =4/12 -> 0.33333333
A15: Općinski sud u Livnu | B15: =+D15/C15 -> 0.60851761 | C15: =Odjeljenja!B36 -> 1221 | D15: =Odjeljenja!B40 -> 743 | E15: =C15-D15 -> 478 | F15: =Odjeljenja!C41 -> 0.64464464 | G15: =Odjeljenja!D41 -> 0.48120301 | H15: =Odjeljenja!E41 -> 0.45454545 | I15: =Odjeljenja!F41 -> 0.33333333 | J15: =Odjeljenja!G41 -> 0.4137931 | K15: =Odjeljenja!H41 -> 0.16666667 | L15: =4/12 -> 0.33333333
A16: Općinski sud u Visokom | B16: =+D16/C16 -> 0.59548387 | C16: =Odjeljenja!B68 -> 1550 | D16: =Odjeljenja!B71 -> 923 | E16: =C16-D16 -> 627 | F16: =Odjeljenja!C72 -> 0.60681629 | G16: =Odjeljenja!D72 -> 0.56521739 | H16: =Odjeljenja!E72 -> 0.57377049 | I16: =Odjeljenja!F72 -> 0.44444444 | J16: =Odjeljenja!G72 -> 0.625 | K16: =Odjeljenja!H72 -> 0.5 | L16: =4/12 -> 0.33333333
A17: Osnovni sud u Višegradu | B17: =+D17/C17 -> 0.59125964 | C17: =Odjeljenja!B111 -> 389 | D17: =Odjeljenja!B114 -> 230 | E17: =C17-D17 -> 159 | F17: =Odjeljenja!C115 -> 0.6442953 | G17: =Odjeljenja!D115 -> 0.40909091 | H17: =Odjeljenja!E115 -> 0.5 | I17: =Odjeljenja!F115 -> 0.54545455 | J17: =Odjeljenja!G115 -> 0.31578947 | K17: =Odjeljenja!H115 -> 0.4 | L17: =4/12 -> 0.33333333
A18: Općinski sud u Goraždu | B18: =+D18/C18 -> 0.58907363 | C18: 421 | D18: 248 | E18: =C18-D18 -> 173 | F18: 0.6005 | G18: 0.4848 | H18: 0.1667 | I18: 0.75 | J18: 0.75 | K18: 0.5 | L18: =4/12 -> 0.33333333
A19: Osnovni sud u Bijeljini | B19: =+D19/C19 -> 0.57597851 | C19: =Odjeljenja!B89 -> 2606 | D19: =Odjeljenja!B92 -> 1501 | E19: =C19-D19 -> 1105 | F19: =Odjeljenja!C93 -> 0.59473437 | G19: =Odjeljenja!D93 -> 0.5 | H19: =Odjeljenja!E93 -> 0.44444444 | I19: =Odjeljenja!F93 -> 0.5 | J19: =Odjeljenja!G93 -> 0.66666667 | K19: =Odjeljenja!H93 -> 1 | L19: =4/12 -> 0.33333333
A20: Okružni privredni sud u Doboju | B20: =+D20/C20 -> 0.56395349 | C20: 172 | D20: 97 | E20: =C20-D20 -> 75 | F20: 0.672 | G20: 0.3235 | H20: 0.125 | I20: 0.3333 | J20: 0 | L20: =4/12 -> 0.33333333
A21: Osnovni sud u Kotor Varoši | B21: =+D21/C21 -> 0.55919854 | C21: 1647 | D21: 921 | E21: =C21-D21 -> 726 | F21: 0.5739 | G21: 0.5035 | H21: 0.5224 | I21: 0.5345 | J21: 0.6897 | K21: 0.4 | L21: =4/12 -> 0.33333333
A22: Osnovni sud u Šamcu | B22: =+D22/C22 -> 0.55740741 | C22: 540 | D22: 301 | E22: =C22-D22 -> 239 | F22: 0.6065 | G22: 0.4 | H22: 0 | I22: 0.3333 | J22: 0 | L22: =4/12 -> 0.33333333
A23: Osnovni sud u Derventi | B23: =+D23/C23 -> 0.55627426 | C23: 773 | D23: 430 | E23: =C23-D23 -> 343 | F23: 0.6083 | G23: 0.3846 | H23: 0.4706 | I23: 0.125 | J23: 0.25 | K23: 1 | L23: =4/12 -> 0.33333333
A24: Općinski sud u Zavidovićima | B24: =+D24/C24 -> 0.54352031 | C24: =Odjeljenja!B78 -> 1551 | D24: =Odjeljenja!B81 -> 843 | E24: =C24-D24 -> 708 | F24: =Odjeljenja!C82 -> 0.52409639 | G24: =Odjeljenja!D82 -> 0.64214047 | H24: =Odjeljenja!E82 -> 0.46666667 | I24: =Odjeljenja!F82 -> 0.425 | J24: =Odjeljenja!G82 -> 0.75 | K24: =Odjeljenja!H82 -> 1 | L24: =4/12 -> 0.33333333
A25: Osnovni sud u Prijedoru | B25: =+D25/C25 -> 0.53674121 | C25: 3443 | D25: 1848 | E25: =C25-D25 -> 1595 | F25: 0.545 | G25: 0.5033 | H25: 0.5357 | I25: 0.6053 | J25: 0.5962 | K25: 0.4333 | L25: =4/12 -> 0.33333333
A26: Općinski sud u Konjicu | B26: =+D26/C26 -> 0.53267045 | C26: =Odjeljenja!B26 -> 704 | D26: =Odjeljenja!B29 -> 375 | E26: =C26-D26 -> 329 | F26: =Odjeljenja!C30 -> 0.52495697 | G26: =Odjeljenja!D30 -> 0.575 | H26: =Odjeljenja!E30 -> 0.52173913 | I26: =Odjeljenja!F30 -> 0.53846154 | J26: =Odjeljenja!G30 -> 0.66666667 | L26: =4/12 -> 0.33333333
A27: Općinski sud u Širokom Brijegu | B27: =+D27/C27 -> 0.53101045 | C27: 1435 | D27: 762 | E27: =C27-D27 -> 673 | F27: 0.5653 | G27: 0.4522 | H27: 0.4681 | I27: 0.5075 | J27: 0.3525 | K27: 0.4737 | L27: =4/12 -> 0.33333333
A28: Općinski sud u Banovićima | B28: =+D28/C28 -> 0.52886406 | C28: 537 | D28: 284 | E28: =C28-D28 -> 253 | F28: 0.5184 | G28: 0.5263 | H28: 0.5714 | I28: 0.6061 | J28: 0.5 | L28: =4/12 -> 0.33333333
A29: Općinski sud u Bihaću | B29: =+D29/C29 -> 0.52426093 | C29: 6224 | D29: 3263 | E29: =C29-D29 -> 2961 | F29: 0.4351 | G29: 0.5737 | H29: 0.6365 | I29: 0.4335 | J29: 0.3198 | K29: 0.4211 | L29: =4/12 -> 0.33333333
A30: Osnovni sud u Zvorniku | B30: =+D30/C30 -> 0.52269044 | C30: 1234 | D30: 645 | E30: =C30-D30 -> 589 | F30: 0.5496 | G30: 0.3869 | H30: 0.4348 | I30: 0.6207 | J30: 0.4286 | K30: 0.75 | L30: =4/12 -> 0.33333333
A31: Okružni privredni sud u Banja Luci | B31: =+D31/C31 -> 0.5225425 | C31: 1353 | D31: 707 | E31: =C31-D31 -> 646 | F31: 0.57 | G31: 0.4449 | H31: 0.44 | I31: 0.2321 | J31: 0.493 | K31: 0.3333 | L31: =4/12 -> 0.33333333
A32: Općinski sud u Travniku | B32: =+D32/C32 -> 0.52253555 | C32: 4149 | D32: 2168 | E32: =C32-D32 -> 1981 | F32: 0.5029 | G32: 0.4749 | H32: 0.7521 | I32: 0.7014 | J32: 0.5253 | K32: 0.2656 | L32: =4/12 -> 0.33333333
A33: Okružni privredni sud u Prijedoru | B33: =+D33/C33 -> 0.50980392 | C33: 204 | D33: 104 | E33: =C33-D33 -> 100 | F33: 0.6319 | G33: 0.25 | H33: 0.2857 | I33: 0.2 | J33: 0 | K33: 0 | L33: =4/12 -> 0.33333333
A34: Osnovni sud u Modriči | B34: =+D34/C34 -> 0.50904393 | C34: 774 | D34: 394 | E34: =C34-D34 -> 380 | F34: 0.556 | G34: 0.345 | H34: 0.5 | I34: 0.3333 | J34: 0.8824 | K34: 0.4 | L34: =4/12 -> 0.33333333
A35: Općinski sud u Tuzli | B35: =+D35/C35 -> 0.49930693 | C35: 10100 | D35: 5043 | E35: =C35-D35 -> 5057 | F35: 0.5396 | G35: 0.4174 | H35: 0.4908 | I35: 0.3679 | J35: 0.3769 | K35: 0.4465 | L35: =4/12 -> 0.33333333
A36: Osnovni sud u Tesliću | B36: =+D36/C36 -> 0.49398907 | C36: 915 | D36: 452 | E36: =C36-D36 -> 463 | F36: 0.5211 | G36: 0.3727 | H36: 0.5313 | I36: 0.5 | J36: 0.48 | K36: 0.6 | L36: =4/12 -> 0.33333333
A37: Općinski sud u Ljubuškom | B37: =+D37/C37 -> 0.48244147 | C37: 1196 | D37: 577 | E37: =C37-D37 -> 619 | F37: 0.4866 | G37: 0.426 | H37: 0.4 | I37: 0.4819 | J37: 0.566 | K37: 0.6364 | L37: =4/12 -> 0.33333333
A38: Općinski sud u Gradačcu | B38: =+D38/C38 -> 0.47346295 | C38: 1903 | D38: 901 | E38: =C38-D38 -> 1002 | F38: 0.535 | G38: 0.3684 | H38: 0.3396 | I38: 0.3628 | J38: 0.3304 | K38: 0.381 | L38: =4/12 -> 0.33333333
A39: Općinski sud u Sarajevu | B39: =+D39/C39 -> 0.46746594 | C39: 28109 | D39: 13140 | E39: =C39-D39 -> 14969 | F39: 0.5465 | G39: 0.4223 | H39: 0.4342 | I39: 0.3103 | J39: 0.3618 | K39: 0.3874 | L39: =4/12 -> 0.33333333
A40: Osnovni sud u Gradišci | B40: =+D40/C40 -> 0.45946903 | C40: 2825 | D40: 1298 | E40: =C40-D40 -> 1527 | F40: 0.4143 | G40: 0.5619 | H40: 0.5789 | I40: 0.5405 | J40: 0.5124 | K40: 0.4848 | L40: =4/12 -> 0.33333333
... A42: Općinski sud u Kaknju | B42: =+D42/C42 -> 0.4524237 | C42: 1114 | D42: 504 | E42: =C42-D42 -> 610 | F42: 0.4575 | G42: 0.4701 | H42: 0.2424 | I42: 0.4167 | J42: 0.25 | K42: 0.3333 | L42: =4/12 -> 0.33333333
A43: Osnovni sud u Sokocu | B43: =+D43/C43 -> 0.45027691 | C43: =Odjeljenja!B100 -> 4153 | D43: =Odjeljenja!B104 -> 1870 | E43: =C43-D43 -> 2283 | F43: =Odjeljenja!C105 -> 0.45189099 | G43: =Odjeljenja!D105 -> 0.42577031 | H43: =Odjeljenja!E105 -> 0.46575342 | I43: =Odjeljenja!F105 -> 0.48453608 | J43: =Odjeljenja!G105 -> 0.33333333 | K43: =Odjeljenja!H105 -> 0.55555556 | L43: =4/12 -> 0.33333333
A44: Općinski sud u Žepču | B44: =+D44/C44 -> 0.44688323 | C44: 1139 | D44: 509 | E44: =C44-D44 -> 630 | F44: 0.5635 | G44: 0.2663 | H44: 0.1458 | I44: 0.125 | J44: 0.3333 | K44: 0.5 | L44: =4/12 -> 0.33333333
A45: Općinski sud u Sanskom Mostu | B45: =+D45/C45 -> 0.44602456 | C45: 1547 | D45: 690 | E45: =C45-D45 -> 857 | F45: 0.5261 | G45: 0.332 | H45: 0.3537 | I45: 0.4314 | J45: 0.2549 | K45: 0.6111 | L45: =4/12 -> 0.33333333
A46: Osnovni sud u Trebinju | B46: =+D46/C46 -> 0.44600281 | C46: =Odjeljenja!B121 -> 2139 | D46: =Odjeljenja!B124 -> 954 | E46: =C46-D46 -> 1185 | F46: =Odjeljenja!C125 -> 0.45749235 | G46: =Odjeljenja!D125 -> 0.37012987 | H46: =Odjeljenja!E125 -> 0.35616438 | I46: =Odjeljenja!F125 -> 0.390625 | J46: =Odjeljenja!G125 -> 0.75 | K46: =Odjeljenja!H125 -> 0.53333333 | L46: =4/12 -> 0.33333333
A47: Osnovni sud u Banja Luci | B47: =+D47/C47 -> 0.44303209 | C47: 12902 | D47: 5716 | E47: =C47-D47 -> 7186 | F47: 0.4492 | G47: 0.4653 | H47: 0.3043 | I47: 0.2658 | J47: 0.3184 | K47: 0.3814 | L47: =4/12 -> 0.33333333
A48: Općinski sud u Zenici | B48: =+D48/C48 -> 0.44201155 | C48: 8312 | D48: 3674 | E48: =C48-D48 -> 4638 | F48: 0.4061 | G48: 0.5437 | H48: 0.3421 | I48: 0.4545 | J48: 0.5541 | K48: 0.4857 | L48: =4/12 -> 0.33333333
A49: Općinski sud u Bugojnu | B49: =+D49/C49 -> 0.43922426 | C49: 3661 | D49: 1608 | E49: =C49-D49 -> 2053 | F49: 0.4106 | G49: 0.4552 | H49: 0.3858 | I49: 0.6942 | J49: 0.5484 | K49: 0.6667 | L49: =4/12 -> 0.33333333
A50: Osnovni sud u Prnjavoru | B50: =+D50/C50 -> 0.43892617 | C50: 745 | D50: 327 | E50: =C50-D50 -> 418 | F50: 0.4895 | G50: 0.3553 | H50: 0.3333 | I50: 0.12 | J50: 0.1818 | K50: 0.5 | L50: =4/12 -> 0.33333333
A51: Općinski sud u Mostaru | B51: =+D51/C51 -> 0.43770017 | C51: 6557 | D51: 2870 | E51: =C51-D51 -> 3687 | F51: 0.4848 | G51: 0.4027 | H51: 0.2953 | I51: 0.3025 | J51: 0.2444 | K51: 0.2346 | L51: =4/12 -> 0.33333333
A52: Općinski sud u Tešnju | B52: =+D52/C52 -> 0.4375 | C52: 1280 | D52: 560 | E52: =C52-D52 -> 720 | F52: 0.4711 | G52: 0.3144 | H52: 0.3333 | I52: 0.3714 | J52: 0.6 | K52: 0.5 | L52: =4/12 -> 0.33333333
A53: Općinski sud u Gračanici | B53: =+D53/C53 -> 0.43449048 | C53: 1786 | D53: 776 | E53: =C53-D53 -> 1010 | F53: 0.4137 | G53: 0.5479 | H53: 0.383 | I53: 0.6087 | J53: 0.8636 | K53: 0.5 | L53: =4/12 -> 0.33333333
A54: Općinski sud u Orašju | B54: =+D54/C54 -> 0.43315508 | C54: =Odjeljenja!B48 -> 1309 | D54: =Odjeljenja!B51 -> 567 | E54: =C54-D54 -> 742 | F54: =Odjeljenja!C52 -> 0.44982699 | G54: =Odjeljenja!D52 -> 0.25688073 | H54: =Odjeljenja!E52 -> 0.53846154 | I54: =Odjeljenja!F52 -> 0.31818182 | J54: =Odjeljenja!G52 -> 0.5 | K54: =Odjeljenja!H52 -> 0.66666667 | L54: =4/12 -> 0.33333333
A55: Općinski sud u Kiseljaku | B55: =+D55/C55 -> 0.42835821 | C55: 1340 | D55: 574 | E55: =C55-D55 -> 766 | F55: 0.438 | G55: 0.4029 | H55: 0.2593 | I55: 0.2941 | J55: 0 | K55: 0.5 | L55: =4/12 -> 0.33333333
A56: Osnovni sud Brčko distrikta | B56: =+D56/C56 -> 0.42782609 | C56: 2875 | D56: 1230 | E56: =C56-D56 -> 1645 | F56: 0.4753 | G56: 0.3184 | H56: 0.2883 | I56: 0.2078 | J56: 0.2727 | K56: 0.1667 | L56: =4/12 -> 0.33333333
A57: Općinski sud u Cazinu | B57: =+D57/C57 -> 0.39730917 | C57: 3642 | D57: 1447 | E57: =C57-D57 -> 2195 | F57: 0.3096 | G57: 0.4632 | H57: 0.2838 | I57: 0.265 | J57: 0.3247 | K57: 0.25 | L57: =4/12 -> 0.33333333
A58: Osnovni sud u Vlasenici | B58: =+D58/C58 -> 0.39026718 | C58: 1048 | D58: 409 | E58: =C58-D58 -> 639 | F58: 0.4115 | G58: 0.4444 | H58: 0.2338 | I58: 0.1852 | J58: 0.2 | K58: 0.25 | L58: =4/12 -> 0.33333333
A59: Općinski sud u Čapljini | B59: =+D59/C59 -> 0.37183811 | C59: 1186 | D59: 441 | E59: =C59-D59 -> 745 | F59: 0.4594 | G59: 0.2565 | H59: 0.2075 | I59: 0.15 | J59: 0.1833 | K59: 0.0741 | L59: =4/12 -> 0.33333333
A60: Općinski sud u Lukavcu | B60: =+D60/C60 -> 0.36153511 | C60: 2293 | D60: 829 | E60: =C60-D60 -> 1464 | F60: 0.3152 | G60: 0.4254 | H60: 0.4344 | I60: 0.5252 | J60: 0.4778 | K60: 0.3529 | L60: =4/12 -> 0.33333333
A61: Osnovni sud u Doboju | B61: =+D61/C61 -> 0.35050963 | C61: 3532 | D61: 1238 | E61: =C61-D61 -> 2294 | F61: 0.3398 | G61: 0.4049 | H61: 0.2828 | I61: 0.2429 | J61: 0.2903 | K61: 0 | L61: =4/12 -> 0.33333333
A62: Osnovni sud u Srebrenici | B62: =+D62/C62 -> 0.34302326 | C62: 516 | D62: 177 | E62: =C62-D62 -> 339 | F62: 0.1768 | G62: 0.3741 | H62: 0.4615 | I62: 0.2857 | J62: 0.2222 | K62: 0 | L62: =4/12 -> 0.33333333
A63: Općinski sud u Kalesiji | B63: =+D63/C63 -> 0.3316474 | C63: 1384 | D63: 459 | E63: =C63-D63 -> 925 | F63: 0.3601 | G63: 0.2879 | H63: 0.2524 | I63: 0.2923 | J63: 0.1333 | K63: 0 | L63: =4/12 -> 0.33333333
A64: Općinski sud u Živinicama | B64: =+D64/C64 -> 0.32952432 | C64: =Odjeljenja!B58 -> 3763 | D64: =Odjeljenja!B61 -> 1240 | E64: =C64-D64 -> 2523 | F64: =Odjeljenja!C62 -> 0.31337413 | G64: =Odjeljenja!D62 -> 0.41290323 | H64: =Odjeljenja!E62 -> 0.2559727 | I64: =Odjeljenja!F62 -> 0.32638889 | J64: =Odjeljenja!G62 -> 0.31428571 | K64: =Odjeljenja!H62 -> 0.24489796 | L64: =4/12 -> 0.33333333
A65: Ukupno za sve sudove | B65: =+D65/C65 -> 0.47025885 | C65: =SUM(C4:C64) -> 150549 | D65: =SUM(D4:D64) -> 70797 | E65: =SUM(E4:E64) -> 79752

Sheet Drugostepeni 30.4.2025
A1: Realizacija Planova rješavanja predmeta za DRUGOSTEPENE SUDOVE za period 1.1.- 30.4.2025. godine
A2: DRUGOSTEPENI SUDOVI VRHOVNI SUDOVI SUD BOSNE I HERCEGOVINE | B2: Realizacija Plana do 30.4.2025. | C2: Plan za I polugodište 2025. | D2: Ostvarenje Plana do 30.4.2025. | E2: Ostalo predmeta iz Plana | F2: % riješenih predmeta iz Plana iz posmatrane starosne kategorije | L2: Očekivani % realizacije do 30.4.2025.
F3: Inicirani 2024 | G3: Inicirani 2023 - 2022 | H3: Inicirani 2021 - 2020 | I3: Inicirani 2019 - 2016 | J3: Inicirani 2015 - 2011 | K3: Inicirani 2010 god. i ranije
A4: Realizacija kvartalnih planova za period 01.01. - 30.4.2025 godine
A5: Viši privredni sud u Banja Luci | B5: =+D5/C5 -> 0.8359375 | C5: 128 | D5: 107 | E5: =C5-D5 -> 21 | F5: 0.8636 | G5: 0.7619 | H5: 0.9 | I5: 1 | J5: 0.6667 | K5: 1 | L5: 0.66666667
A6: Okružni sud u Trebinju | B6: =+D6/C6 -> 0.8 | C6: 60 | D6: 48 | E6: =C6-D6 -> 12 | F6: 0.7778 | G6: 0.7813 | H6: 1 | I6: 0 | J6: 1 | K6: 1 | L6: 0.66666667
A7: Kantonalni sud u Zenici | B7: =+D7/C7 -> 0.79189189 | C7: 370 | D7: 293 | E7: =C7-D7 -> 77 | F7: 0.6822 | G7: 0.8587 | H7: 0.8621 | I7: 0.7857 | J7: 0.75 | K7: 0.8333 | L7: 0.66666667
A8: Sud BiH - II stepen | B8: =+D8/C8 -> 0.77292576 | C8: 229 | D8: 177 | E8: =C8-D8 -> 52 | F8: 0.7619 | G8: 0.7853 | H8: 0.5 | I8: 1 | J8: 1 | L8: 0.66666667
A9: Vrhovni sud FBiH | B9: =+D9/C9 -> 0.75884666 | C9: 763 | D9: 579 | E9: =C9-D9 -> 184 | F9: 0.6923 | G9: 0.6816 | H9: 0.8139 | I9: 0.795 | J9: 0.7083 | K9: 0.6 | L9: 0.66666667
A10: Kantonalni sud u Goraždu | B10: =+D10/C10 -> 0.75 | C10: 16 | D10: 12 | E10: =C10-D10 -> 4 | F10: 0.9 | G10: 0.5 | L10: =4/6 -> 0.66666667
A11: Vrhovni sud RS | B11: =+D11/C11 -> 0.74207188 | C11: 473 | D11: 351 | E11: =C11-D11 -> 122 | G11: 0.7107 | H11: 0.7478 | I11: 0.8833 | J11: 0.7333 | K11: 0.6667 | L11: 0.66666667
A12: Kantonalni sud u Odžaku | B12: =+D12/C12 -> 0.72727273 | C12: 44 | D12: 32 | E12: =C12-D12 -> 12 | F12: 0.7143 | G12: 0.6667 | H12: 1 | I12: 1 | J12: 1 | L12: 0.66666667
A13: Kantonalni sud u Mostaru | B13: =+D13/C13 -> 0.72286617 | C13: 949 | D13: 686 | E13: =C13-D13 -> 263 | F13: 0.618 | G13: 0.7477 | H13: 0.7051 | I13: 0.6857 | J13: 0.7941 | K13: 0.9118 | L13: 0.66666667
A14: Kantonalni sud u Tuzli | B14: =+D14/C14 -> 0.70831155 | C14: 1913 | D14: 1355 | E14: =C14-D14 -> 558 | F14: 0.6667 | G14: 0.7033 | H14: 0.6729 | I14: 0.7603 | J14: 0.7813 | K14: 0.88 | L14: 0.66666667
A15: Kantonalni sud u Bihaću | B15: =+D15/C15 -> 0.69984448 | C15: 643 | D15: 450 | E15: =C15-D15 -> 193 | F15: 0.713 | G15: 0.6764 | H15: 0.6786 | I15: 0.7647 | J15: 0.75 | K15: 0.8333 | L15: 0.66666667
A16: Kantonalni sud u Livnu | B16: =+D16/C16 -> 0.66666667 | C16: 123 | D16: 82 | E16: =C16-D16 -> 41 | F16: 0.7436 | G16: 0.6833 | H16: 0.5556 | I16: 0.5556 | J16: 0.25 | K16: 0.5 | L16: 0.66666667
A17: Okružni sud u Istočnom Sarajevu | B17: =+D17/C17 -> 0.65806452 | C17: 310 | D17: 204 | E17: =C17-D17 -> 106 | F17: 0.6667 | G17: 0.6205 | H17: 0.6596 | I17: 0.7857 | J17: 0.8333 | K17: 0.8333 | L17: 0.66666667
A18: Kantonalni sud u Novom Travniku | B18: =+D18/C18 -> 0.65806452 | C18: 465 | D18: 306 | E18: =C18-D18 -> 159 | F18: 0.6494 | G18: 0.6266 | H18: 0.6087 | I18: 0.7317 | J18: 0.8636 | K18: 0.9333 | L18: 0.66666667
A19: Kantonalni sud u Širokom Brijegu | B19: =+D19/C19 -> 0.64383562 | C19: 219 | D19: 141 | E19: =C19-D19 -> 78 | F19: 1 | G19: 0.5041 | H19: 0.8209 | I19: 0.76 | J19: 1 | K19: 1 | L19: 0.66666667
A20: Kantonalni sud u Sarajevu | B20: =+D20/C20 -> 0.64265436 | C20: 2818 | D20: 1811 | E20: =C20-D20 -> 1007 | F20: 0.7761 | G20: 0.607 | H20: 0.6353 | I20: 0.6433 | J20: 0.6196 | K20: 0.8095 | L20: 0.66666667
A21: Okružni sud u Banja Luci | B21: =+D21/C21 -> 0.63996627 | C21: 1186 | D21: 759 | E21: =C21-D21 -> 427 | F21: 0.6596 | G21: 0.6244 | H21: 0.6264 | I21: 0.66 | J21: 0.775 | K21: 0.8235 | L21: 0.66666667
A22: Okružni sud u Doboju | B22: =+D22/C22 -> 0.63787375 | C22: 301 | D22: 192 | E22: =C22-D22 -> 109 | F22: 0.7 | G22: 0.631 | H22: 0.4773 | I22: 0.6471 | J22: 0.8571 | K22: 1 | L22: 0.66666667
A23: Okružni sud u Bijeljini | B23: =+D23/C23 -> 0.6 | C23: 445 | D23: 267 | E23: =C23-D23 -> 178 | F23: 0.5372 | G23: 0.604 | H23: 0.6818 | I23: 0.7647 | J23: 0.625 | K23: 0.6 | L23: 0.66666667
A24: Apelacioni sud Brčko distrikta | B24: =+D24/C24 -> 0.44224422 | C24: 303 | D24: 134 | E24: =C24-D24 -> 169 | F24: 0.8125 | G24: 0.4402 | H24: 0.2059 | I24: 0.16 | J24: 0.1429 | K24: 0.4 | L24: 0.66666667
A25: Okružni sud u Prijedoru | B25: =+D25/C25 -> 0.23484848 | C25: 264 | D25: 62 | E25: =C25-D25 -> 202 | F25: 0.1707 | G25: 0.2222 | H25: 0.2564 | I25: 0.3667 | J25: 0.2308 | K25: 0.1667 | L25: 0.66666667
A26: Ukupno - kvartalni planovi | B26: =+D26/C26 -> 0.66943936 | C26: =SUM(C5:C25) -> 12022 | D26: =SUM(D5:D25) -> 8048 | E26: =SUM(E5:E25) -> 3974
A27: Realizacija prvostepenih planova višestepenih sudova za period 01.01. - 30.4.2025. godine
A28: Kantonalni sud u Odžaku*** | B28: =+D28/C28 -> 1 | C28: 14 | D28: 14 | E28: =C28-D28 -> 0 | F28: 1 | I28: 1 | L28: =4/12 -> 0.33333333
A29: Kantonalni sud u Zenici | B29: =+D29/C29 -> 0.95283019 | C29: =Odjeljenja!B5 -> 106 | D29: =Odjeljenja!B8 -> 101 | E29: =C29-D29 -> 5 | F29: =Odjeljenja!C9 -> 0.96052632 | G29: =Odjeljenja!D9 -> 0.9 | H29: =Odjeljenja!E9 -> 1 | I29: =Odjeljenja!F9 -> 1 | K29: =Odjeljenja!H9 -> 1 | L29: =4/12 -> 0.33333333
A30: Okružni sud u Banja Luci | B30: =+D30/C30 -> 0.92706334 | C30: =Odjeljenja!B16 -> 521 | D30: =Odjeljenja!B19 -> 483 | E30: =C30-D30 -> 38 | F30: =Odjeljenja!C20 -> 0.94455446 | G30: =Odjeljenja!D20 -> 0.33333333 | H30: =Odjeljenja!E20 -> 0.5 | I30: =Odjeljenja!F20 -> 0.33333333 | L30: =4/12 -> 0.33333333
A31: Okružni sud u Trebinju* | B31: =+D31/C31 -> 0.9122807 | C31: 57 | D31: 52 | E31: =C31-D31 -> 5 | F31: 0.9423 | G31: 0.5 | H31: 1 | L31: =4/12 -> 0.33333333
A32: Kantonalni sud u Bihaću | B32: =+D32/C32 -> 0.82272727 | C32: 220 | D32: 181 | E32: =C32-D32 -> 39 | F32: 0.8261 | G32: 0.7368 | H32: 0.8571 | I32: 0.8333 | J32: 1 | K32: 1 | L32: =4/12 -> 0.33333333
A33: Okružni sud u Doboju | B33: =+D33/C33 -> 0.7791411 | C33: 163 | D33: 127 | E33: =C33-D33 -> 36 | F33: 0.8041 | G33: 0.5 | I33: 0.5 | J33: 1 | L33: =4/12 -> 0.33333333
A34: Okružni sud u Istočnom Sarajevu | B34: =+D34/C34 -> 0.69148936 | C34: 188 | D34: 130 | E34: =C34-D34 -> 58 | F34: 0.7384 | G34: 0.2727 | H34: 0 | I34: 0 | L34: =4/12 -> 0.33333333
A35: Kantonalni sud u Novom Travniku | B35: =+D35/C35 -> 0.52380952 | C35: 168 | D35: 88 | E35: =C35-D35 -> 80 | F35: 0.5063 | G35: 0.75 | H35: 1 | J35: 1 | L35: =4/12 -> 0.33333333
A36: Kantonalni sud u Širokom Brijegu | B36: =+D36/C36 -> 0.47791165 | C36: 249 | D36: 119 | E36: =C36-D36 -> 130 | F36: 0.8182 | G36: 0.4525 | H36: 0.6154 | I36: 0.5 | L36: =4/12 -> 0.33333333
A37: Kantonalni sud u Livnu | B37: =+D37/C37 -> 0.47305389 | C37: 167 | D37: 79 | E37: =C37-D37 -> 88 | F37: 0.4242 | G37: 0.7241 | H37: 0.3333 | I37: 0.3333 | L37: =4/12 -> 0.33333333
A38: Kantonalni sud u Tuzli | B38: =+D38/C38 -> 0.47131148 | C38: 244 | D38: 115 | E38: =C38-D38 -> 129 | F38: 0.4491 | G38: 0.5625 | H38: 0.6 | I38: 1 | J38: 0.6667 | L38: =4/12 -> 0.33333333
A39: Sud BiH | B39: =+D39/C39 -> 0.39358601 | C39: 1029 | D39: 405 | E39: =C39-D39 -> 624 | F39: 0.3074 | G39: 0.5447 | H39: 0.3889 | I39: 0.0833 | J39: 0 | L39: =4/12 -> 0.33333333
A40: Okružni sud u Bijeljini | B40: =+D40/C40 -> 0.38823529 | C40: 340 | D40: 132 | E40: =C40-D40 -> 208 | F40: 0.4019 | G40: 0.1667 | H40: 0.1667 | I40: 0.2 | J40: 1 | L40: =4/12 -> 0.33333333
A41: Kantonalni sud u Mostaru | B41: =+D41/C41 -> 0.36835891 | C41: 847 | D41: 312 | E41: =C41-D41 -> 535 | F41: 0.4 | G41: 0.3452 | H41: 0.6857 | I41: 0.7647 | J41: 1 | K41: 0 | L41: =4/12 -> 0.33333333
A42: Kantonalni sud u Sarajevu | B42: =+D42/C42 -> 0.34915773 | C42: 1306 | D42: 456 | E42: =C42-D42 -> 850 | F42: 0.4651 | G42: 0.325 | H42: 0.5667 | I42: 0.4706 | J42: 1 | L42: =4/12 -> 0.33333333
A43: Okružni sud u Prijedoru | B43: =+D43/C43 -> 0.21495327 | C43: 214 | D43: 46 | E43: =C43-D43 -> 168 | F43: 0.2241 | G43: 0.1842 | H43: 0 | I43: 0 | L43: =4/12 -> 0.33333333
A44: Ukupno - prvostepeni planovi | B44: =+D44/C44 -> 0.48688496 | C44: =SUM(C28:C43) -> 5833 | D44: =SUM(D28:D43) -> 2840 | E44: =SUM(E28:E43) -> 2993
A45: Ukupno za sve sudove | B45: =+D45/C45 -> 0.60980118 | C45: =SUM(C5:C25,C28:C43) -> 17855 | D45: =SUM(D5:D25,D28:D43) -> 10888 | E45: =SUM(E5:E25,E28:E43) -> 6967
A47: * samo dvije starosne kategorije
A48: ** samo jedna starosna kategorija
A49: *** nema plana rješavanja predmeta
B58: Plan | C58: Riješeno | D58: % realizacije | E58: Neriješeno | F58: % neriješeno
A59: Procentualna realizacija plana: | B59: =C45+'Prvostepeni 30.4.2025'!C65 -> 168404 | C59: =D45+'Prvostepeni 30.4.2025'!D65 -> 81685 | D59: =C59/B59 -> 0.4850538 | E59: =B59-C59 -> 86719 | F59: =E59/B59 -> 0.5149462
B63: Riješeno | C63: Neriješeno
A64: Procentualna realizacija plana | B64: =D59 -> 0.4850538 | C64: =F59 -> 0.5149462

Sheet Odjeljenja
B1: EDITUJU SE SAMO ŽUTA POLJA !!!
A2: KS ZENICA | B2: TOTAL | C2: Inicirani 2023 | D2: Inicirani 2022 - 2021 | E2: Inicirani 2020 - 2019 | F2: Inicirani 2018 - 2015 | G2: Inicirani 2014 - 2010 | H2: Inicirani 2009 god. i ranije
A3: K predmeti PLAN | B3: =SUM(C3:H3) -> 13 | C3: 9 | D3: 4
A4: U predmeti PLAN | B4: =SUM(C4:H4) -> 93 | C4: 67 | D4: 16 | E4: 5 | F4: 4 | H4: 1
A5: ZBIR PLANA | B5: =SUM(B3:B4) -> 106 | C5: =SUM(C3:C4) -> 76 | D5: =SUM(D3:D4) -> 20 | E5: =SUM(E3:E4) -> 5 | F5: =SUM(F3:F4) -> 4 | G5: =SUM(G3:G4) -> 0 | H5: =SUM(H3:H4) -> 1
A6: K predmeti RJEŠENI | B6: =SUM(C6:H6) -> 9 | C6: 7 | D6: 2
A7: U predmeti RJEŠENI | B7: =SUM(C7:H7) -> 92 | C7: 66 | D7: 16 | E7: 5 | F7: 4 | H7: 1
A8: ZBIR RJEŠENIH | B8: =SUM(B6:B7) -> 101 | C8: =SUM(C6:C7) -> 73 | D8: =SUM(D6:D7) -> 18 | E8: =SUM(E6:E7) -> 5 | F8: =SUM(F6:F7) -> 4 | G8: =SUM(G6:G7) -> 0 | H8: =SUM(H6:H7) -> 1
A9: Procenat realizacije | B9: =B8/B5 -> 0.95283019 | C9: =C8/C5 -> 0.96052632 | D9: =D8/D5 -> 0.9 | E9: =E8/E5 -> 1 | F9: =F8/F5 -> 1 | G9: =G8/G5 -> #DIV/0! | H9: =H8/H5 -> 1
A13: OKRUŽNI SUD BANJA LUKA | B13: TOTAL | C13: Inicirani 2023 | D13: Inicirani 2022 - 2021 | E13: Inicirani 2020 - 2019 | F13: Inicirani 2018 - 2015 | G13: Inicirani 2014 - 2010 | H13: Inicirani 2009 god. i ranije
A14: K predmeti PLAN | B14: =SUM(C14:H14) -> 34 | C14: 21 | D14: 6 | E14: 4 | F14: 3
A15: U predmeti PLAN | B15: =SUM(C15:H15) -> 487 | C15: 484 | D15: 3
A16: ZBIR PLANA | B16: =SUM(B14:B15) -> 521 | C16: =SUM(C14:C15) -> 505 | D16: =SUM(D14:D15) -> 9 | E16: =SUM(E14:E15) -> 4 | F16: =SUM(F14:F15) -> 3
A17: K predmeti RJEŠENI | B17: =SUM(C17:H17) -> 15 | C17: 12 | D17: 0 | E17: 2 | F17: 1
A18: U predmeti RJEŠENI | B18: =SUM(C18:H18) -> 468 | C18: 465 | D18: 3
A19: ZBIR RJEŠENIH | B19: =SUM(B17:B18) -> 483 | C19: =SUM(C17:C18) -> 477 | D19: =SUM(D17:D18) -> 3 | E19: =SUM(E17:E18) -> 2 | F19: =SUM(F17:F18) -> 1
A20: Procenat realizacije | B20: =B19/B16 -> 0.92706334 | C20: =C19/C16 -> 0.94455446 | D20: =D19/D16 -> 0.33333333 | E20: =E19/E16 -> 0.5 | F20: =F19/F16 -> 0.33333333 | G20: =G19/G16 -> #DIV/0! | H20: =H19/H16 -> #DIV/0!
A23: OPĆINSKI SUD KONJIC | B23: TOTAL | C23: Inicirani 2023 | D23: Inicirani 2022 - 2021 | E23: Inicirani 2020 - 2019 | F23: Inicirani 2018 - 2015 | G23: Inicirani 2014 - 2010 | H23: Inicirani 2009 god. i ranije
A24: Općinski Konjic PLAN | B24: =SUM(C24:H24) -> 620 | C24: 512 | D24: 65 | E24: 23 | F24: 13 | G24: 6 | H24: 1
A25: Odjeljenje Prozor-Rama PLAN | B25: =SUM(C25:H25) -> 84 | C25: 69 | D25: 15 | E25: 0 | F25: 0 | G25: 0 | H25: 0
A26: ZBIR PLANA | B26: =SUM(B24:B25) -> 704 | C26: =+C24+C25 -> 581 | D26: =+D24+D25 -> 80 | E26: =+E24+E25 -> 23 | F26: =+F24+F25 -> 13 | G26: =+G24+G25 -> 6 | H26: =+H24+H25 -> 1
A27: Općinski konjic REALIZACIJA | B27: =SUM(C27:H27) -> 336 | C27: 276 | D27: 36 | E27: 12 | F27: 7 | G27: 4 | H27: 1
A28: Odjeljenje Prozor-Rama REALIZACIJA | B28: =SUM(C28:H28) -> 39 | C28: 29 | D28: 10 | E28: 0 | F28: 0 | G28: 0 | H28: 0
A29: ZBIR RJEŠENIH | B29: =SUM(B27:B28) -> 375 | C29: =SUM(C27:C28) -> 305 | D29: =SUM(D27:D28) -> 46 | E29: =SUM(E27:E28) -> 12 | F29: =SUM(F27:F28) -> 7 | G29: =SUM(G27:G28) -> 4 | H29: =SUM(H27:H28) -> 1
A30: Procenat realizacije | B30: =B29/B26 -> 0.53267045 | C30: =C29/C26 -> 0.52495697 | D30: =D29/D26 -> 0.575 | E30: =E29/E26 -> 0.52173913 | F30: =F29/F26 -> 0.53846154 | G30: =G29/G26 -> 0.66666667 | H30: =H29/H26 -> 1
A32: OPĆINSKI SUD LIVNO | B32: TOTAL | C32: Inicirani 2023 | D32: Inicirani 2022 - 2021 | E32: Inicirani 2020 - 2019 | F32: Inicirani 2018 - 2015 | G32: Inicirani 2014 - 2010 | H32: Inicirani 2009 god. i ranije
A33: Općinski Livno PLAN | B33: =SUM(C33:H33) -> 759 | C33: 596 | D33: 112 | E33: 19 | F33: 9 | G33: 18 | H33: 5
A34: Odjeljenje Drvar PLAN | B34: =SUM(C34:H34) -> 145 | C34: 115 | D34: 16 | E34: 5 | F34: 6 | G34: 2 | H34: 1
A35: Odjeljenje Tomislavgradu PLAN | B35: =SUM(C35:H35) -> 317 | C35: 288 | D35: 5 | E35: 9 | F35: 6 | G35: 9 | H35: 0
A36: ZBIR PLANA | B36: =SUM(B33:B35) -> 1221 | C36: =+C33+C34+C35 -> 999 | D36: =+D33+D34+D35 -> 133 | E36: =+E33+E34+E35 -> 33 | F36: =+F33+F34+F35 -> 21 | G36: =+G33+G34+G35 -> 29 | H36: =+H33+H34+H35 -> 6
A37: Općinski Livno REALIZACIJA | B37: =SUM(C37:H37) -> 423 | C37: 348 | D37: 53 | E37: 9 | F37: 3 | G37: 10 | H37: 0
A38: Odjeljenje Drvar REALIZACIJA | B38: =SUM(C38:H38) -> 100 | C38: 89 | D38: 6 | E38: 1 | F38: 2 | G38: 1 | H38: 1
A39: Odjeljenje Tomislavgradu REALIZACIJA | B39: =SUM(C39:H39) -> 220 | C39: 207 | D39: 5 | E39: 5 | F39: 2 | G39: 1 | H39: 0
A40: ZBIR RJEŠENIH | B40: =SUM(B37:B39) -> 743 | C40: =SUM(C37:C39) -> 644 | D40: =SUM(D37:D39) -> 64 | E40: =SUM(E37:E39) -> 15 | F40: =SUM(F37:F39) -> 7 | G40: =SUM(G37:G39) -> 12 | H40: =SUM(H37:H39) -> 1
A41: Procenat realizacije | B41: =B40/B36 -> 0.60851761 | C41: =C40/C36 -> 0.64464464 | D41: =D40/D36 -> 0.48120301 | E41: =E40/E36 -> 0.45454545 | F41: =F40/F36 -> 0.33333333 | G41: =G40/G36 -> 0.4137931 | H41: =H40/H36 -> 0.16666667
A45: OPĆINSKI SUD ORAŠJE | B45: TOTAL | C45: Inicirani 2023 | D45: Inicirani 2022 - 2021 | E45: Inicirani 2020 - 2019 | F45: Inicirani 2018 - 2015 | G45: Inicirani 2014 - 2010 | H45: Inicirani 2009 god. i ranije
A46: Opčinski Orašje PLAN | B46: =SUM(C46:H46) -> 971 | C46: 822 | D46: 105 | E46: 13 | F46: 22 | G46: 6 | H46: 3
A47: Prekršajno Orašje PLAN | B47: =SUM(C47:H47) -> 338 | C47: 334 | D47: 4
A48: ZBIR PLANA | B48: =SUM(B46:B47) -> 1309 | C48: =SUM(C46:C47) -> 1156 | D48: =SUM(D46:D47) -> 109 | E48: =SUM(E46:E47) -> 13 | F48: =SUM(F46:F47) -> 22 | G48: =SUM(G46:G47) -> 6 | H48: =SUM(H46:H47) -> 3
A49: Opčinski Orašje REALIAZCIJA | B49: =SUM(C49:H49) -> 450 | C49: 403 | D49: 28 | E49: 7 | F49: 7 | G49: 3 | H49: 2
A50: Prekršajno Orašje REALIZACIJA | B50: =SUM(C50:H50) -> 117 | C50: 117 | D50: 0
A51: ZBIR RJEŠENIH | B51: =SUM(B49:B50) -> 567 | C51: =SUM(C49:C50) -> 520 | D51: =SUM(D49:D50) -> 28 | E51: =SUM(E49:E50) -> 7 | F51: =SUM(F49:F50) -> 7 | G51: =SUM(G49:G50) -> 3 | H51: =SUM(H49:H50) -> 2
A52: Procenat realizacije | B52: =B51/B48 -> 0.43315508 | C52: =C51/C48 -> 0.44982699 | D52: =D51/D48 -> 0.25688073 | E52: =E51/E48 -> 0.53846154 | F52: =F51/F48 -> 0.31818182 | G52: =G51/G48 -> 0.5 | H52: =H51/H48 -> 0.66666667
A55: OPĆINSKI SUD ŽIVINICE | B55: TOTAL | C55: Inicirani 2023 | D55: Inicirani 2022 - 2021 | E55: Inicirani 2020 - 2019 | F55: Inicirani 2018 - 2015 | G55: Inicirani 2014 - 2010 | H55: Inicirani 2009 god. i ranije
A56: Opčinski Živinice PLAN | B56: =SUM(C56:H56) -> 3444 | C56: 2021 | D56: 731 | E56: 288 | F56: 285 | G56: 70 | H56: 49
A57: Odjeljenje Kladanj PLAN | B57: =SUM(C57:H57) -> 319 | C57: 267 | D57: 44 | E57: 5 | F57: 3 | G57: 0 | H57: 0
A58: ZBIR PLANA | B58: =SUM(B56:B57) -> 3763 | C58: =SUM(C56:C57) -> 2288 | D58: =SUM(D56:D57) -> 775 | E58: =SUM(E56:E57) -> 293 | F58: =SUM(F56:F57) -> 288 | G58: =SUM(G56:G57) -> 70 | H58: =SUM(H56:H57) -> 49
A59: Opčinski Živinice REALIAZCIJA | B59: =SUM(C59:H59) -> 1159 | C59: 666 | D59: 295 | E59: 73 | F59: 91 | G59: 22 | H59: 12
A60: Odjeljenje Kladanj REALIZACIJA | B60: =SUM(C60:H60) -> 81 | C60: 51 | D60: 25 | E60: 2 | F60: 3 | G60: 0 | H60: 0
A61: ZBIR RJEŠENIH | B61: =SUM(B59:B60) -> 1240 | C61: =SUM(C59:C60) -> 717 | D61: =SUM(D59:D60) -> 320 | E61: =SUM(E59:E60) -> 75 | F61: =SUM(F59:F60) -> 94 | G61: =SUM(G59:G60) -> 22 | H61: =SUM(H59:H60) -> 12
A62: Procenat realizacije | B62: =B61/B58 -> 0.32952432 | C62: =C61/C58 -> 0.31337413 | D62: =D61/D58 -> 0.41290323 | E62: =E61/E58 -> 0.2559727 | F62: =F61/F58 -> 0.32638889 | G62: =G61/G58 -> 0.31428571 | H62: =H61/H58 -> 0.24489796
A65: OPĆINSKI SUD VISOKO | B65: TOTAL | C65: Inicirani 2023 | D65: Inicirani 2022 - 2021 | E65: Inicirani 2020 - 2019 | F65: Inicirani 2018 - 2015 | G65: Inicirani 2014 - 2010 | H65: Inicirani 2009 god. i ranije
A66: Općinski Visoko PLAN | B66: =SUM(C66:H66) -> 1415 | C66: 1091 | D66: 215 | E66: 55 | F66: 35 | G66: 15 | H66: 4
A67: Odjeljenje Olovo PLAN | B67: =SUM(C67:H67) -> 135 | C67: 112 | D67: 15 | E67: 6 | F67: 1 | G67: 1 | H67: 0
A68: ZBIR PLANA | B68: =SUM(B66:B67) -> 1550 | C68: =SUM(C66:C67) -> 1203 | D68: =SUM(D66:D67) -> 230 | E68: =SUM(E66:E67) -> 61 | F68: =SUM(F66:F67) -> 36 | G68: =SUM(G66:G67) -> 16 | H68: =SUM(H66:H67) -> 4
A69: Opčinski Visoko REALIAZCIJA | B69: =SUM(C69:H69) -> 835 | C69: 653 | D69: 122 | E69: 33 | F69: 16 | G69: 9 | H69: 2
A70: Odjeljenje Olovo REALIZACIJA | B70: =SUM(C70:H70) -> 88 | C70: 77 | D70: 8 | E70: 2 | F70: 0 | G70: 1 | H70: 0
A71: ZBIR RJEŠENIH | B71: =SUM(B69:B70) -> 923 | C71: =SUM(C69:C70) -> 730 | D71: =SUM(D69:D70) -> 130 | E71: =SUM(E69:E70) -> 35 | F71: =SUM(F69:F70) -> 16 | G71: =SUM(G69:G70) -> 10 | H71: =SUM(H69:H70) -> 2
A72: Procenat realizacije | B72: =B71/B68 -> 0.59548387 | C72: =C71/C68 -> 0.60681629 | D72: =D71/D68 -> 0.56521739 | E72: =E71/E68 -> 0.57377049 | F72: =F71/F68 -> 0.44444444 | G72: =G71/G68 -> 0.625 | H72: =H71/H68 -> 0.5
A75: OPĆINSKI SUD ZAVIDOVIĆI | B75: TOTAL | C75: Inicirani 2023 | D75: Inicirani 2022 - 2021 | E75: Inicirani 2020 - 2019 | F75: Inicirani 2018 - 2015 | G75: Inicirani 2014 - 2010 | H75: Inicirani 2009 god. i ranije
A76: Općinski Zavidovići PLAN | B76: =SUM(C76:H76) -> 1132 | C76: 797 | D76: 256 | E76: 39 | F76: 35 | G76: 4 | H76: 1
A77: Odjeljenje Maglaj PLAN | B77: =SUM(C77:H77) -> 419 | C77: 365 | D77: 43 | E77: 6 | F77: 5 | G77: 0 | H77: 0
A78: ZBIR PLANA | B78: =SUM(B76:B77) -> 1551 | C78: =SUM(C76:C77) -> 1162 | D78: =SUM(D76:D77) -> 299 | E78: =SUM(E76:E77) -> 45 | F78: =SUM(F76:F77) -> 40 | G78: =SUM(G76:G77) -> 4 | H78: =SUM(H76:H77) -> 1
A79: Opčinski Zavidovići REALIAZCIJA | B79: =SUM(C79:H79) -> 575 | C79: 376 | D79: 162 | E79: 17 | F79: 16 | G79: 3 | H79: 1
A80: Odjeljenje Maglaj REALIZACIJA | B80: =SUM(C80:H80) -> 268 | C80: 233 | D80: 30 | E80: 4 | F80: 1 | G80: 0 | H80: 0
A81: ZBIR RJEŠENIH | B81: =SUM(B79:B80) -> 843 | C81: =SUM(C79:C80) -> 609 | D81: =SUM(D79:D80) -> 192 | E81: =SUM(E79:E80) -> 21 | F81: =SUM(F79:F80) -> 17 | G81: =SUM(G79:G80) -> 3 | H81: =SUM(H79:H80) -> 1
A82: Procenat realizacije | B82: =B81/B78 -> 0.54352031 | C82: =C81/C78 -> 0.52409639 | D82: =D81/D78 -> 0.64214047 | E82: =E81/E78 -> 0.46666667 | F82: =F81/F78 -> 0.425 | G82: =G81/G78 -> 0.75 | H82: =H81/H78 -> 1
A86: OSNOVNI SUD BIJELJINA | B86: TOTAL | C86: Inicirani 2023 | D86: Inicirani 2022 - 2021 | E86: Inicirani 2020 - 2019 | F86: Inicirani 2018 - 2015 | G86: Inicirani 2014 - 2010 | H86: Inicirani 2009 god. i ranije
A87: Osnvoni Bijeljina PLAN | B87: =SUM(C87:H87) -> 2370 | C87: 1918 | D87: 334 | E87: 88 | F87: 23 | G87: 6 | H87: 1
A88: Odjeljenje Lopare PLAN | B88: =SUM(C88:H88) -> 236 | C88: 209 | D88: 24 | E88: 2 | F88: 1 | G88: 0 | H88: 0
A89: ZBIR PLANA | B89: =SUM(B87:B88) -> 2606 | C89: =SUM(C87:C88) -> 2127 | D89: =SUM(D87:D88) -> 358 | E89: =SUM(E87:E88) -> 90 | F89: =SUM(F87:F88) -> 24 | G89: =SUM(G87:G88) -> 6 | H89: =SUM(H87:H88) -> 1
A90: Osnvoni Bijeljina REALIAZCIJA | B90: =SUM(C90:H90) -> 1383 | C90: 1159 | D90: 169 | E90: 38 | F90: 12 | G90: 4 | H90: 1
A91: Odjeljenje Lopare REALIZACIJA | B91: =SUM(C91:H91) -> 118 | C91: 106 | D91: 10 | E91: 2 | F91: 0 | G91: 0 | H91: 0
A92: ZBIR RJEŠENIH | B92: =SUM(B90:B91) -> 1501 | C92: =SUM(C90:C91) -> 1265 | D92: =SUM(D90:D91) -> 179 | E92: =SUM(E90:E91) -> 40 | F92: =SUM(F90:F91) -> 12 | G92: =SUM(G90:G91) -> 4 | H92: =SUM(H90:H91) -> 1
A93: Procenat realizacije | B93: =B92/B89 -> 0.57597851 | C93: =C92/C89 -> 0.59473437 | D93: =D92/D89 -> 0.5 | E93: =E92/E89 -> 0.44444444 | F93: =F92/F89 -> 0.5 | G93: =G92/G89 -> 0.66666667 | H93: =H92/H89 -> 1
A96: OSNOVNI SUD SOKOLAC | B96: TOTAL | C96: Inicirani 2023 | D96: Inicirani 2022 - 2021 | E96: Inicirani 2020 - 2019 | F96: Inicirani 2018 - 2015 | G96: Inicirani 2014 - 2010 | H96: Inicirani 2009 god. i ranije
A97: Osnvoni Sokolac PLAN | B97: =SUM(C97:H97) -> 2745 | C97: 2399 | D97: 230 | E97: 45 | F97: 60 | G97: 8 | H97: 3
A98: Odjeljenje I.Srajevo PLAN | B98: =SUM(C98:H98) -> 1229 | C98: 1030 | D98: 115 | E98: 28 | F98: 37 | G98: 13 | H98: 6
A99: Odjeljenje Pale | B99: =SUM(C99:H99) -> 179 | C99: 167 | D99: 12 | E99: 0 | F99: 0 | G99: 0 | H99: 0
A100: ZBIR PLANA | B100: =SUM(B97:B99) -> 4153 | C100: =SUM(C97:C99) -> 3596 | D100: =SUM(D97:D99) -> 357 | E100: =SUM(E97:E99) -> 73 | F100: =SUM(F97:F99) -> 97 | G100: =SUM(G97:G99) -> 21 | H100: =SUM(H97:H99) -> 9
A101: Osnvoni Sokolac REALIAZCIJA | B101: =SUM(C101:H101) -> 1245 | C101: 1083 | D101: 96 | E101: 27 | F101: 34 | G101: 3 | H101: 2
A102: Odjeljenje I.Sarajevo REALIZACIJA | B102: =SUM(C102:H102) -> 555 | C102: 476 | D102: 52 | E102: 7 | F102: 13 | G102: 4 | H102: 3
A103: Odjeljenje Pale | B103: =SUM(C103:H103) -> 70 | C103: 66 | D103: 4 | E103: 0 | F103: 0 | G103: 0 | H103: 0
A104: ZBIR RJEŠENIH | B104: =SUM(B101:B103) -> 1870 | C104: =SUM(C101:C103) -> 1625 | D104: =SUM(D101:D103) -> 152 | E104: =SUM(E101:E103) -> 34 | F104: =SUM(F101:F103) -> 47 | G104: =SUM(G101:G103) -> 7 | H104: =SUM(H101:H103) -> 5
A105: Procenat realizacije | B105: =B104/B100 -> 0.45027691 | C105: =C104/C100 -> 0.45189099 | D105: =D104/D100 -> 0.42577031 | E105: =E104/E100 -> 0.46575342 | F105: =F104/F100 -> 0.48453608 | G105: =G104/G100 -> 0.33333333 | H105: =H104/H100 -> 0.55555556
A108: OSNOVNI SUD VIŠEGRAD | B108: TOTAL | C108: Inicirani 2023 | D108: Inicirani 2022 - 2021 | E108: Inicirani 2020 - 2019 | F108: Inicirani 2018 - 2015 | G108: Inicirani 2014 - 2010 | H108: Inicirani 2009 god. i ranije
A109: Osnvoni Višegrad PLAN | B109: =SUM(C109:H109) -> 274 | C109: 204 | D109: 33 | E109: 10 | F109: 10 | G109: 15 | H109: 2
A110: Odjeljenje Rogatica PLAN | B110: =SUM(C110:H110) -> 115 | C110: 94 | D110: 11 | E110: 2 | F110: 1 | G110: 4 | H110: 3
A111: ZBIR PLANA | B111: =SUM(B109:B110) -> 389 | C111: =SUM(C109:C110) -> 298 | D111: =SUM(D109:D110) -> 44 | E111: =SUM(E109:E110) -> 12 | F111: =SUM(F109:F110) -> 11 | G111: =SUM(G109:G110) -> 19 | H111: =SUM(H109:H110) -> 5
A112: Osnvoni Višegrad REALIAZCIJA | B112: =SUM(C112:H112) -> 170 | C112: 145 | D112: 10 | E112: 5 | F112: 6 | G112: 4 | H112: 0
A113: Odjeljenje Rogatica REALIZACIJA | B113: =SUM(C113:H113) -> 60 | C113: 47 | D113: 8 | E113: 1 | F113: 0 | G113: 2 | H113: 2
A114: ZBIR RJEŠENIH | B114: =SUM(B112:B113) -> 230 | C114: =SUM(C112:C113) -> 192 | D114: =SUM(D112:D113) -> 18 | E114: =SUM(E112:E113) -> 6 | F114: =SUM(F112:F113) -> 6 | G114: =SUM(G112:G113) -> 6 | H114: =SUM(H112:H113) -> 2
A115: Procenat realizacije | B115: =B114/B111 -> 0.59125964 | C115: =C114/C111 -> 0.6442953 | D115: =D114/D111 -> 0.40909091 | E115: =E114/E111 -> 0.5 | F115: =F114/F111 -> 0.54545455 | G115: =G114/G111 -> 0.31578947 | H115: =H114/H111 -> 0.4
A118: OSNOVNI SUD TREBINJE | B118: TOTAL | C118: Inicirani 2023 | D118: Inicirani 2022 - 2021 | E118: Inicirani 2020 - 2019 | F118: Inicirani 2018 - 2015 | G118: Inicirani 2014 - 2010 | H118: Inicirani 2009 god. i ranije
A119: Osnvoni Trebinje PLAN | B119: =SUM(C119:H119) -> 1973 | C119: 1532 | D119: 272 | E119: 68 | F119: 53 | G119: 38 | H119: 10
A120: Odjeljenje Nevesinje PLAN | B120: =SUM(C120:H120) -> 166 | C120: 103 | D120: 36 | E120: 5 | F120: 11 | G120: 6 | H120: 5
A121: ZBIR PLANA | B121: =SUM(B119:B120) -> 2139 | C121: =SUM(C119:C120) -> 1635 | D121: =SUM(D119:D120) -> 308 | E121: =SUM(E119:E120) -> 73 | F121: =SUM(F119:F120) -> 64 | G121: =SUM(G119:G120) -> 44 | H121: =SUM(H119:H120) -> 15
A122: Osnvoni Trebinje REALIAZCIJA | B122: =SUM(C122:H122) -> 859 | C122: 690 | D122: 90 | E122: 24 | F122: 18 | G122: 29 | H122: 8
A123: Odjeljenje Nevesinje REALIZACIJA | B123: =SUM(C123:H123) -> 95 | C123: 58 | D123: 24 | E123: 2 | F123: 7 | G123: 4 | H123: 0
A124: ZBIR RJEŠENIH | B124: =SUM(B122:B123) -> 954 | C124: =SUM(C122:C123) -> 748 | D124: =SUM(D122:D123) -> 114 | E124: =SUM(E122:E123) -> 26 | F124: =SUM(F122:F123) -> 25 | G124: =SUM(G122:G123) -> 33 | H124: =SUM(H122:H123) -> 8
...
